Workbook

Sheet ČP2026
I1: PAR | Q1: BLPAR | S1: SBX | AE1: BLSBX | AG1: FS | AQ1: BLFS | AR1: ODM KOMBI SCORE | AS1: body POCHÁZEJÍ | AT1: ÚČAST NA KOLIKA
A2: fisCode | B2: raceCode | D2: YoB | E2: Nat. | F2: Klub | G2: Kraj Bydliště dle dat. SLČR | H2: L/M | I2: KL1 | J2: KL2 | K2: DM1 | L2: DM2 | M2: SP1 | N2: SP2 | O2: Prubezne | P2: vítěz | S2: DM1 | T2: DM2 | U2: ŠP1 | V2: ŠP2 | W2: KL1 | X2: KL2 | Y2: DM3 | Z2: DM4 | AA2: KL3 | AB2: KL4 | AC2: SBX | AD2: 8/10 | AG2: Monínec BYP | AH2: Buková Hora | AI2: Ceske Budejovice | AJ2: Vitkovice BYP | AK2: Deštné MČR Slopestyle | AL2: Deštné MČR Big Air | AM2: Mísečky BYP | AN2: Klinovec Rail Event | AO2: FS | AP2: 5/8 | AS2: Z KOLIKA DISCIPLIN | AT2: ZÁVODECH
B3: 717374 | C3: Pažout Patrik | D3: 2020 | E3: CZE | F3: =IFERROR(VLOOKUP(B3,SVEXP!$A$2:$F$6577,6,FALSE),"") -> Neregistrovaní | G3: =IFERROR(VLOOKUP(B3,SVEXP!$A$2:$E$6577,5,FALSE),"") -> Hlavní město Praha | H3: M | M3: =IFERROR(VLOOKUP(A3,'SPF1'!$C$1:$I$108,7,0),IFERROR(VLOOKUP(B3,'SPF1'!$D$1:$I$108,6,0),"")) -> 32 | N3: =IFERROR(VLOOKUP(A3,'SPF2'!$C$1:$I$108,7,0),IFERROR(VLOOKUP(B3,'SPF2'!$D$1:$I$108,6,0),"")) | O3: =SUM(I3:N3) -> 32 | P3: =IFERROR(LARGE(I3:N3,1),"0")+IFERROR(LARGE(I3:N3,2),"0")+IFERROR(LARGE(I3:N3,3),"0")+IFERROR(LARGE(I3:N3,4),"0") -> 32 | Q3: =(IFERROR(LARGE(I3:N3,1),"0")+IFERROR(LARGE(I3:N3,2),"0")+IFERROR(LARGE(I3:N3,3),"0"))/3 -> 10.666667 | S3: =IFERROR(VLOOKUP(A3,DMSBX1!$C$1:$I$108,7,0),IFERROR(VLOOKUP(B3,DMSBX1!$D$1:$I$108,6,0),"")) | U3: =IFERROR(VLOOKUP(B3,'SP1'!$D$1:$I$107,6,0),"") | V3: =IFERROR(VLOOKUP(B3,'SP2'!$D$1:$I$107,6,0),"") | W3: =IFERROR(IF(B3<>0,VLOOKUP(B3,KLSBX1!$D$2:$I$120,6,FALSE()),NA()),IFERROR(IF(A3<>0,VLOOKUP(A3,KLSBX1!$C$2:$I$120,7,FALSE()),NA()),"")) | X3: =IFERROR(IF(B3<>0,VLOOKUP(B3,KLSBX2!$D$2:$I$120,6,FALSE()),NA()),IFERROR(IF(A3<>0,VLOOKUP(A3,KLSBX2!$C$2:$I$120,7,FALSE()),NA()),"")) | Y3: =IFERROR(IF(B3<>0,VLOOKUP(B3,DMSBXNC!$D$2:$I$420,6,FALSE()),NA()),IFERROR(IF(A3<>0,VLOOKUP(A3,DMSBXNC!$C$2:$I$420,7,FALSE()),NA()),"")) -> 36 | Z3: =IFERROR(IF(B3<>0,VLOOKUP(B3,DMSBX1_3!$D$2:$I$420,6,FALSE()),NA()),IFERROR(IF(A3<>0,VLOOKUP(A3,DMSBX1_3!$C$2:$I$420,7,FALSE()),NA()),"")) -> 32 | AA3: =IFERROR(IF(B3<>0,VLOOKUP(B3,'KLS1'!$D$2:$I$420,6,FALSE()),NA()),IFERROR(IF(A3<>0,VLOOKUP(A3,'KLS1'!$C$2:$I$420,7,FALSE()),NA()),"")) | AB3: =IFERROR(IF(B3<>0,VLOOKUP(B3,'KLS2'!$D$2:$I$426,6,FALSE()),NA()),IFERROR(IF(A3<>0,VLOOKUP(A3,'KLS2'!$C$2:$I$426,7,FALSE()),NA()),"")) | AC3: =SUM(S3:AB3) -> 68 | AD3: =(IFERROR(LARGE(S3:AB3,1),"0")+IFERROR(LARGE(S3:AB3,2),"0")+IFERROR(LARGE(S3:AB3,3),"0")+IFERROR(LARGE(S3:AB3,4),"0")+IFERROR(LARGE(S3:AB3,5),"0")+IFERROR(LARGE(S3:AB3,6),"0")+IFERROR(LARGE(S3:AB3,7),"0")+IFERROR(LARGE(S3:AB3,8),"0")) -> 68 | AE3: =(IFERROR(LARGE(S3:AB3,1),"0")+IFERROR(LARGE(S3:AB3,2),"0")+IFERROR(LARGE(S3:AB3,3),"0"))/3 -> 22.666667 | AG3: =IFERROR(VLOOKUP(B3,FS!$A$2:$N$78,6,FALSE),"") -> 40 | AH3: =IFERROR(VLOOKUP(B3,FS!$A$2:$N$78,7,FALSE),"") -> 20 | AJ3: =IFERROR(VLOOKUP(B3,FS!$A$2:$N$78,9,FALSE),"") -> 56 | AK3: =IFERROR(VLOOKUP(B3,FS!$A$2:$N$78,10,FALSE),"") -> 16 | AL3: =IFERROR(VLOOKUP(B3,FS!$A$2:$N$78,11,FALSE),"") -> 16 | AM3: =IFERROR(VLOOKUP(B3,FS!$A$2:$N$78,12,FALSE),"") -> 80 | AN3: =IFERROR(VLOOKUP(B3,FS!$A$2:$N$78,13,FALSE),"") -> 30 | AO3: =SUM(AG3:AN3) -> 258 | AP3: =(IFERROR(LARGE(AG3:AN3,1),"0")+IFERROR(LARGE(AG3:AN3,2),"0")+IFERROR(LARGE(AG3:AN3,3),"0")+IFERROR(LARGE(AG3:AN3,4),"0")+IFERROR(LARGE(AG3:AN3,5),"0")) -> 226 | AQ3: =(IFERROR(LARGE(AG3:AN3,1),"0")+IFERROR(LARGE(AG3:AN3,2),"0")+IFERROR(LARGE(AG3:AN3,3),"0"))/3 -> 58.666667 | AR3: =Q3+AE3+AQ3 -> 92 | AS3: =(IF(Q3>0,1,0))+(IF(AE3>0,1,0))+(IF(AQ3>0,1,0)) -> 3 | AT3: =COUNTIF(I3:N3,">"&0)+COUNTIF(S3:AB3,">"&0)+COUNTIF(AG3:AN3,">"&0) -> 10
B4: 778237 | C4: Holub Čeněk | D4: 2020 | E4: CZE | F4: =IFERROR(VLOOKUP(B4,SVEXP!$A$2:$F$6577,6,FALSE),"") -> SA Špindlerův Mlýn | G4: =IFERROR(VLOOKUP(B4,SVEXP!$A$2:$E$6577,5,FALSE),"") -> Středočeský kraj | H4: M | M4: =IFERROR(VLOOKUP(A4,'SPF1'!$C$1:$I$108,7,0),IFERROR(VLOOKUP(B4,'SPF1'!$D$1:$I$108,6,0),"")) -> 24 | N4: =IFERROR(VLOOKUP(A4,'SPF2'!$C$1:$I$108,7,0),IFERROR(VLOOKUP(B4,'SPF2'!$D$1:$I$108,6,0),"")) | O4: =SUM(I4:N4) -> 24 | P4: =IFERROR(LARGE(I4:N4,1),"0")+IFERROR(LARGE(I4:N4,2),"0")+IFERROR(LARGE(I4:N4,3),"0")+IFERROR(LARGE(I4:N4,4),"0") -> 24 | Q4: =(IFERROR(LARGE(I4:N4,1),"0")+IFERROR(LARGE(I4:N4,2),"0")+IFERROR(LARGE(I4:N4,3),"0"))/3 -> 8 | U4: =IFERROR(VLOOKUP(B4,'SP1'!$D$1:$I$107,6,0),"") | V4: =IFERROR(VLOOKUP(B4,'SP2'!$D$1:$I$107,6,0),"") | W4: =IFERROR(IF(B4<>0,VLOOKUP(B4,KLSBX1!$D$2:$I$120,6,FALSE()),NA()),IFERROR(IF(A4<>0,VLOOKUP(A4,KLSBX1!$C$2:$I$120,7,FALSE()),NA()),"")) | X4: =IFERROR(IF(B4<>0,VLOOKUP(B4,KLSBX2!$D$2:$I$120,6,FALSE()),NA()),IFERROR(IF(A4<>0,VLOOKUP(A4,KLSBX2!$C$2:$I$120,7,FALSE()),NA()),"")) | Y4: =IFERROR(IF(B4<>0,VLOOKUP(B4,DMSBXNC!$D$2:$I$420,6,FALSE()),NA()),IFERROR(IF(A4<>0,VLOOKUP(A4,DMSBXNC!$C$2:$I$420,7,FALSE()),NA()),"")) -> 15 | Z4: =IFERROR(IF(B4<>0,VLOOKUP(B4,DMSBX1_3!$D$2:$I$420,6,FALSE()),NA()),IFERROR(IF(A4<>0,VLOOKUP(A4,DMSBX1_3!$C$2:$I$420,7,FALSE()),NA()),"")) -> 15 | AA4: =IFERROR(IF(B4<>0,VLOOKUP(B4,'KLS1'!$D$2:$I$420,6,FALSE()),NA()),IFERROR(IF(A4<>0,VLOOKUP(A4,'KLS1'!$C$2:$I$420,7,FALSE()),NA()),"")) | AB4: =IFERROR(IF(B4<>0,VLOOKUP(B4,'KLS2'!$D$2:$I$426,6,FALSE()),NA()),IFERROR(IF(A4<>0,VLOOKUP(A4,'KLS2'!$C$2:$I$426,7,FALSE()),NA()),"")) | AC4: =SUM(S4:AB4) -> 30 | AD4: =(IFERROR(LARGE(S4:AB4,1),"0")+IFERROR(LARGE(S4:AB4,2),"0")+IFERROR(LARGE(S4:AB4,3),"0")+IFERROR(LARGE(S4:AB4,4),"0")+IFERROR(LARGE(S4:AB4,5),"0")+IFERROR(LARGE(S4:AB4,6),"0")+IFERROR(LARGE(S4:AB4,7),"0")+IFERROR(LARGE(S4:AB4,8),"0")) -> 30 | AE4: =(IFERROR(LARGE(S4:AB4,1),"0")+IFERROR(LARGE(S4:AB4,2),"0")+IFERROR(LARGE(S4:AB4,3),"0"))/3 -> 10 | AG4: =IFERROR(VLOOKUP(B4,FS!$A$2:$N$78,6,FALSE),"") -> 24 | AJ4: =IFERROR(VLOOKUP(B4,FS!$A$2:$N$78,9,FALSE),"") -> 35 | AM4: =IFERROR(VLOOKUP(B4,FS!$A$2:$N$78,12,FALSE),"") -> 40 | AO4: =SUM(AG4:AN4) -> 99 | AP4: =(IFERROR(LARGE(AG4:AN4,1),"0")+IFERROR(LARGE(AG4:AN4,2),"0")+IFERROR(LARGE(AG4:AN4,3),"0")+IFERROR(LARGE(AG4:AN4,4),"0")+IFERROR(LARGE(AG4:AN4,5),"0")) -> 99 | AQ4: =(IFERROR(LARGE(AG4:AN4,1),"0")+IFERROR(LARGE(AG4:AN4,2),"0")+IFERROR(LARGE(AG4:AN4,3),"0"))/3 -> 33 | AR4: =Q4+AE4+AQ4 -> 51 | AS4: =(IF(Q4>0,1,0))+(IF(AE4>0,1,0))+(IF(AQ4>0,1,0)) -> 3 | AT4: =COUNTIF(I4:N4,">"&0)+COUNTIF(S4:AB4,">"&0)+COUNTIF(AG4:AN4,">"&0) -> 6
A5: 1377206 | B5: 773706 | C5: MAHOVSKY Kamil | D5: 1968 | E5: CZE | F5: =IFERROR(VLOOKUP(B5,SVEXP!$A$2:$F$6577,6,FALSE),"") -> Neregistrovaní | G5: =IFERROR(VLOOKUP(B5,SVEXP!$A$2:$E$6577,5,FALSE),"") -> Středočeský kraj | H5: M | I5: =IFERROR(VLOOKUP(A5,'KLP1'!$C$1:$I$108,7,0),IFERROR(VLOOKUP(B5,'KLP1'!$D$1:$I$108,6,0),"")) | J5: =IFERROR(VLOOKUP(A5,'KLP2'!$C$1:$I$108,7,0),IFERROR(VLOOKUP(B5,'KLP2'!$D$1:$I$108,6,0),"")) | K5: =IFERROR(VLOOKUP(A5,'DM1'!$C$1:$I$108,7,0),IFERROR(VLOOKUP(B5,'DM1'!$D$1:$I$108,6,0),"")) | L5: =IFERROR(VLOOKUP(A5,'DM2'!$C$1:$I$108,7,0),IFERROR(VLOOKUP(B5,'DM2'!$D$1:$I$108,6,0),"")) | M5: =IFERROR(VLOOKUP(A5,'SPF1'!$C$1:$I$108,7,0),IFERROR(VLOOKUP(B5,'SPF1'!$D$1:$I$108,6,0),"")) | N5: =IFERROR(VLOOKUP(A5,'SPF2'!$C$1:$I$108,7,0),IFERROR(VLOOKUP(B5,'SPF2'!$D$1:$I$108,6,0),"")) | O5: =SUM(I5:N5) -> 0 | P5: =IFERROR(LARGE(I5:N5,1),"0")+IFERROR(LARGE(I5:N5,2),"0")+IFERROR(LARGE(I5:N5,3),"0")+IFERROR(LARGE(I5:N5,4),"0") -> 0 | Q5: =(IFERROR(LARGE(I5:N5,1),"0")+IFERROR(LARGE(I5:N5,2),"0")+IFERROR(LARGE(I5:N5,3),"0"))/3 -> 0 | S5: =IFERROR(VLOOKUP(A5,DMSBX1!$C$1:$I$108,7,0),IFERROR(VLOOKUP(B5,DMSBX1!$D$1:$I$108,6,0),"")) | T5: =IFERROR(VLOOKUP(A5,DMSBX2!$C$1:$I$101,7,0),IFERROR(VLOOKUP(B5,DMSBX2!$D$1:$I$101,6,0),"")) | U5: =IFERROR(VLOOKUP(B5,'SP1'!$D$1:$I$107,6,0),"") | V5: =IFERROR(VLOOKUP(B5,'SP2'!$D$1:$I$107,6,0),"") | W5: =IFERROR(IF(B5<>0,VLOOKUP(B5,KLSBX1!$D$2:$I$120,6,FALSE()),NA()),IFERROR(IF(A5<>0,VLOOKUP(A5,KLSBX1!$C$2:$I$120,7,FALSE()),NA()),"")) | X5: =IFERROR(IF(B5<>0,VLOOKUP(B5,KLSBX2!$D$2:$I$120,6,FALSE()),NA()),IFERROR(IF(A5<>0,VLOOKUP(A5,KLSBX2!$C$2:$I$120,7,FALSE()),NA()),"")) | Y5: =IFERROR(IF(B5<>0,VLOOKUP(B5,DMSBXNC!$D$2:$I$420,6,FALSE()),NA()),IFERROR(IF(A5<>0,VLOOKUP(A5,DMSBXNC!$C$2:$I$420,7,FALSE()),NA()),"")) | Z5: =IFERROR(IF(B5<>0,VLOOKUP(B5,DMSBX1_3!$D$2:$I$420,6,FALSE()),NA()),IFERROR(IF(A5<>0,VLOOKUP(A5,DMSBX1_3!$C$2:$I$420,7,FALSE()),NA()),"")) | AA5: =IFERROR(IF(B5<>0,VLOOKUP(B5,'KLS1'!$D$2:$I$420,6,FALSE()),NA()),IFERROR(IF(A5<>0,VLOOKUP(A5,'KLS1'!$C$2:$I$420,7,FALSE()),NA()),"")) | AB5: =IFERROR(IF(B5<>0,VLOOKUP(B5,'KLS2'!$D$2:$I$426,6,FALSE()),NA()),IFERROR(IF(A5<>0,VLOOKUP(A5,'KLS2'!$C$2:$I$426,7,FALSE()),NA()),"")) | AC5: =SUM(S5:AB5) -> 0 | AD5: =(IFERROR(LARGE(S5:AB5,1),"0")+IFERROR(LARGE(S5:AB5,2),"0")+IFERROR(LARGE(S5:AB5,3),"0")+IFERROR(LARGE(S5:AB5,4),"0")+IFERROR(LARGE(S5:AB5,5),"0")+IFERROR(LARGE(S5:AB5,6),"0")+IFERROR(LARGE(S5:AB5,7),"0")+IFERROR(LARGE(S5:AB5,8),"0")) -> 0 | AE5: =(IFERROR(LARGE(S5:AB5,1),"0")+IFERROR(LARGE(S5:AB5,2),"0")+IFERROR(LARGE(S5:AB5,3),"0"))/3 -> 0 | AG5: =IFERROR(VLOOKUP(B5,FS!$A$2:$N$78,6,FALSE),"") | AH5: =IFERROR(VLOOKUP(B5,FS!$A$2:$N$78,7,FALSE),"") | AI5: =IFERROR(VLOOKUP(B5,FS!$A$2:$N$78,8,FALSE),"") | AJ5: =IFERROR(VLOOKUP(B5,FS!$A$2:$N$78,9,FALSE),"") | AK5: =IFERROR(VLOOKUP(B5,FS!$A$2:$N$78,10,FALSE),"") | AL5: =IFERROR(VLOOKUP(B5,FS!$A$2:$N$78,11,FALSE),"") | AM5: =IFERROR(VLOOKUP(B5,FS!$A$2:$N$78,12,FALSE),"") | AN5: =IFERROR(VLOOKUP(B5,FS!$A$2:$N$78,13,FALSE),"") | AO5: =SUM(AG5:AN5) -> 0 | AP5: =(IFERROR(LARGE(AG5:AN5,1),"0")+IFERROR(LARGE(AG5:AN5,2),"0")+IFERROR(LARGE(AG5:AN5,3),"0")+IFERROR(LARGE(AG5:AN5,4),"0")+IFERROR(LARGE(AG5:AN5,5),"0")) -> 0 | AQ5: =(IFERROR(LARGE(AG5:AN5,1),"0")+IFERROR(LARGE(AG5:AN5,2),"0")+IFERROR(LARGE(AG5:AN5,3),"0"))/3 -> 0 | AR5: =Q5+AE5+AQ5 -> 0 | AS5: =(IF(Q5>0,1,0))+(IF(AE5>0,1,0))+(IF(AQ5>0,1,0)) -> 0
B6: 773631 | C6: Běhal Erik | D6: 2019 | E6: CZE | F6: =IFERROR(VLOOKUP(B6,SVEXP!$A$2:$F$6577,6,FALSE),"") -> Tělovýchovná jednota Spartak Vrchlabí, z. s. AD | G6: =IFERROR(VLOOKUP(B6,SVEXP!$A$2:$E$6577,5,FALSE),"") -> Hlavní město Praha | H6: M | I6: =IFERROR(VLOOKUP(A6,'KLP1'!$C$1:$I$108,7,0),IFERROR(VLOOKUP(B6,'KLP1'!$D$1:$I$108,6,0),"")) | J6: =IFERROR(VLOOKUP(A6,'KLP2'!$C$1:$I$108,7,0),IFERROR(VLOOKUP(B6,'KLP2'!$D$1:$I$108,6,0),"")) | K6: =IFERROR(VLOOKUP(A6,'DM1'!$C$1:$I$108,7,0),IFERROR(VLOOKUP(B6,'DM1'!$D$1:$I$108,6,0),"")) | L6: =IFERROR(VLOOKUP(A6,'DM2'!$C$1:$I$108,7,0),IFERROR(VLOOKUP(B6,'DM2'!$D$1:$I$108,6,0),"")) | M6: =IFERROR(VLOOKUP(A6,'SPF1'!$C$1:$I$108,7,0),IFERROR(VLOOKUP(B6,'SPF1'!$D$1:$I$108,6,0),"")) -> 36 | N6: =IFERROR(VLOOKUP(A6,'SPF2'!$C$1:$I$108,7,0),IFERROR(VLOOKUP(B6,'SPF2'!$D$1:$I$108,6,0),"")) | O6: =SUM(I6:N6) -> 36 | P6: =IFERROR(LARGE(I6:N6,1),"0")+IFERROR(LARGE(I6:N6,2),"0")+IFERROR(LARGE(I6:N6,3),"0")+IFERROR(LARGE(I6:N6,4),"0") -> 36 | Q6: =(IFERROR(LARGE(I6:N6,1),"0")+IFERROR(LARGE(I6:N6,2),"0")+IFERROR(LARGE(I6:N6,3),"0"))/3 -> 12 | S6: =IFERROR(VLOOKUP(A6,DMSBX1!$C$1:$I$108,7,0),IFERROR(VLOOKUP(B6,DMSBX1!$D$1:$I$108,6,0),"")) | T6: =IFERROR(VLOOKUP(A6,DMSBX2!$C$1:$I$101,7,0),IFERROR(VLOOKUP(B6,DMSBX2!$D$1:$I$101,6,0),"")) | U6: =IFERROR(VLOOKUP(B6,'SP1'!$D$1:$I$107,6,0),"") -> 36 | V6: =IFERROR(VLOOKUP(B6,'SP2'!$D$1:$I$107,6,0),"") | W6: =IFERROR(IF(B6<>0,VLOOKUP(B6,KLSBX1!$D$2:$I$120,6,FALSE()),NA()),IFERROR(IF(A6<>0,VLOOKUP(A6,KLSBX1!$C$2:$I$120,7,FALSE()),NA()),"")) -> 32.4 | X6: =IFERROR(IF(B6<>0,VLOOKUP(B6,KLSBX2!$D$2:$I$120,6,FALSE()),NA()),IFERROR(IF(A6<>0,VLOOKUP(A6,KLSBX2!$C$2:$I$120,7,FALSE()),NA()),"")) -> 36 | Y6: =IFERROR(IF(B6<>0,VLOOKUP(B6,DMSBXNC!$D$2:$I$420,6,FALSE()),NA()),IFERROR(IF(A6<>0,VLOOKUP(A6,DMSBXNC!$C$2:$I$420,7,FALSE()),NA()),"")) -> 24 | Z6: =IFERROR(IF(B6<>0,VLOOKUP(B6,DMSBX1_3!$D$2:$I$420,6,FALSE()),NA()),IFERROR(IF(A6<>0,VLOOKUP(A6,DMSBX1_3!$C$2:$I$420,7,FALSE()),NA()),"")) -> 24 | AA6: =IFERROR(IF(B6<>0,VLOOKUP(B6,'KLS1'!$D$2:$I$420,6,FALSE()),NA()),IFERROR(IF(A6<>0,VLOOKUP(A6,'KLS1'!$C$2:$I$420,7,FALSE()),NA()),"")) | AB6: =IFERROR(IF(B6<>0,VLOOKUP(B6,'KLS2'!$D$2:$I$426,6,FALSE()),NA()),IFERROR(IF(A6<>0,VLOOKUP(A6,'KLS2'!$C$2:$I$426,7,FALSE()),NA()),"")) | AC6: =SUM(S6:AB6) -> 152.4 | AD6: =(IFERROR(LARGE(S6:AB6,1),"0")+IFERROR(LARGE(S6:AB6,2),"0")+IFERROR(LARGE(S6:AB6,3),"0")+IFERROR(LARGE(S6:AB6,4),"0")+IFERROR(LARGE(S6:AB6,5),"0")+IFERROR(LARGE(S6:AB6,6),"0")+IFERROR(LARGE(S6:AB6,7),"0")+IFERROR(LARGE(S6:AB6,8),"0")) -> 152.4 | AE6: =(IFERROR(LARGE(S6:AB6,1),"0")+IFERROR(LARGE(S6:AB6,2),"0")+IFERROR(LARGE(S6:AB6,3),"0"))/3 -> 34.8 | AG6: =IFERROR(VLOOKUP(B6,FS!$A$2:$N$78,6,FALSE),"") -> 32 | AH6: =IFERROR(VLOOKUP(B6,FS!$A$2:$N$78,7,FALSE),"") -> 16 | AI6: =IFERROR(VLOOKUP(B6,FS!$A$2:$N$78,8,FALSE),"") -> 10 | AJ6: =IFERROR(VLOOKUP(B6,FS!$A$2:$N$78,9,FALSE),"") -> 70 | AK6: =IFERROR(VLOOKUP(B6,FS!$A$2:$N$78,10,FALSE),"") -> 20 | AL6: =IFERROR(VLOOKUP(B6,FS!$A$2:$N$78,11,FALSE),"") -> 20 | AM6: =IFERROR(VLOOKUP(B6,FS!$A$2:$N$78,12,FALSE),"") -> 64 | AN6: =IFERROR(VLOOKUP(B6,FS!$A$2:$N$78,13,FALSE),"") -> 24 | AO6: =SUM(AG6:AN6) -> 256 | AP6: =(IFERROR(LARGE(AG6:AN6,1),"0")+IFERROR(LARGE(AG6:AN6,2),"0")+IFERROR(LARGE(AG6:AN6,3),"0")+IFERROR(LARGE(AG6:AN6,4),"0")+IFERROR(LARGE(AG6:AN6,5),"0")) -> 210 | AQ6: =(IFERROR(LARGE(AG6:AN6,1),"0")+IFERROR(LARGE(AG6:AN6,2),"0")+IFERROR(LARGE(AG6:AN6,3),"0"))/3 -> 55.333333 | AR6: =Q6+AE6+AQ6 -> 102.13333 | AS6: =(IF(Q6>0,1,0))+(IF(AE6>0,1,0))+(IF(AQ6>0,1,0)) -> 3 | AT6: =COUNTIF(I6:N6,">"&0)+COUNTIF(S6:AB6,">"&0)+COUNTIF(AG6:AN6,">"&0) -> 14
B7: 777654 | C7: Kolman Darek | D7: 2019 | E7: CZE | F7: =IFERROR(VLOOKUP(B7,SVEXP!$A$2:$F$6577,6,FALSE),"") -> SK SNOWRIDERS VIMPERK | G7: =IFERROR(VLOOKUP(B7,SVEXP!$A$2:$E$6577,5,FALSE),"") -> Jihočeský kraj | H7: M | I7: =IFERROR(VLOOKUP(A7,'KLP1'!$C$1:$I$108,7,0),IFERROR(VLOOKUP(B7,'KLP1'!$D$1:$I$108,6,0),"")) -> 20 | J7: =IFERROR(VLOOKUP(A7,'KLP2'!$C$1:$I$108,7,0),IFERROR(VLOOKUP(B7,'KLP2'!$D$1:$I$108,6,0),"")) -> 18 | K7: =IFERROR(VLOOKUP(A7,'DM1'!$C$1:$I$108,7,0),IFERROR(VLOOKUP(B7,'DM1'!$D$1:$I$108,6,0),"")) -> 24 | L7: =IFERROR(VLOOKUP(A7,'DM2'!$C$1:$I$108,7,0),IFERROR(VLOOKUP(B7,'DM2'!$D$1:$I$108,6,0),"")) -> 22.5 | M7: =IFERROR(VLOOKUP(A7,'SPF1'!$C$1:$I$108,7,0),IFERROR(VLOOKUP(B7,'SPF1'!$D$1:$I$108,6,0),"")) -> 29 | N7: =IFERROR(VLOOKUP(A7,'SPF2'!$C$1:$I$108,7,0),IFERROR(VLOOKUP(B7,'SPF2'!$D$1:$I$108,6,0),"")) -> 30 | O7: =SUM(I7:N7) -> 143.5 | P7: =IFERROR(LARGE(I7:N7,1),"0")+IFERROR(LARGE(I7:N7,2),"0")+IFERROR(LARGE(I7:N7,3),"0")+IFERROR(LARGE(I7:N7,4),"0") -> 105.5 | Q7: =(IFERROR(LARGE(I7:N7,1),"0")+IFERROR(LARGE(I7:N7,2),"0")+IFERROR(LARGE(I7:N7,3),"0"))/3 -> 27.666667 | S7: =IFERROR(VLOOKUP(A7,DMSBX1!$C$1:$I$108,7,0),IFERROR(VLOOKUP(B7,DMSBX1!$D$1:$I$108,6,0),"")) -> 28 | T7: =IFERROR(VLOOKUP(A7,DMSBX2!$C$1:$I$101,7,0),IFERROR(VLOOKUP(B7,DMSBX2!$D$1:$I$101,6,0),"")) -> 25.2 | U7: =IFERROR(VLOOKUP(B7,'SP1'!$D$1:$I$107,6,0),"") -> 32 | V7: =IFERROR(VLOOKUP(B7,'SP2'!$D$1:$I$107,6,0),"") -> 25.6 | W7: =IFERROR(IF(B7<>0,VLOOKUP(B7,KLSBX1!$D$2:$I$120,6,FALSE()),NA()),IFERROR(IF(A7<>0,VLOOKUP(A7,KLSBX1!$C$2:$I$120,7,FALSE()),NA()),"")) -> 28.8 | X7: =IFERROR(IF(B7<>0,VLOOKUP(B7,KLSBX2!$D$2:$I$120,6,FALSE()),NA()),IFERROR(IF(A7<>0,VLOOKUP(A7,KLSBX2!$C$2:$I$120,7,FALSE()),NA()),"")) -> 29 | Y7: =IFERROR(IF(B7<>0,VLOOKUP(B7,DMSBXNC!$D$2:$I$420,6,FALSE()),NA()),IFERROR(IF(A7<>0,VLOOKUP(A7,DMSBXNC!$C$2:$I$420,7,FALSE()),NA()),"")) -> 16 | Z7: =IFERROR(IF(B7<>0,VLOOKUP(B7,DMSBX1_3!$D$2:$I$420,6,FALSE()),NA()),IFERROR(IF(A7<>0,VLOOKUP(A7,DMSBX1_3!$C$2:$I$420,7,FALSE()),NA()),"")) -> 20 | AA7: =IFERROR(IF(B7<>0,VLOOKUP(B7,'KLS1'!$D$2:$I$420,6,FALSE()),NA()),IFERROR(IF(A7<>0,VLOOKUP(A7,'KLS1'!$C$2:$I$420,7,FALSE()),NA()),"")) -> 40 | AB7: =IFERROR(IF(B7<>0,VLOOKUP(B7,'KLS2'!$D$2:$I$426,6,FALSE()),NA()),IFERROR(IF(A7<>0,VLOOKUP(A7,'KLS2'!$C$2:$I$426,7,FALSE()),NA()),"")) -> 32 | AC7: =SUM(S7:AB7) -> 276.6 | AD7: =(IFERROR(LARGE(S7:AB7,1),"0")+IFERROR(LARGE(S7:AB7,2),"0")+IFERROR(LARGE(S7:AB7,3),"0")+IFERROR(LARGE(S7:AB7,4),"0")+IFERROR(LARGE(S7:AB7,5),"0")+IFERROR(LARGE(S7:AB7,6),"0")+IFERROR(LARGE(S7:AB7,7),"0")+IFERROR(LARGE(S7:AB7,8),"0")) -> 240.6 | AE7: =(IFERROR(LARGE(S7:AB7,1),"0")+IFERROR(LARGE(S7:AB7,2),"0")+IFERROR(LARGE(S7:AB7,3),"0"))/3 -> 34.666667 | AG7: =IFERROR(VLOOKUP(B7,FS!$A$2:$N$78,6,FALSE),"") | AH7: =IFERROR(VLOOKUP(B7,FS!$A$2:$N$78,7,FALSE),"") | AI7: =IFERROR(VLOOKUP(B7,FS!$A$2:$N$78,8,FALSE),"") | AJ7: =IFERROR(VLOOKUP(B7,FS!$A$2:$N$78,9,FALSE),"") | AK7: =IFERROR(VLOOKUP(B7,FS!$A$2:$N$78,10,FALSE),"") | AL7: =IFERROR(VLOOKUP(B7,FS!$A$2:$N$78,11,FALSE),"") | AM7: =IFERROR(VLOOKUP(B7,FS!$A$2:$N$78,12,FALSE),"") | AN7: =IFERROR(VLOOKUP(B7,FS!$A$2:$N$78,13,FALSE),"") | AO7: =SUM(AG7:AN7) -> 0 | AP7: =(IFERROR(LARGE(AG7:AN7,1),"0")+IFERROR(LARGE(AG7:AN7,2),"0")+IFERROR(LARGE(AG7:AN7,3),"0")+IFERROR(LARGE(AG7:AN7,4),"0")+IFERROR(LARGE(AG7:AN7,5),"0")) -> 0 | AQ7: =(IFERROR(LARGE(AG7:AN7,1),"0")+IFERROR(LARGE(AG7:AN7,2),"0")+IFERROR(LARGE(AG7:AN7,3),"0"))/3 -> 0 | AR7: =Q7+AE7+AQ7 -> 62.333333 | AS7: =(IF(Q7>0,1,0))+(IF(AE7>0,1,0))+(IF(AQ7>0,1,0)) -> 2 | AT7: =COUNTIF(I7:N7,">"&0)+COUNTIF(S7:AB7,">"&0)+COUNTIF(AG7:AN7,">"&0) -> 16
B8: 778959 | C8: PAULÍČEK Vít | D8: 2019 | E8: CZE | F8: =IFERROR(VLOOKUP(B8,SVEXP!$A$2:$F$6577,6,FALSE),"") -> SA Špindlerův Mlýn | G8: =IFERROR(VLOOKUP(B8,SVEXP!$A$2:$E$6577,5,FALSE),"") -> Královéhradecký kraj | H8: M | I8: =IFERROR(VLOOKUP(A8,'KLP1'!$C$1:$I$108,7,0),IFERROR(VLOOKUP(B8,'KLP1'!$D$1:$I$108,6,0),"")) | J8: =IFERROR(VLOOKUP(A8,'KLP2'!$C$1:$I$108,7,0),IFERROR(VLOOKUP(B8,'KLP2'!$D$1:$I$108,6,0),"")) | K8: =IFERROR(VLOOKUP(A8,'DM1'!$C$1:$I$108,7,0),IFERROR(VLOOKUP(B8,'DM1'!$D$1:$I$108,6,0),"")) | L8: =IFERROR(VLOOKUP(A8,'DM2'!$C$1:$I$108,7,0),IFERROR(VLOOKUP(B8,'DM2'!$D$1:$I$108,6,0),"")) | M8: =IFERROR(VLOOKUP(A8,'SPF1'!$C$1:$I$108,7,0),IFERROR(VLOOKUP(B8,'SPF1'!$D$1:$I$108,6,0),"")) -> 26 | N8: =IFERROR(VLOOKUP(A8,'SPF2'!$C$1:$I$108,7,0),IFERROR(VLOOKUP(B8,'SPF2'!$D$1:$I$108,6,0),"")) | O8: =SUM(I8:N8) -> 26 | P8: =IFERROR(LARGE(I8:N8,1),"0")+IFERROR(LARGE(I8:N8,2),"0")+IFERROR(LARGE(I8:N8,3),"0")+IFERROR(LARGE(I8:N8,4),"0") -> 26 | Q8: =(IFERROR(LARGE(I8:N8,1),"0")+IFERROR(LARGE(I8:N8,2),"0")+IFERROR(LARGE(I8:N8,3),"0"))/3 -> 8.6666667 | S8: =IFERROR(VLOOKUP(A8,DMSBX1!$C$1:$I$108,7,0),IFERROR(VLOOKUP(B8,DMSBX1!$D$1:$I$108,6,0),"")) | T8: =IFERROR(VLOOKUP(A8,DMSBX2!$C$1:$I$101,7,0),IFERROR(VLOOKUP(B8,DMSBX2!$D$1:$I$101,6,0),"")) | U8: =IFERROR(VLOOKUP(B8,'SP1'!$D$1:$I$107,6,0),"") | V8: =IFERROR(VLOOKUP(B8,'SP2'!$D$1:$I$107,6,0),"") | W8: =IFERROR(IF(B8<>0,VLOOKUP(B8,KLSBX1!$D$2:$I$120,6,FALSE()),NA()),IFERROR(IF(A8<>0,VLOOKUP(A8,KLSBX1!$C$2:$I$120,7,FALSE()),NA()),"")) | X8: =IFERROR(IF(B8<>0,VLOOKUP(B8,KLSBX2!$D$2:$I$120,6,FALSE()),NA()),IFERROR(IF(A8<>0,VLOOKUP(A8,KLSBX2!$C$2:$I$120,7,FALSE()),NA()),"")) | Y8: =IFERROR(IF(B8<>0,VLOOKUP(B8,DMSBXNC!$D$2:$I$420,6,FALSE()),NA()),IFERROR(IF(A8<>0,VLOOKUP(A8,DMSBXNC!$C$2:$I$420,7,FALSE()),NA()),"")) | Z8: =IFERROR(IF(B8<>0,VLOOKUP(B8,DMSBX1_3!$D$2:$I$420,6,FALSE()),NA()),IFERROR(IF(A8<>0,VLOOKUP(A8,DMSBX1_3!$C$2:$I$420,7,FALSE()),NA()),"")) | AA8: =IFERROR(IF(B8<>0,VLOOKUP(B8,'KLS1'!$D$2:$I$420,6,FALSE()),NA()),IFERROR(IF(A8<>0,VLOOKUP(A8,'KLS1'!$C$2:$I$420,7,FALSE()),NA()),"")) | AB8: =IFERROR(IF(B8<>0,VLOOKUP(B8,'KLS2'!$D$2:$I$426,6,FALSE()),NA()),IFERROR(IF(A8<>0,VLOOKUP(A8,'KLS2'!$C$2:$I$426,7,FALSE()),NA()),"")) | AC8: =SUM(S8:AB8) -> 0 | AD8: =(IFERROR(LARGE(S8:AB8,1),"0")+IFERROR(LARGE(S8:AB8,2),"0")+IFERROR(LARGE(S8:AB8,3),"0")+IFERROR(LARGE(S8:AB8,4),"0")+IFERROR(LARGE(S8:AB8,5),"0")+IFERROR(LARGE(S8:AB8,6),"0")+IFERROR(LARGE(S8:AB8,7),"0")+IFERROR(LARGE(S8:AB8,8),"0")) -> 0 | AE8: =(IFERROR(LARGE(S8:AB8,1),"0")+IFERROR(LARGE(S8:AB8,2),"0")+IFERROR(LARGE(S8:AB8,3),"0"))/3 -> 0 | AJ8: =IFERROR(VLOOKUP(B8,FS!$A$2:$N$78,9,FALSE),"") -> 42 | AM8: =IFERROR(VLOOKUP(B8,FS!$A$2:$N$78,12,FALSE),"") -> 48 | AO8: =SUM(AG8:AN8) -> 90 | AP8: =(IFERROR(LARGE(AG8:AN8,1),"0")+IFERROR(LARGE(AG8:AN8,2),"0")+IFERROR(LARGE(AG8:AN8,3),"0")+IFERROR(LARGE(AG8:AN8,4),"0")+IFERROR(LARGE(AG8:AN8,5),"0")) -> 90 | AQ8: =(IFERROR(LARGE(AG8:AN8,1),"0")+IFERROR(LARGE(AG8:AN8,2),"0")+IFERROR(LARGE(AG8:AN8,3),"0"))/3 -> 30 | AR8: =Q8+AE8+AQ8 -> 38.666667 | AS8: =(IF(Q8>0,1,0))+(IF(AE8>0,1,0))+(IF(AQ8>0,1,0)) -> 2 | AT8: =COUNTIF(I8:N8,">"&0)+COUNTIF(S8:AB8,">"&0)+COUNTIF(AG8:AN8,">"&0) -> 3
B9: 778855 | C9: Vysusil Miroslav | D9: 2019 | E9: CZE | F9: =IFERROR(VLOOKUP(B9,SVEXP!$A$2:$F$6577,6,FALSE),"") -> SK LOQUITA' S | G9: =IFERROR(VLOOKUP(B9,SVEXP!$A$2:$E$6577,5,FALSE),"") -> Středočeský kraj | H9: M | O9: =SUM(I9:N9) -> 0 | P9: =IFERROR(LARGE(I9:N9,1),"0")+IFERROR(LARGE(I9:N9,2),"0")+IFERROR(LARGE(I9:N9,3),"0")+IFERROR(LARGE(I9:N9,4),"0") -> 0 | Q9: =(IFERROR(LARGE(I9:N9,1),"0")+IFERROR(LARGE(I9:N9,2),"0")+IFERROR(LARGE(I9:N9,3),"0"))/3 -> 0 | AC9: =SUM(S9:AB9) -> 0 | AD9: =(IFERROR(LARGE(S9:AB9,1),"0")+IFERROR(LARGE(S9:AB9,2),"0")+IFERROR(LARGE(S9:AB9,3),"0")+IFERROR(LARGE(S9:AB9,4),"0")+IFERROR(LARGE(S9:AB9,5),"0")+IFERROR(LARGE(S9:AB9,6),"0")+IFERROR(LARGE(S9:AB9,7),"0")+IFERROR(LARGE(S9:AB9,8),"0")) -> 0 | AE9: =(IFERROR(LARGE(S9:AB9,1),"0")+IFERROR(LARGE(S9:AB9,2),"0")+IFERROR(LARGE(S9:AB9,3),"0"))/3 -> 0 | AM9: =IFERROR(VLOOKUP(B9,FS!$A$2:$N$78,12,FALSE),"") -> 28.8 | AO9: =SUM(AG9:AN9) -> 28.8 | AP9: =(IFERROR(LARGE(AG9:AN9,1),"0")+IFERROR(LARGE(AG9:AN9,2),"0")+IFERROR(LARGE(AG9:AN9,3),"0")+IFERROR(LARGE(AG9:AN9,4),"0")+IFERROR(LARGE(AG9:AN9,5),"0")) -> 28.8 | AQ9: =(IFERROR(LARGE(AG9:AN9,1),"0")+IFERROR(LARGE(AG9:AN9,2),"0")+IFERROR(LARGE(AG9:AN9,3),"0"))/3 -> 9.6 | AR9: =Q9+AE9+AQ9 -> 9.6 | AS9: =(IF(Q9>0,1,0))+(IF(AE9>0,1,0))+(IF(AQ9>0,1,0)) -> 1 | AT9: =COUNTIF(I9:N9,">"&0)+COUNTIF(S9:AB9,">"&0)+COUNTIF(AG9:AN9,">"&0) -> 1
B10: 709346 | C10: Skrbek Jakub | D10: 2018 | E10: CZE | F10: =IFERROR(VLOOKUP(B10,SVEXP!$A$2:$F$6577,6,FALSE),"") -> SA Špindlerův Mlýn | G10: =IFERROR(VLOOKUP(B10,SVEXP!$A$2:$E$6577,5,FALSE),"") -> Královéhradecký kraj | H10: M | I10: =IFERROR(VLOOKUP(#REF!,'KLP1'!$C$1:$I$108,7,0),IFERROR(VLOOKUP(A10,'KLP1'!$D$1:$I$108,6,0),"")) | J10: =IFERROR(VLOOKUP(#REF!,'KLP2'!$C$1:$I$108,7,0),IFERROR(VLOOKUP(A10,'KLP2'!$D$1:$I$108,6,0),"")) | K10: =IFERROR(VLOOKUP(#REF!,'DM1'!$C$1:$I$108,7,0),IFERROR(VLOOKUP(A10,'DM1'!$D$1:$I$108,6,0),"")) | L10: =IFERROR(VLOOKUP(#REF!,'DM2'!$C$1:$I$108,7,0),IFERROR(VLOOKUP(A10,'DM2'!$D$1:$I$108,6,0),"")) | M10: =IFERROR(VLOOKUP(A10,'SPF1'!$C$1:$I$108,7,0),IFERROR(VLOOKUP(B10,'SPF1'!$D$1:$I$108,6,0),"")) | N10: =IFERROR(VLOOKUP(A10,'SPF2'!$C$1:$I$108,7,0),IFERROR(VLOOKUP(B10,'SPF2'!$D$1:$I$108,6,0),"")) | O10: =SUM(I10:N10) -> 0 | P10: =IFERROR(LARGE(I10:N10,1),"0")+IFERROR(LARGE(I10:N10,2),"0")+IFERROR(LARGE(I10:N10,3),"0")+IFERROR(LARGE(I10:N10,4),"0") -> 0 | Q10: =(IFERROR(LARGE(I10:N10,1),"0")+IFERROR(LARGE(I10:N10,2),"0")+IFERROR(LARGE(I10:N10,3),"0"))/3 -> 0 | S10: =IFERROR(VLOOKUP(A10,DMSBX1!$C$1:$I$108,7,0),IFERROR(VLOOKUP(B10,DMSBX1!$D$1:$I$108,6,0),"")) | T10: =IFERROR(VLOOKUP(A10,DMSBX2!$C$1:$I$101,7,0),IFERROR(VLOOKUP(B10,DMSBX2!$D$1:$I$101,6,0),"")) | U10: =IFERROR(VLOOKUP(B10,'SP1'!$D$1:$I$107,6,0),"") | V10: =IFERROR(VLOOKUP(B10,'SP2'!$D$1:$I$107,6,0),"") | W10: =IFERROR(IF(B10<>0,VLOOKUP(B10,KLSBX1!$D$2:$I$120,6,FALSE()),NA()),IFERROR(IF(A10<>0,VLOOKUP(A10,KLSBX1!$C$2:$I$120,7,FALSE()),NA()),"")) -> 26.1 | X10: =IFERROR(IF(B10<>0,VLOOKUP(B10,KLSBX2!$D$2:$I$120,6,FALSE()),NA()),IFERROR(IF(A10<>0,VLOOKUP(A10,KLSBX2!$C$2:$I$120,7,FALSE()),NA()),"")) -> 26 | Y10: =IFERROR(IF(B10<>0,VLOOKUP(B10,DMSBXNC!$D$2:$I$420,6,FALSE()),NA()),IFERROR(IF(A10<>0,VLOOKUP(A10,DMSBXNC!$C$2:$I$420,7,FALSE()),NA()),"")) -> 40 | Z10: =IFERROR(IF(B10<>0,VLOOKUP(B10,DMSBX1_3!$D$2:$I$420,6,FALSE()),NA()),IFERROR(IF(A10<>0,VLOOKUP(A10,DMSBX1_3!$C$2:$I$420,7,FALSE()),NA()),"")) -> 40 | AA10: =IFERROR(IF(B10<>0,VLOOKUP(B10,'KLS1'!$D$2:$I$420,6,FALSE()),NA()),IFERROR(IF(A10<>0,VLOOKUP(A10,'KLS1'!$C$2:$I$420,7,FALSE()),NA()),"")) | AB10: =IFERROR(IF(B10<>0,VLOOKUP(B10,'KLS2'!$D$2:$I$426,6,FALSE()),NA()),IFERROR(IF(A10<>0,VLOOKUP(A10,'KLS2'!$C$2:$I$426,7,FALSE()),NA()),"")) | AC10: =SUM(S10:AB10) -> 132.1 | AD10: =(IFERROR(LARGE(S10:AB10,1),"0")+IFERROR(LARGE(S10:AB10,2),"0")+IFERROR(LARGE(S10:AB10,3),"0")+IFERROR(LARGE(S10:AB10,4),"0")+IFERROR(LARGE(S10:AB10,5),"0")+IFERROR(LARGE(S10:AB10,6),"0")+IFERROR(LARGE(S10:AB10,7),"0")+IFERROR(LARGE(S10:AB10,8),"0")) -> 132.1 | AE10: =(IFERROR(LARGE(S10:AB10,1),"0")+IFERROR(LARGE(S10:AB10,2),"0")+IFERROR(LARGE(S10:AB10,3),"0"))/3 -> 35.366667 | AG10: =IFERROR(VLOOKUP(B10,FS!$A$2:$N$78,6,FALSE),"") -> 30 | AH10: =IFERROR(VLOOKUP(B10,FS!$A$2:$N$78,7,FALSE),"") -> 18 | AI10: =IFERROR(VLOOKUP(B10,FS!$A$2:$N$78,8,FALSE),"") -> 30 | AJ10: =IFERROR(VLOOKUP(B10,FS!$A$2:$N$78,9,FALSE),"") -> 36 | AK10: =IFERROR(VLOOKUP(B10,FS!$A$2:$N$78,10,FALSE),"") -> 27 | AL10: =IFERROR(VLOOKUP(B10,FS!$A$2:$N$78,11,FALSE),"") -> 27 | AM10: =IFERROR(VLOOKUP(B10,FS!$A$2:$N$78,12,FALSE),"") -> 28.8 | AN10: =IFERROR(VLOOKUP(B10,FS!$A$2:$N$78,13,FALSE),"") -> 22.5 | AO10: =SUM(AG10:AN10) -> 219.3 | AP10: =(IFERROR(LARGE(AG10:AN10,1),"0")+IFERROR(LARGE(AG10:AN10,2),"0")+IFERROR(LARGE(AG10:AN10,3),"0")+IFERROR(LARGE(AG10:AN10,4),"0")+IFERROR(LARGE(AG10:AN10,5),"0")) -> 151.8 | AQ10: =(IFERROR(LARGE(AG10:AN10,1),"0")+IFERROR(LARGE(AG10:AN10,2),"0")+IFERROR(LARGE(AG10:AN10,3),"0"))/3 -> 32 | AR10: =Q10+AE10+AQ10 -> 67.366667 | AS10: =(IF(Q10>0,1,0))+(IF(AE10>0,1,0))+(IF(AQ10>0,1,0)) -> 2 | AT10: =COUNTIF(I10:N10,">"&0)+COUNTIF(S10:AB10,">"&0)+COUNTIF(AG10:AN10,">"&0) -> 12
B11: 778173 | C11: NOSEK Jaroslav | D11: 2018 | E11: CZE | F11: =IFERROR(VLOOKUP(B11,SVEXP!$A$2:$F$6577,6,FALSE),"") -> Klub Krušných hor | G11: =IFERROR(VLOOKUP(B11,SVEXP!$A$2:$E$6577,5,FALSE),"") -> Ústecký kraj | H11: M | I11: =IFERROR(VLOOKUP(A11,'KLP1'!$C$1:$I$108,7,0),IFERROR(VLOOKUP(B11,'KLP1'!$D$1:$I$108,6,0),"")) -> 24 | J11: =IFERROR(VLOOKUP(A11,'KLP2'!$C$1:$I$108,7,0),IFERROR(VLOOKUP(B11,'KLP2'!$D$1:$I$108,6,0),"")) | K11: =IFERROR(VLOOKUP(A11,'DM1'!$C$1:$I$108,7,0),IFERROR(VLOOKUP(B11,'DM1'!$D$1:$I$108,6,0),"")) | L11: =IFERROR(VLOOKUP(A11,'DM2'!$C$1:$I$108,7,0),IFERROR(VLOOKUP(B11,'DM2'!$D$1:$I$108,6,0),"")) | M11: =IFERROR(VLOOKUP(A11,'SPF1'!$C$1:$I$108,7,0),IFERROR(VLOOKUP(B11,'SPF1'!$D$1:$I$108,6,0),"")) | N11: =IFERROR(VLOOKUP(A11,'SPF2'!$C$1:$I$108,7,0),IFERROR(VLOOKUP(B11,'SPF2'!$D$1:$I$108,6,0),"")) | O11: =SUM(I11:N11) -> 24 | P11: =IFERROR(LARGE(I11:N11,1),"0")+IFERROR(LARGE(I11:N11,2),"0")+IFERROR(LARGE(I11:N11,3),"0")+IFERROR(LARGE(I11:N11,4),"0") -> 24 | Q11: =(IFERROR(LARGE(I11:N11,1),"0")+IFERROR(LARGE(I11:N11,2),"0")+IFERROR(LARGE(I11:N11,3),"0"))/3 -> 8 | S11: =IFERROR(VLOOKUP(A11,DMSBX1!$C$1:$I$108,7,0),IFERROR(VLOOKUP(B11,DMSBX1!$D$1:$I$108,6,0),"")) | U11: =IFERROR(VLOOKUP(B11,'SP1'!$D$1:$I$107,6,0),"") -> 26 | V11: =IFERROR(VLOOKUP(B11,'SP2'!$D$1:$I$107,6,0),"") -> 40 | W11: =IFERROR(IF(B11<>0,VLOOKUP(B11,KLSBX1!$D$2:$I$120,6,FALSE()),NA()),IFERROR(IF(A11<>0,VLOOKUP(A11,KLSBX1!$C$2:$I$120,7,FALSE()),NA()),"")) | X11: =IFERROR(IF(B11<>0,VLOOKUP(B11,KLSBX2!$D$2:$I$120,6,FALSE()),NA()),IFERROR(IF(A11<>0,VLOOKUP(A11,KLSBX2!$C$2:$I$120,7,FALSE()),NA()),"")) -> 32 | Y11: =IFERROR(IF(B11<>0,VLOOKUP(B11,DMSBXNC!$D$2:$I$420,6,FALSE()),NA()),IFERROR(IF(A11<>0,VLOOKUP(A11,DMSBXNC!$C$2:$I$420,7,FALSE()),NA()),"")) | Z11: =IFERROR(IF(B11<>0,VLOOKUP(B11,DMSBX1_3!$D$2:$I$420,6,FALSE()),NA()),IFERROR(IF(A11<>0,VLOOKUP(A11,DMSBX1_3!$C$2:$I$420,7,FALSE()),NA()),"")) | AA11: =IFERROR(IF(B11<>0,VLOOKUP(B11,'KLS1'!$D$2:$I$420,6,FALSE()),NA()),IFERROR(IF(A11<>0,VLOOKUP(A11,'KLS1'!$C$2:$I$420,7,FALSE()),NA()),"")) | AB11: =IFERROR(IF(B11<>0,VLOOKUP(B11,'KLS2'!$D$2:$I$426,6,FALSE()),NA()),IFERROR(IF(A11<>0,VLOOKUP(A11,'KLS2'!$C$2:$I$426,7,FALSE()),NA()),"")) | AC11: =SUM(S11:AB11) -> 98 | AD11: =(IFERROR(LARGE(S11:AB11,1),"0")+IFERROR(LARGE(S11:AB11,2),"0")+IFERROR(LARGE(S11:AB11,3),"0")+IFERROR(LARGE(S11:AB11,4),"0")+IFERROR(LARGE(S11:AB11,5),"0")+IFERROR(LARGE(S11:AB11,6),"0")+IFERROR(LARGE(S11:AB11,7),"0")+IFERROR(LARGE(S11:AB11,8),"0")) -> 98 | AE11: =(IFERROR(LARGE(S11:AB11,1),"0")+IFERROR(LARGE(S11:AB11,2),"0")+IFERROR(LARGE(S11:AB11,3),"0"))/3 -> 32.666667 | AJ11: =IFERROR(VLOOKUP(B11,FS!$A$2:$N$78,9,FALSE),"") -> 26 | AO11: =SUM(AG11:AN11) -> 26 | AP11: =(IFERROR(LARGE(AG11:AN11,1),"0")+IFERROR(LARGE(AG11:AN11,2),"0")+IFERROR(LARGE(AG11:AN11,3),"0")+IFERROR(LARGE(AG11:AN11,4),"0")+IFERROR(LARGE(AG11:AN11,5),"0")) -> 26 | AQ11: =(IFERROR(LARGE(AG11:AN11,1),"0")+IFERROR(LARGE(AG11:AN11,2),"0")+IFERROR(LARGE(AG11:AN11,3),"0"))/3 -> 8.6666667 | AR11: =Q11+AE11+AQ11 -> 49.333333 | AS11: =(IF(Q11>0,1,0))+(IF(AE11>0,1,0))+(IF(AQ11>0,1,0)) -> 3 | AT11: =COUNTIF(I11:N11,">"&0)+COUNTIF(S11:AB11,">"&0)+COUNTIF(AG11:AN11,">"&0) -> 5
B12: 810898 | C12: Petraskova Rozalie | D12: 2017 | E12: CZE | F12: =IFERROR(VLOOKUP(B12,SVEXP!$A$2:$F$6577,6,FALSE),"") -> board masteRS team | G12: =IFERROR(VLOOKUP(B12,SVEXP!$A$2:$E$6577,5,FALSE),"") -> Hlavní město Praha | H12: L | O12: =SUM(I12:N12) -> 0 | P12: =IFERROR(LARGE(I12:N12,1),"0")+IFERROR(LARGE(I12:N12,2),"0")+IFERROR(LARGE(I12:N12,3),"0")+IFERROR(LARGE(I12:N12,4),"0") -> 0 | Q12: =(IFERROR(LARGE(I12:N12,1),"0")+IFERROR(LARGE(I12:N12,2),"0")+IFERROR(LARGE(I12:N12,3),"0"))/3 -> 0 | AC12: =SUM(S12:AB12) -> 0 | AD12: =(IFERROR(LARGE(S12:AB12,1),"0")+IFERROR(LARGE(S12:AB12,2),"0")+IFERROR(LARGE(S12:AB12,3),"0")+IFERROR(LARGE(S12:AB12,4),"0")+IFERROR(LARGE(S12:AB12,5),"0")+IFERROR(LARGE(S12:AB12,6),"0")+IFERROR(LARGE(S12:AB12,7),"0")+IFERROR(LARGE(S12:AB12,8),"0")) -> 0 | AE12: =(IFERROR(LARGE(S12:AB12,1),"0")+IFERROR(LARGE(S12:AB12,2),"0")+IFERROR(LARGE(S12:AB12,3),"0"))/3 -> 0 | AJ12: =IFERROR(VLOOKUP(B12,FS!$A$2:$N$78,9,FALSE),"") -> 24 | AM12: =IFERROR(VLOOKUP(B12,FS!$A$2:$N$78,12,FALSE),"") -> 32 | AO12: =SUM(AG12:AN12) -> 56 | AP12: =(IFERROR(LARGE(AG12:AN12,1),"0")+IFERROR(LARGE(AG12:AN12,2),"0")+IFERROR(LARGE(AG12:AN12,3),"0")+IFERROR(LARGE(AG12:AN12,4),"0")+IFERROR(LARGE(AG12:AN12,5),"0")) -> 56 | AQ12: =(IFERROR(LARGE(AG12:AN12,1),"0")+IFERROR(LARGE(AG12:AN12,2),"0")+IFERROR(LARGE(AG12:AN12,3),"0"))/3 -> 18.666667 | AR12: =Q12+AE12+AQ12 -> 18.666667 | AS12: =(IF(Q12>0,1,0))+(IF(AE12>0,1,0))+(IF(AQ12>0,1,0)) -> 1 | AT12: =COUNTIF(I12:N12,">"&0)+COUNTIF(S12:AB12,">"&0)+COUNTIF(AG12:AN12,">"&0) -> 2
B13: 889860 | C13: RYSOVÁ Barbora | D13: 2017 | E13: CZE | F13: =IFERROR(VLOOKUP(B13,SVEXP!$A$2:$F$6577,6,FALSE),"") -> SNB Seveřani | G13: =IFERROR(VLOOKUP(B13,SVEXP!$A$2:$E$6577,5,FALSE),"") -> Hlavní město Praha | H13: L | I13: =IFERROR(VLOOKUP(A13,'KLP1'!$C$1:$I$108,7,0),IFERROR(VLOOKUP(B13,'KLP1'!$D$1:$I$108,6,0),"")) | J13: =IFERROR(VLOOKUP(A13,'KLP2'!$C$1:$I$108,7,0),IFERROR(VLOOKUP(B13,'KLP2'!$D$1:$I$108,6,0),"")) | K13: =IFERROR(VLOOKUP(A13,'DM1'!$C$1:$I$108,7,0),IFERROR(VLOOKUP(B13,'DM1'!$D$1:$I$108,6,0),"")) -> 22.5 | L13: =IFERROR(VLOOKUP(A13,'DM2'!$C$1:$I$108,7,0),IFERROR(VLOOKUP(B13,'DM2'!$D$1:$I$108,6,0),"")) -> 24 | M13: =IFERROR(VLOOKUP(A13,'SPF1'!$C$1:$I$108,7,0),IFERROR(VLOOKUP(B13,'SPF1'!$D$1:$I$108,6,0),"")) | N13: =IFERROR(VLOOKUP(A13,'SPF2'!$C$1:$I$108,7,0),IFERROR(VLOOKUP(B13,'SPF2'!$D$1:$I$108,6,0),"")) | O13: =SUM(I13:N13) -> 46.5 | P13: =IFERROR(LARGE(I13:N13,1),"0")+IFERROR(LARGE(I13:N13,2),"0")+IFERROR(LARGE(I13:N13,3),"0")+IFERROR(LARGE(I13:N13,4),"0") -> 46.5 | Q13: =(IFERROR(LARGE(I13:N13,1),"0")+IFERROR(LARGE(I13:N13,2),"0")+IFERROR(LARGE(I13:N13,3),"0"))/3 -> 15.5 | S13: =IFERROR(VLOOKUP(A13,DMSBX1!$C$1:$I$108,7,0),IFERROR(VLOOKUP(B13,DMSBX1!$D$1:$I$108,6,0),"")) | T13: =IFERROR(VLOOKUP(A13,DMSBX2!$C$1:$I$101,7,0),IFERROR(VLOOKUP(B13,DMSBX2!$D$1:$I$101,6,0),"")) | U13: =IFERROR(VLOOKUP(B13,'SP1'!$D$1:$I$107,6,0),"") | V13: =IFERROR(VLOOKUP(B13,'SP2'!$D$1:$I$107,6,0),"") | W13: =IFERROR(IF(B13<>0,VLOOKUP(B13,KLSBX1!$D$2:$I$120,6,FALSE()),NA()),IFERROR(IF(A13<>0,VLOOKUP(A13,KLSBX1!$C$2:$I$120,7,FALSE()),NA()),"")) | X13: =IFERROR(IF(B13<>0,VLOOKUP(B13,KLSBX2!$D$2:$I$120,6,FALSE()),NA()),IFERROR(IF(A13<>0,VLOOKUP(A13,KLSBX2!$C$2:$I$120,7,FALSE()),NA()),"")) | Y13: =IFERROR(IF(B13<>0,VLOOKUP(B13,DMSBXNC!$D$2:$I$420,6,FALSE()),NA()),IFERROR(IF(A13<>0,VLOOKUP(A13,DMSBXNC!$C$2:$I$420,7,FALSE()),NA()),"")) | Z13: =IFERROR(IF(B13<>0,VLOOKUP(B13,DMSBX1_3!$D$2:$I$420,6,FALSE()),NA()),IFERROR(IF(A13<>0,VLOOKUP(A13,DMSBX1_3!$C$2:$I$420,7,FALSE()),NA()),"")) | AA13: =IFERROR(IF(B13<>0,VLOOKUP(B13,'KLS1'!$D$2:$I$420,6,FALSE()),NA()),IFERROR(IF(A13<>0,VLOOKUP(A13,'KLS1'!$C$2:$I$420,7,FALSE()),NA()),"")) | AB13: =IFERROR(IF(B13<>0,VLOOKUP(B13,'KLS2'!$D$2:$I$426,6,FALSE()),NA()),IFERROR(IF(A13<>0,VLOOKUP(A13,'KLS2'!$C$2:$I$426,7,FALSE()),NA()),"")) | AC13: =SUM(S13:AB13) -> 0 | AD13: =(IFERROR(LARGE(S13:AB13,1),"0")+IFERROR(LARGE(S13:AB13,2),"0")+IFERROR(LARGE(S13:AB13,3),"0")+IFERROR(LARGE(S13:AB13,4),"0")+IFERROR(LARGE(S13:AB13,5),"0")+IFERROR(LARGE(S13:AB13,6),"0")+IFERROR(LARGE(S13:AB13,7),"0")+IFERROR(LARGE(S13:AB13,8),"0")) -> 0 | AE13: =(IFERROR(LARGE(S13:AB13,1),"0")+IFERROR(LARGE(S13:AB13,2),"0")+IFERROR(LARGE(S13:AB13,3),"0"))/3 -> 0 | AG13: =IFERROR(VLOOKUP(B13,FS!$A$2:$N$78,6,FALSE),"") | AH13: =IFERROR(VLOOKUP(B13,FS!$A$2:$N$78,7,FALSE),"") | AI13: =IFERROR(VLOOKUP(B13,FS!$A$2:$N$78,8,FALSE),"") | AJ13: =IFERROR(VLOOKUP(B13,FS!$A$2:$N$78,9,FALSE),"") | AK13: =IFERROR(VLOOKUP(B13,FS!$A$2:$N$78,10,FALSE),"") | AL13: =IFERROR(VLOOKUP(B13,FS!$A$2:$N$78,11,FALSE),"") | AM13: =IFERROR(VLOOKUP(B13,FS!$A$2:$N$78,12,FALSE),"") | AN13: =IFERROR(VLOOKUP(B13,FS!$A$2:$N$78,13,FALSE),"") | AO13: =SUM(AG13:AN13) -> 0 | AP13: =(IFERROR(LARGE(AG13:AN13,1),"0")+IFERROR(LARGE(AG13:AN13,2),"0")+IFERROR(LARGE(AG13:AN13,3),"0")+IFERROR(LARGE(AG13:AN13,4),"0")+IFERROR(LARGE(AG13:AN13,5),"0")) -> 0 | AQ13: =(IFERROR(LARGE(AG13:AN13,1),"0")+IFERROR(LARGE(AG13:AN13,2),"0")+IFERROR(LARGE(AG13:AN13,3),"0"))/3 -> 0 | AR13: =Q13+AE13+AQ13 -> 15.5 | AS13: =(IF(Q13>0,1,0))+(IF(AE13>0,1,0))+(IF(AQ13>0,1,0)) -> 1 | AT13: =COUNTIF(I13:N13,">"&0)+COUNTIF(S13:AB13,">"&0)+COUNTIF(AG13:AN13,">"&0) -> 2
B14: 891511 | C14: Petrikova Amelie | D14: 2017 | E14: CZE | F14: =IFERROR(VLOOKUP(B14,SVEXP!$A$2:$F$6577,6,FALSE),"") -> SK LOQUITA' S | G14: =IFERROR(VLOOKUP(B14,SVEXP!$A$2:$E$6577,5,FALSE),"") -> Hlavní město Praha | H14: L | O14: =SUM(I14:N14) -> 0 | P14: =IFERROR(LARGE(I14:N14,1),"0")+IFERROR(LARGE(I14:N14,2),"0")+IFERROR(LARGE(I14:N14,3),"0")+IFERROR(LARGE(I14:N14,4),"0") -> 0 | Q14: =(IFERROR(LARGE(I14:N14,1),"0")+IFERROR(LARGE(I14:N14,2),"0")+IFERROR(LARGE(I14:N14,3),"0"))/3 -> 0 | AC14: =SUM(S14:AB14) -> 0 | AD14: =(IFERROR(LARGE(S14:AB14,1),"0")+IFERROR(LARGE(S14:AB14,2),"0")+IFERROR(LARGE(S14:AB14,3),"0")+IFERROR(LARGE(S14:AB14,4),"0")+IFERROR(LARGE(S14:AB14,5),"0")+IFERROR(LARGE(S14:AB14,6),"0")+IFERROR(LARGE(S14:AB14,7),"0")+IFERROR(LARGE(S14:AB14,8),"0")) -> 0 | AE14: =(IFERROR(LARGE(S14:AB14,1),"0")+IFERROR(LARGE(S14:AB14,2),"0")+IFERROR(LARGE(S14:AB14,3),"0"))/3 -> 0 | AM14: =IFERROR(VLOOKUP(B14,FS!$A$2:$N$78,12,FALSE),"") -> 20 | AO14: =SUM(AG14:AN14) -> 20 | AP14: =(IFERROR(LARGE(AG14:AN14,1),"0")+IFERROR(LARGE(AG14:AN14,2),"0")+IFERROR(LARGE(AG14:AN14,3),"0")+IFERROR(LARGE(AG14:AN14,4),"0")+IFERROR(LARGE(AG14:AN14,5),"0")) -> 20 | AQ14: =(IFERROR(LARGE(AG14:AN14,1),"0")+IFERROR(LARGE(AG14:AN14,2),"0")+IFERROR(LARGE(AG14:AN14,3),"0"))/3 -> 6.6666667 | AR14: =Q14+AE14+AQ14 -> 6.6666667 | AS14: =(IF(Q14>0,1,0))+(IF(AE14>0,1,0))+(IF(AQ14>0,1,0)) -> 1 | AT14: =COUNTIF(I14:N14,">"&0)+COUNTIF(S14:AB14,">"&0)+COUNTIF(AG14:AN14,">"&0) -> 1
B15: 891674 | C15: PAVLÍKOVÁ Sofie | D15: 2017 | E15: CZE | F15: =IFERROR(VLOOKUP(B15,SVEXP!$A$2:$F$6577,6,FALSE),"") -> Lítací jelen | G15: =IFERROR(VLOOKUP(B15,SVEXP!$A$2:$E$6577,5,FALSE),"") -> Jihomoravský kraj | H15: L | I15: =IFERROR(VLOOKUP(A15,'KLP1'!$C$1:$I$108,7,0),IFERROR(VLOOKUP(B15,'KLP1'!$D$1:$I$108,6,0),"")) | J15: =IFERROR(VLOOKUP(A15,'KLP2'!$C$1:$I$108,7,0),IFERROR(VLOOKUP(B15,'KLP2'!$D$1:$I$108,6,0),"")) | K15: =IFERROR(VLOOKUP(A15,'DM1'!$C$1:$I$108,7,0),IFERROR(VLOOKUP(B15,'DM1'!$D$1:$I$108,6,0),"")) | L15: =IFERROR(VLOOKUP(A15,'DM2'!$C$1:$I$108,7,0),IFERROR(VLOOKUP(B15,'DM2'!$D$1:$I$108,6,0),"")) | M15: =IFERROR(VLOOKUP(A15,'SPF1'!$C$1:$I$108,7,0),IFERROR(VLOOKUP(B15,'SPF1'!$D$1:$I$108,6,0),"")) -> 25.6 | N15: =IFERROR(VLOOKUP(A15,'SPF2'!$C$1:$I$108,7,0),IFERROR(VLOOKUP(B15,'SPF2'!$D$1:$I$108,6,0),"")) -> 25.2 | O15: =SUM(I15:N15) -> 50.8 | P15: =IFERROR(LARGE(I15:N15,1),"0")+IFERROR(LARGE(I15:N15,2),"0")+IFERROR(LARGE(I15:N15,3),"0")+IFERROR(LARGE(I15:N15,4),"0") -> 50.8 | Q15: =(IFERROR(LARGE(I15:N15,1),"0")+IFERROR(LARGE(I15:N15,2),"0")+IFERROR(LARGE(I15:N15,3),"0"))/3 -> 16.933333 | S15: =IFERROR(VLOOKUP(A15,DMSBX1!$C$1:$I$108,7,0),IFERROR(VLOOKUP(B15,DMSBX1!$D$1:$I$108,6,0),"")) | T15: =IFERROR(VLOOKUP(A15,DMSBX2!$C$1:$I$101,7,0),IFERROR(VLOOKUP(B15,DMSBX2!$D$1:$I$101,6,0),"")) | U15: =IFERROR(VLOOKUP(B15,'SP1'!$D$1:$I$107,6,0),"") | V15: =IFERROR(VLOOKUP(B15,'SP2'!$D$1:$I$107,6,0),"") | W15: =IFERROR(IF(B15<>0,VLOOKUP(B15,KLSBX1!$D$2:$I$120,6,FALSE()),NA()),IFERROR(IF(A15<>0,VLOOKUP(A15,KLSBX1!$C$2:$I$120,7,FALSE()),NA()),"")) | X15: =IFERROR(IF(B15<>0,VLOOKUP(B15,KLSBX2!$D$2:$I$120,6,FALSE()),NA()),IFERROR(IF(A15<>0,VLOOKUP(A15,KLSBX2!$C$2:$I$120,7,FALSE()),NA()),"")) | Y15: =IFERROR(IF(B15<>0,VLOOKUP(B15,DMSBXNC!$D$2:$I$420,6,FALSE()),NA()),IFERROR(IF(A15<>0,VLOOKUP(A15,DMSBXNC!$C$2:$I$420,7,FALSE()),NA()),"")) | Z15: =IFERROR(IF(B15<>0,VLOOKUP(B15,DMSBX1_3!$D$2:$I$420,6,FALSE()),NA()),IFERROR(IF(A15<>0,VLOOKUP(A15,DMSBX1_3!$C$2:$I$420,7,FALSE()),NA()),"")) | AA15: =IFERROR(IF(B15<>0,VLOOKUP(B15,'KLS1'!$D$2:$I$420,6,FALSE()),NA()),IFERROR(IF(A15<>0,VLOOKUP(A15,'KLS1'!$C$2:$I$420,7,FALSE()),NA()),"")) | AB15: =IFERROR(IF(B15<>0,VLOOKUP(B15,'KLS2'!$D$2:$I$426,6,FALSE()),NA()),IFERROR(IF(A15<>0,VLOOKUP(A15,'KLS2'!$C$2:$I$426,7,FALSE()),NA()),"")) | AC15: =SUM(S15:AB15) -> 0 | AD15: =(IFERROR(LARGE(S15:AB15,1),"0")+IFERROR(LARGE(S15:AB15,2),"0")+IFERROR(LARGE(S15:AB15,3),"0")+IFERROR(LARGE(S15:AB15,4),"0")+IFERROR(LARGE(S15:AB15,5),"0")+IFERROR(LARGE(S15:AB15,6),"0")+IFERROR(LARGE(S15:AB15,7),"0")+IFERROR(LARGE(S15:AB15,8),"0")) -> 0 | AE15: =(IFERROR(LARGE(S15:AB15,1),"0")+IFERROR(LARGE(S15:AB15,2),"0")+IFERROR(LARGE(S15:AB15,3),"0"))/3 -> 0 | AG15: =IFERROR(VLOOKUP(B15,FS!$A$2:$N$78,6,FALSE),"") | AH15: =IFERROR(VLOOKUP(B15,FS!$A$2:$N$78,7,FALSE),"") | AI15: =IFERROR(VLOOKUP(B15,FS!$A$2:$N$78,8,FALSE),"") | AJ15: =IFERROR(VLOOKUP(B15,FS!$A$2:$N$78,9,FALSE),"") | AK15: =IFERROR(VLOOKUP(B15,FS!$A$2:$N$78,10,FALSE),"") | AL15: =IFERROR(VLOOKUP(B15,FS!$A$2:$N$78,11,FALSE),"") | AM15: =IFERROR(VLOOKUP(B15,FS!$A$2:$N$78,12,FALSE),"") | AN15: =IFERROR(VLOOKUP(B15,FS!$A$2:$N$78,13,FALSE),"") | AO15: =SUM(AG15:AN15) -> 0 | AP15: =(IFERROR(LARGE(AG15:AN15,1),"0")+IFERROR(LARGE(AG15:AN15,2),"0")+IFERROR(LARGE(AG15:AN15,3),"0")+IFERROR(LARGE(AG15:AN15,4),"0")+IFERROR(LARGE(AG15:AN15,5),"0")) -> 0 | AQ15: =(IFERROR(LARGE(AG15:AN15,1),"0")+IFERROR(LARGE(AG15:AN15,2),"0")+IFERROR(LARGE(AG15:AN15,3),"0"))/3 -> 0 | AR15: =Q15+AE15+AQ15 -> 16.933333 | AS15: =(IF(Q15>0,1,0))+(IF(AE15>0,1,0))+(IF(AQ15>0,1,0)) -> 1 | AT15: =COUNTIF(I15:N15,">"&0)+COUNTIF(S15:AB15,">"&0)+COUNTIF(AG15:AN15,">"&0) -> 2
B16: 891717 | C16: VLACHOVÁ Valerie | D16: 2017 | E16: CZE | F16: =IFERROR(VLOOKUP(B16,SVEXP!$A$2:$F$6577,6,FALSE),"") -> Lítací jelen | G16: =IFERROR(VLOOKUP(B16,SVEXP!$A$2:$E$6577,5,FALSE),"") -> Moravskoslezský kraj | H16: L | K16: =IFERROR(VLOOKUP(A16,'DM1'!$C$1:$I$108,7,0),IFERROR(VLOOKUP(B16,'DM1'!$D$1:$I$108,6,0),"")) -> 30 | L16: =IFERROR(VLOOKUP(A16,'DM2'!$C$1:$I$108,7,0),IFERROR(VLOOKUP(B16,'DM2'!$D$1:$I$108,6,0),"")) -> 20 | M16: =IFERROR(VLOOKUP(A16,'SPF1'!$C$1:$I$108,7,0),IFERROR(VLOOKUP(B16,'SPF1'!$D$1:$I$108,6,0),"")) -> 36 | N16: =IFERROR(VLOOKUP(A16,'SPF2'!$C$1:$I$108,7,0),IFERROR(VLOOKUP(B16,'SPF2'!$D$1:$I$108,6,0),"")) -> 35 | O16: =SUM(I16:N16) -> 121 | P16: =IFERROR(LARGE(I16:N16,1),"0")+IFERROR(LARGE(I16:N16,2),"0")+IFERROR(LARGE(I16:N16,3),"0")+IFERROR(LARGE(I16:N16,4),"0") -> 121 | Q16: =(IFERROR(LARGE(I16:N16,1),"0")+IFERROR(LARGE(I16:N16,2),"0")+IFERROR(LARGE(I16:N16,3),"0"))/3 -> 33.666667 | S16: =IFERROR(VLOOKUP(A16,DMSBX1!$C$1:$I$108,7,0),IFERROR(VLOOKUP(B16,DMSBX1!$D$1:$I$108,6,0),"")) | W16: =IFERROR(IF(B16<>0,VLOOKUP(B16,KLSBX1!$D$2:$I$120,6,FALSE()),NA()),IFERROR(IF(A16<>0,VLOOKUP(A16,KLSBX1!$C$2:$I$120,7,FALSE()),NA()),"")) | X16: =IFERROR(IF(B16<>0,VLOOKUP(B16,KLSBX2!$D$2:$I$120,6,FALSE()),NA()),IFERROR(IF(A16<>0,VLOOKUP(A16,KLSBX2!$C$2:$I$120,7,FALSE()),NA()),"")) | Y16: =IFERROR(IF(B16<>0,VLOOKUP(B16,DMSBXNC!$D$2:$I$420,6,FALSE()),NA()),IFERROR(IF(A16<>0,VLOOKUP(A16,DMSBXNC!$C$2:$I$420,7,FALSE()),NA()),"")) | Z16: =IFERROR(IF(B16<>0,VLOOKUP(B16,DMSBX1_3!$D$2:$I$420,6,FALSE()),NA()),IFERROR(IF(A16<>0,VLOOKUP(A16,DMSBX1_3!$C$2:$I$420,7,FALSE()),NA()),"")) | AA16: =IFERROR(IF(B16<>0,VLOOKUP(B16,'KLS1'!$D$2:$I$420,6,FALSE()),NA()),IFERROR(IF(A16<>0,VLOOKUP(A16,'KLS1'!$C$2:$I$420,7,FALSE()),NA()),"")) | AB16: =IFERROR(IF(B16<>0,VLOOKUP(B16,'KLS2'!$D$2:$I$426,6,FALSE()),NA()),IFERROR(IF(A16<>0,VLOOKUP(A16,'KLS2'!$C$2:$I$426,7,FALSE()),NA()),"")) | AC16: =SUM(S16:AB16) -> 0 | AD16: =(IFERROR(LARGE(S16:AB16,1),"0")+IFERROR(LARGE(S16:AB16,2),"0")+IFERROR(LARGE(S16:AB16,3),"0")+IFERROR(LARGE(S16:AB16,4),"0")+IFERROR(LARGE(S16:AB16,5),"0")+IFERROR(LARGE(S16:AB16,6),"0")+IFERROR(LARGE(S16:AB16,7),"0")+IFERROR(LARGE(S16:AB16,8),"0")) -> 0 | AE16: =(IFERROR(LARGE(S16:AB16,1),"0")+IFERROR(LARGE(S16:AB16,2),"0")+IFERROR(LARGE(S16:AB16,3),"0"))/3 -> 0 | AG16: =IFERROR(VLOOKUP(B16,FS!$A$2:$N$78,6,FALSE),"") | AH16: =IFERROR(VLOOKUP(B16,FS!$A$2:$N$78,7,FALSE),"") | AI16: =IFERROR(VLOOKUP(B16,FS!$A$2:$N$78,8,FALSE),"") | AJ16: =IFERROR(VLOOKUP(B16,FS!$A$2:$N$78,9,FALSE),"") | AK16: =IFERROR(VLOOKUP(B16,FS!$A$2:$N$78,10,FALSE),"") | AL16: =IFERROR(VLOOKUP(B16,FS!$A$2:$N$78,11,FALSE),"") | AM16: =IFERROR(VLOOKUP(B16,FS!$A$2:$N$78,12,FALSE),"") | AN16: =IFERROR(VLOOKUP(B16,FS!$A$2:$N$78,13,FALSE),"") | AO16: =SUM(AG16:AN16) -> 0 | AP16: =(IFERROR(LARGE(AG16:AN16,1),"0")+IFERROR(LARGE(AG16:AN16,2),"0")+IFERROR(LARGE(AG16:AN16,3),"0")+IFERROR(LARGE(AG16:AN16,4),"0")+IFERROR(LARGE(AG16:AN16,5),"0")) -> 0 | AQ16: =(IFERROR(LARGE(AG16:AN16,1),"0")+IFERROR(LARGE(AG16:AN16,2),"0")+IFERROR(LARGE(AG16:AN16,3),"0"))/3 -> 0 | AR16: =Q16+AE16+AQ16 -> 33.666667 | AS16: =(IF(Q16>0,1,0))+(IF(AE16>0,1,0))+(IF(AQ16>0,1,0)) -> 1 | AT16: =COUNTIF(I16:N16,">"&0)+COUNTIF(S16:AB16,">"&0)+COUNTIF(AG16:AN16,">"&0) -> 4
A17: 1697597 | B17: 887748 | C17: ŠINDELÁŘOVÁ Jana | D17: 1977 | E17: CZE | F17: =IFERROR(VLOOKUP(B17,SVEXP!$A$2:$F$6577,6,FALSE),"") -> VLLNNA | G17: =IFERROR(VLOOKUP(B17,SVEXP!$A$2:$E$6577,5,FALSE),"") -> Hlavní město Praha | H17: L | I17: =IFERROR(VLOOKUP(A17,'KLP1'!$C$1:$I$108,7,0),IFERROR(VLOOKUP(B17,'KLP1'!$D$1:$I$108,6,0),"")) | J17: =IFERROR(VLOOKUP(A17,'KLP2'!$C$1:$I$108,7,0),IFERROR(VLOOKUP(B17,'KLP2'!$D$1:$I$108,6,0),"")) | K17: =IFERROR(VLOOKUP(A17,'DM1'!$C$1:$I$108,7,0),IFERROR(VLOOKUP(B17,'DM1'!$D$1:$I$108,6,0),"")) | L17: =IFERROR(VLOOKUP(A17,'DM2'!$C$1:$I$108,7,0),IFERROR(VLOOKUP(B17,'DM2'!$D$1:$I$108,6,0),"")) | M17: =IFERROR(VLOOKUP(A17,'SPF1'!$C$1:$I$108,7,0),IFERROR(VLOOKUP(B17,'SPF1'!$D$1:$I$108,6,0),"")) | N17: =IFERROR(VLOOKUP(A17,'SPF2'!$C$1:$I$108,7,0),IFERROR(VLOOKUP(B17,'SPF2'!$D$1:$I$108,6,0),"")) | O17: =SUM(I17:N17) -> 0 | P17: =IFERROR(LARGE(I17:N17,1),"0")+IFERROR(LARGE(I17:N17,2),"0")+IFERROR(LARGE(I17:N17,3),"0")+IFERROR(LARGE(I17:N17,4),"0") -> 0 | Q17: =(IFERROR(LARGE(I17:N17,1),"0")+IFERROR(LARGE(I17:N17,2),"0")+IFERROR(LARGE(I17:N17,3),"0"))/3 -> 0 | S17: =IFERROR(VLOOKUP(A17,DMSBX1!$C$1:$I$108,7,0),IFERROR(VLOOKUP(B17,DMSBX1!$D$1:$I$108,6,0),"")) | T17: =IFERROR(VLOOKUP(A17,DMSBX2!$C$1:$I$101,7,0),IFERROR(VLOOKUP(B17,DMSBX2!$D$1:$I$101,6,0),"")) | U17: =IFERROR(VLOOKUP(B17,'SP1'!$D$1:$I$107,6,0),"") | V17: =IFERROR(VLOOKUP(B17,'SP2'!$D$1:$I$107,6,0),"") | W17: =IFERROR(IF(B17<>0,VLOOKUP(B17,KLSBX1!$D$2:$I$120,6,FALSE()),NA()),IFERROR(IF(A17<>0,VLOOKUP(A17,KLSBX1!$C$2:$I$120,7,FALSE()),NA()),"")) | X17: =IFERROR(IF(B17<>0,VLOOKUP(B17,KLSBX2!$D$2:$I$120,6,FALSE()),NA()),IFERROR(IF(A17<>0,VLOOKUP(A17,KLSBX2!$C$2:$I$120,7,FALSE()),NA()),"")) | Y17: =IFERROR(IF(B17<>0,VLOOKUP(B17,DMSBXNC!$D$2:$I$420,6,FALSE()),NA()),IFERROR(IF(A17<>0,VLOOKUP(A17,DMSBXNC!$C$2:$I$420,7,FALSE()),NA()),"")) | Z17: =IFERROR(IF(B17<>0,VLOOKUP(B17,DMSBX1_3!$D$2:$I$420,6,FALSE()),NA()),IFERROR(IF(A17<>0,VLOOKUP(A17,DMSBX1_3!$C$2:$I$420,7,FALSE()),NA()),"")) | AA17: =IFERROR(IF(B17<>0,VLOOKUP(B17,'KLS1'!$D$2:$I$420,6,FALSE()),NA()),IFERROR(IF(A17<>0,VLOOKUP(A17,'KLS1'!$C$2:$I$420,7,FALSE()),NA()),"")) | AB17: =IFERROR(IF(B17<>0,VLOOKUP(B17,'KLS2'!$D$2:$I$426,6,FALSE()),NA()),IFERROR(IF(A17<>0,VLOOKUP(A17,'KLS2'!$C$2:$I$426,7,FALSE()),NA()),"")) | AC17: =SUM(S17:AB17) -> 0 | AD17: =(IFERROR(LARGE(S17:AB17,1),"0")+IFERROR(LARGE(S17:AB17,2),"0")+IFERROR(LARGE(S17:AB17,3),"0")+IFERROR(LARGE(S17:AB17,4),"0")+IFERROR(LARGE(S17:AB17,5),"0")+IFERROR(LARGE(S17:AB17,6),"0")+IFERROR(LARGE(S17:AB17,7),"0")+IFERROR(LARGE(S17:AB17,8),"0")) -> 0 | AE17: =(IFERROR(LARGE(S17:AB17,1),"0")+IFERROR(LARGE(S17:AB17,2),"0")+IFERROR(LARGE(S17:AB17,3),"0"))/3 -> 0 | AG17: =IFERROR(VLOOKUP(B17,FS!$A$2:$N$78,6,FALSE),"") | AH17: =IFERROR(VLOOKUP(B17,FS!$A$2:$N$78,7,FALSE),"") | AI17: =IFERROR(VLOOKUP(B17,FS!$A$2:$N$78,8,FALSE),"") | AJ17: =IFERROR(VLOOKUP(B17,FS!$A$2:$N$78,9,FALSE),"") | AK17: =IFERROR(VLOOKUP(B17,FS!$A$2:$N$78,10,FALSE),"") | AL17: =IFERROR(VLOOKUP(B17,FS!$A$2:$N$78,11,FALSE),"") | AM17: =IFERROR(VLOOKUP(B17,FS!$A$2:$N$78,12,FALSE),"") | AN17: =IFERROR(VLOOKUP(B17,FS!$A$2:$N$78,13,FALSE),"") | AO17: =SUM(AG17:AN17) -> 0 | AP17: =(IFERROR(LARGE(AG17:AN17,1),"0")+IFERROR(LARGE(AG17:AN17,2),"0")+IFERROR(LARGE(AG17:AN17,3),"0")+IFERROR(LARGE(AG17:AN17,4),"0")+IFERROR(LARGE(AG17:AN17,5),"0")) -> 0 | AQ17: =(IFERROR(LARGE(AG17:AN17,1),"0")+IFERROR(LARGE(AG17:AN17,2),"0")+IFERROR(LARGE(AG17:AN17,3),"0"))/3 -> 0 | AR17: =Q17+AE17+AQ17 -> 0 | AS17: =(IF(Q17>0,1,0))+(IF(AE17>0,1,0))+(IF(AQ17>0,1,0)) -> 0
B18: 891761 | C18: VAVROŠOVÁ Stella | D18: 2017 | E18: CZE | F18: =IFERROR(VLOOKUP(B18,SVEXP!$A$2:$F$6577,6,FALSE),"") -> Lítací jelen | G18: =IFERROR(VLOOKUP(B18,SVEXP!$A$2:$E$6577,5,FALSE),"") -> Moravskoslezský kraj | H18: L | I18: =IFERROR(VLOOKUP(A18,'KLP1'!$C$1:$I$108,7,0),IFERROR(VLOOKUP(B18,'KLP1'!$D$1:$I$108,6,0),"")) | J18: =IFERROR(VLOOKUP(A18,'KLP2'!$C$1:$I$108,7,0),IFERROR(VLOOKUP(B18,'KLP2'!$D$1:$I$108,6,0),"")) | K18: =IFERROR(VLOOKUP(A18,'DM1'!$C$1:$I$108,7,0),IFERROR(VLOOKUP(B18,'DM1'!$D$1:$I$108,6,0),"")) | L18: =IFERROR(VLOOKUP(A18,'DM2'!$C$1:$I$108,7,0),IFERROR(VLOOKUP(B18,'DM2'!$D$1:$I$108,6,0),"")) | M18: =IFERROR(VLOOKUP(A18,'SPF1'!$C$1:$I$108,7,0),IFERROR(VLOOKUP(B18,'SPF1'!$D$1:$I$108,6,0),"")) | N18: =IFERROR(VLOOKUP(A18,'SPF2'!$C$1:$I$108,7,0),IFERROR(VLOOKUP(B18,'SPF2'!$D$1:$I$108,6,0),"")) -> 31.5 | O18: =SUM(I18:N18) -> 31.5 | P18: =IFERROR(LARGE(I18:N18,1),"0")+IFERROR(LARGE(I18:N18,2),"0")+IFERROR(LARGE(I18:N18,3),"0")+IFERROR(LARGE(I18:N18,4),"0") -> 31.5 | Q18: =(IFERROR(LARGE(I18:N18,1),"0")+IFERROR(LARGE(I18:N18,2),"0")+IFERROR(LARGE(I18:N18,3),"0"))/3 -> 10.5 | S18: =IFERROR(VLOOKUP(A18,DMSBX1!$C$1:$I$108,7,0),IFERROR(VLOOKUP(B18,DMSBX1!$D$1:$I$108,6,0),"")) | T18: =IFERROR(VLOOKUP(A18,DMSBX2!$C$1:$I$101,7,0),IFERROR(VLOOKUP(B18,DMSBX2!$D$1:$I$101,6,0),"")) | U18: =IFERROR(VLOOKUP(B18,'SP1'!$D$1:$I$107,6,0),"") | V18: =IFERROR(VLOOKUP(B18,'SP2'!$D$1:$I$107,6,0),"") | W18: =IFERROR(IF(B18<>0,VLOOKUP(B18,KLSBX1!$D$2:$I$120,6,FALSE()),NA()),IFERROR(IF(A18<>0,VLOOKUP(A18,KLSBX1!$C$2:$I$120,7,FALSE()),NA()),"")) | X18: =IFERROR(IF(B18<>0,VLOOKUP(B18,KLSBX2!$D$2:$I$120,6,FALSE()),NA()),IFERROR(IF(A18<>0,VLOOKUP(A18,KLSBX2!$C$2:$I$120,7,FALSE()),NA()),"")) | Y18: =IFERROR(IF(B18<>0,VLOOKUP(B18,DMSBXNC!$D$2:$I$420,6,FALSE()),NA()),IFERROR(IF(A18<>0,VLOOKUP(A18,DMSBXNC!$C$2:$I$420,7,FALSE()),NA()),"")) | Z18: =IFERROR(IF(B18<>0,VLOOKUP(B18,DMSBX1_3!$D$2:$I$420,6,FALSE()),NA()),IFERROR(IF(A18<>0,VLOOKUP(A18,DMSBX1_3!$C$2:$I$420,7,FALSE()),NA()),"")) | AA18: =IFERROR(IF(B18<>0,VLOOKUP(B18,'KLS1'!$D$2:$I$420,6,FALSE()),NA()),IFERROR(IF(A18<>0,VLOOKUP(A18,'KLS1'!$C$2:$I$420,7,FALSE()),NA()),"")) | AB18: =IFERROR(IF(B18<>0,VLOOKUP(B18,'KLS2'!$D$2:$I$426,6,FALSE()),NA()),IFERROR(IF(A18<>0,VLOOKUP(A18,'KLS2'!$C$2:$I$426,7,FALSE()),NA()),"")) | AC18: =SUM(S18:AB18) -> 0 | AD18: =(IFERROR(LARGE(S18:AB18,1),"0")+IFERROR(LARGE(S18:AB18,2),"0")+IFERROR(LARGE(S18:AB18,3),"0")+IFERROR(LARGE(S18:AB18,4),"0")+IFERROR(LARGE(S18:AB18,5),"0")+IFERROR(LARGE(S18:AB18,6),"0")+IFERROR(LARGE(S18:AB18,7),"0")+IFERROR(LARGE(S18:AB18,8),"0")) -> 0 | AE18: =(IFERROR(LARGE(S18:AB18,1),"0")+IFERROR(LARGE(S18:AB18,2),"0")+IFERROR(LARGE(S18:AB18,3),"0"))/3 -> 0 | AG18: =IFERROR(VLOOKUP(B18,FS!$A$2:$N$78,6,FALSE),"") | AH18: =IFERROR(VLOOKUP(B18,FS!$A$2:$N$78,7,FALSE),"") | AI18: =IFERROR(VLOOKUP(B18,FS!$A$2:$N$78,8,FALSE),"") | AJ18: =IFERROR(VLOOKUP(B18,FS!$A$2:$N$78,9,FALSE),"") | AK18: =IFERROR(VLOOKUP(B18,FS!$A$2:$N$78,10,FALSE),"") | AL18: =IFERROR(VLOOKUP(B18,FS!$A$2:$N$78,11,FALSE),"") | AM18: =IFERROR(VLOOKUP(B18,FS!$A$2:$N$78,12,FALSE),"") | AN18: =IFERROR(VLOOKUP(B18,FS!$A$2:$N$78,13,FALSE),"") | AO18: =SUM(AG18:AN18) -> 0 | AP18: =(IFERROR(LARGE(AG18:AN18,1),"0")+IFERROR(LARGE(AG18:AN18,2),"0")+IFERROR(LARGE(AG18:AN18,3),"0")+IFERROR(LARGE(AG18:AN18,4),"0")+IFERROR(LARGE(AG18:AN18,5),"0")) -> 0 | AQ18: =(IFERROR(LARGE(AG18:AN18,1),"0")+IFERROR(LARGE(AG18:AN18,2),"0")+IFERROR(LARGE(AG18:AN18,3),"0"))/3 -> 0 | AR18: =Q18+AE18+AQ18 -> 10.5 | AS18: =(IF(Q18>0,1,0))+(IF(AE18>0,1,0))+(IF(AQ18>0,1,0)) -> 1 | AT18: =COUNTIF(I18:N18,">"&0)+COUNTIF(S18:AB18,">"&0)+COUNTIF(AG18:AN18,">"&0) -> 1
B19: 891651 | C19: Stolfova Elen | D19: 2017 | E19: CZE | F19: =IFERROR(VLOOKUP(B19,SVEXP!$A$2:$F$6577,6,FALSE),"") -> Český snowboarding | G19: =IFERROR(VLOOKUP(B19,SVEXP!$A$2:$E$6577,5,FALSE),"") -> Středočeský kraj | H19: L | O19: =SUM(I19:N19) -> 0 | P19: =IFERROR(LARGE(I19:N19,1),"0")+IFERROR(LARGE(I19:N19,2),"0")+IFERROR(LARGE(I19:N19,3),"0")+IFERROR(LARGE(I19:N19,4),"0") -> 0 | Q19: =(IFERROR(LARGE(I19:N19,1),"0")+IFERROR(LARGE(I19:N19,2),"0")+IFERROR(LARGE(I19:N19,3),"0"))/3 -> 0 | AC19: =SUM(S19:AB19) -> 0 | AD19: =(IFERROR(LARGE(S19:AB19,1),"0")+IFERROR(LARGE(S19:AB19,2),"0")+IFERROR(LARGE(S19:AB19,3),"0")+IFERROR(LARGE(S19:AB19,4),"0")+IFERROR(LARGE(S19:AB19,5),"0")+IFERROR(LARGE(S19:AB19,6),"0")+IFERROR(LARGE(S19:AB19,7),"0")+IFERROR(LARGE(S19:AB19,8),"0")) -> 0 | AE19: =(IFERROR(LARGE(S19:AB19,1),"0")+IFERROR(LARGE(S19:AB19,2),"0")+IFERROR(LARGE(S19:AB19,3),"0"))/3 -> 0 | AH19: =IFERROR(VLOOKUP(B19,FS!$A$2:$N$78,7,FALSE),"") -> 16 | AO19: =SUM(AG19:AN19) -> 16 | AP19: =(IFERROR(LARGE(AG19:AN19,1),"0")+IFERROR(LARGE(AG19:AN19,2),"0")+IFERROR(LARGE(AG19:AN19,3),"0")+IFERROR(LARGE(AG19:AN19,4),"0")+IFERROR(LARGE(AG19:AN19,5),"0")) -> 16 | AQ19: =(IFERROR(LARGE(AG19:AN19,1),"0")+IFERROR(LARGE(AG19:AN19,2),"0")+IFERROR(LARGE(AG19:AN19,3),"0"))/3 -> 5.3333333 | AR19: =Q19+AE19+AQ19 -> 5.3333333 | AS19: =(IF(Q19>0,1,0))+(IF(AE19>0,1,0))+(IF(AQ19>0,1,0)) -> 1 | AT19: =COUNTIF(I19:N19,">"&0)+COUNTIF(S19:AB19,">"&0)+COUNTIF(AG19:AN19,">"&0) -> 1
B20: 773714 | C20: Novák Matěj | D20: 2017 | E20: CZE | F20: =IFERROR(VLOOKUP(B20,SVEXP!$A$2:$F$6577,6,FALSE),"") -> SK Freestyle Area | G20: =IFERROR(VLOOKUP(B20,SVEXP!$A$2:$E$6577,5,FALSE),"") -> Hlavní město Praha | H20: M | I20: =IFERROR(VLOOKUP(A20,'KLP1'!$C$1:$I$108,7,0),IFERROR(VLOOKUP(B20,'KLP1'!$D$1:$I$108,6,0),"")) | J20: =IFERROR(VLOOKUP(A20,'KLP2'!$C$1:$I$108,7,0),IFERROR(VLOOKUP(B20,'KLP2'!$D$1:$I$108,6,0),"")) | K20: =IFERROR(VLOOKUP(A20,'DM1'!$C$1:$I$108,7,0),IFERROR(VLOOKUP(B20,'DM1'!$D$1:$I$108,6,0),"")) | L20: =IFERROR(VLOOKUP(A20,'DM2'!$C$1:$I$108,7,0),IFERROR(VLOOKUP(B20,'DM2'!$D$1:$I$108,6,0),"")) | M20: =IFERROR(VLOOKUP(A20,'SPF1'!$C$1:$I$108,7,0),IFERROR(VLOOKUP(B20,'SPF1'!$D$1:$I$108,6,0),"")) | N20: =IFERROR(VLOOKUP(A20,'SPF2'!$C$1:$I$108,7,0),IFERROR(VLOOKUP(B20,'SPF2'!$D$1:$I$108,6,0),"")) | O20: =SUM(I20:N20) -> 0 | P20: =IFERROR(LARGE(I20:N20,1),"0")+IFERROR(LARGE(I20:N20,2),"0")+IFERROR(LARGE(I20:N20,3),"0")+IFERROR(LARGE(I20:N20,4),"0") -> 0 | Q20: =(IFERROR(LARGE(I20:N20,1),"0")+IFERROR(LARGE(I20:N20,2),"0")+IFERROR(LARGE(I20:N20,3),"0"))/3 -> 0 | S20: =IFERROR(VLOOKUP(A20,DMSBX1!$C$1:$I$108,7,0),IFERROR(VLOOKUP(B20,DMSBX1!$D$1:$I$108,6,0),"")) -> 31.5 | T20: =IFERROR(VLOOKUP(A20,DMSBX2!$C$1:$I$101,7,0),IFERROR(VLOOKUP(B20,DMSBX2!$D$1:$I$101,6,0),"")) -> 42 | U20: =IFERROR(VLOOKUP(B20,'SP1'!$D$1:$I$107,6,0),"") | V20: =IFERROR(VLOOKUP(B20,'SP2'!$D$1:$I$107,6,0),"") | W20: =IFERROR(IF(B20<>0,VLOOKUP(B20,KLSBX1!$D$2:$I$120,6,FALSE()),NA()),IFERROR(IF(A20<>0,VLOOKUP(A20,KLSBX1!$C$2:$I$120,7,FALSE()),NA()),"")) | X20: =IFERROR(IF(B20<>0,VLOOKUP(B20,KLSBX2!$D$2:$I$120,6,FALSE()),NA()),IFERROR(IF(A20<>0,VLOOKUP(A20,KLSBX2!$C$2:$I$120,7,FALSE()),NA()),"")) | Y20: =IFERROR(IF(B20<>0,VLOOKUP(B20,DMSBXNC!$D$2:$I$420,6,FALSE()),NA()),IFERROR(IF(A20<>0,VLOOKUP(A20,DMSBXNC!$C$2:$I$420,7,FALSE()),NA()),"")) -> 80 | Z20: =IFERROR(IF(B20<>0,VLOOKUP(B20,DMSBX1_3!$D$2:$I$420,6,FALSE()),NA()),IFERROR(IF(A20<>0,VLOOKUP(A20,DMSBX1_3!$C$2:$I$420,7,FALSE()),NA()),"")) -> 60 | AA20: =IFERROR(IF(B20<>0,VLOOKUP(B20,'KLS1'!$D$2:$I$420,6,FALSE()),NA()),IFERROR(IF(A20<>0,VLOOKUP(A20,'KLS1'!$C$2:$I$420,7,FALSE()),NA()),"")) | AB20: =IFERROR(IF(B20<>0,VLOOKUP(B20,'KLS2'!$D$2:$I$426,6,FALSE()),NA()),IFERROR(IF(A20<>0,VLOOKUP(A20,'KLS2'!$C$2:$I$426,7,FALSE()),NA()),"")) | AC20: =SUM(S20:AB20) -> 213.5 | AD20: =(IFERROR(LARGE(S20:AB20,1),"0")+IFERROR(LARGE(S20:AB20,2),"0")+IFERROR(LARGE(S20:AB20,3),"0")+IFERROR(LARGE(S20:AB20,4),"0")+IFERROR(LARGE(S20:AB20,5),"0")+IFERROR(LARGE(S20:AB20,6),"0")+IFERROR(LARGE(S20:AB20,7),"0")+IFERROR(LARGE(S20:AB20,8),"0")) -> 213.5 | AE20: =(IFERROR(LARGE(S20:AB20,1),"0")+IFERROR(LARGE(S20:AB20,2),"0")+IFERROR(LARGE(S20:AB20,3),"0"))/3 -> 60.666667 | AG20: =IFERROR(VLOOKUP(B20,FS!$A$2:$N$78,6,FALSE),"") -> 60 | AI20: =IFERROR(VLOOKUP(B20,FS!$A$2:$N$78,8,FALSE),"") -> 40 | AJ20: =IFERROR(VLOOKUP(B20,FS!$A$2:$N$78,9,FALSE),"") -> 80 | AK20: =IFERROR(VLOOKUP(B20,FS!$A$2:$N$78,10,FALSE),"") -> 48 | AL20: =IFERROR(VLOOKUP(B20,FS!$A$2:$N$78,11,FALSE),"") -> 48 | AM20: =IFERROR(VLOOKUP(B20,FS!$A$2:$N$78,12,FALSE),"") -> 64 | AN20: =IFERROR(VLOOKUP(B20,FS!$A$2:$N$78,13,FALSE),"") -> 40 | AO20: =SUM(AG20:AN20) -> 380 | AP20: =(IFERROR(LARGE(AG20:AN20,1),"0")+IFERROR(LARGE(AG20:AN20,2),"0")+IFERROR(LARGE(AG20:AN20,3),"0")+IFERROR(LARGE(AG20:AN20,4),"0")+IFERROR(LARGE(AG20:AN20,5),"0")) -> 300 | AQ20: =(IFERROR(LARGE(AG20:AN20,1),"0")+IFERROR(LARGE(AG20:AN20,2),"0")+IFERROR(LARGE(AG20:AN20,3),"0"))/3 -> 68 | AR20: =Q20+AE20+AQ20 -> 128.66667 | AS20: =(IF(Q20>0,1,0))+(IF(AE20>0,1,0))+(IF(AQ20>0,1,0)) -> 2 | AT20: =COUNTIF(I20:N20,">"&0)+COUNTIF(S20:AB20,">"&0)+COUNTIF(AG20:AN20,">"&0) -> 11
B21: 778958 | C21: Paulíček Jonáš | D21: 2017 | E21: CZE | F21: =IFERROR(VLOOKUP(B21,SVEXP!$A$2:$F$6577,6,FALSE),"") -> SA Špindlerův Mlýn | G21: =IFERROR(VLOOKUP(B21,SVEXP!$A$2:$E$6577,5,FALSE),"") -> Královéhradecký kraj | H21: M | I21: =IFERROR(VLOOKUP(#REF!,'KLP1'!$C$1:$I$108,7,0),IFERROR(VLOOKUP(A21,'KLP1'!$D$1:$I$108,6,0),"")) | J21: =IFERROR(VLOOKUP(#REF!,'KLP2'!$C$1:$I$108,7,0),IFERROR(VLOOKUP(A21,'KLP2'!$D$1:$I$108,6,0),"")) | K21: =IFERROR(VLOOKUP(#REF!,'DM1'!$C$1:$I$108,7,0),IFERROR(VLOOKUP(A21,'DM1'!$D$1:$I$108,6,0),"")) | L21: =IFERROR(VLOOKUP(#REF!,'DM2'!$C$1:$I$108,7,0),IFERROR(VLOOKUP(A21,'DM2'!$D$1:$I$108,6,0),"")) | M21: =IFERROR(VLOOKUP(A21,'SPF1'!$C$1:$I$108,7,0),IFERROR(VLOOKUP(B21,'SPF1'!$D$1:$I$108,6,0),"")) -> 45 | N21: =IFERROR(VLOOKUP(A21,'SPF2'!$C$1:$I$108,7,0),IFERROR(VLOOKUP(B21,'SPF2'!$D$1:$I$108,6,0),"")) | O21: =SUM(I21:N21) -> 45 | P21: =IFERROR(LARGE(I21:N21,1),"0")+IFERROR(LARGE(I21:N21,2),"0")+IFERROR(LARGE(I21:N21,3),"0")+IFERROR(LARGE(I21:N21,4),"0") -> 45 | Q21: =(IFERROR(LARGE(I21:N21,1),"0")+IFERROR(LARGE(I21:N21,2),"0")+IFERROR(LARGE(I21:N21,3),"0"))/3 -> 15 | S21: =IFERROR(VLOOKUP(A21,DMSBX1!$C$1:$I$108,7,0),IFERROR(VLOOKUP(B21,DMSBX1!$D$1:$I$108,6,0),"")) | U21: =IFERROR(VLOOKUP(B21,'SP1'!$D$1:$I$107,6,0),"") | V21: =IFERROR(VLOOKUP(B21,'SP2'!$D$1:$I$107,6,0),"") | W21: =IFERROR(IF(B21<>0,VLOOKUP(B21,KLSBX1!$D$2:$I$120,6,FALSE()),NA()),IFERROR(IF(A21<>0,VLOOKUP(A21,KLSBX1!$C$2:$I$120,7,FALSE()),NA()),"")) | X21: =IFERROR(IF(B21<>0,VLOOKUP(B21,KLSBX2!$D$2:$I$120,6,FALSE()),NA()),IFERROR(IF(A21<>0,VLOOKUP(A21,KLSBX2!$C$2:$I$120,7,FALSE()),NA()),"")) | Y21: =IFERROR(IF(B21<>0,VLOOKUP(B21,DMSBXNC!$D$2:$I$420,6,FALSE()),NA()),IFERROR(IF(A21<>0,VLOOKUP(A21,DMSBXNC!$C$2:$I$420,7,FALSE()),NA()),"")) | Z21: =IFERROR(IF(B21<>0,VLOOKUP(B21,DMSBX1_3!$D$2:$I$420,6,FALSE()),NA()),IFERROR(IF(A21<>0,VLOOKUP(A21,DMSBX1_3!$C$2:$I$420,7,FALSE()),NA()),"")) | AA21: =IFERROR(IF(B21<>0,VLOOKUP(B21,'KLS1'!$D$2:$I$420,6,FALSE()),NA()),IFERROR(IF(A21<>0,VLOOKUP(A21,'KLS1'!$C$2:$I$420,7,FALSE()),NA()),"")) | AB21: =IFERROR(IF(B21<>0,VLOOKUP(B21,'KLS2'!$D$2:$I$426,6,FALSE()),NA()),IFERROR(IF(A21<>0,VLOOKUP(A21,'KLS2'!$C$2:$I$426,7,FALSE()),NA()),"")) | AC21: =SUM(S21:AB21) -> 0 | AD21: =(IFERROR(LARGE(S21:AB21,1),"0")+IFERROR(LARGE(S21:AB21,2),"0")+IFERROR(LARGE(S21:AB21,3),"0")+IFERROR(LARGE(S21:AB21,4),"0")+IFERROR(LARGE(S21:AB21,5),"0")+IFERROR(LARGE(S21:AB21,6),"0")+IFERROR(LARGE(S21:AB21,7),"0")+IFERROR(LARGE(S21:AB21,8),"0")) -> 0 | AE21: =(IFERROR(LARGE(S21:AB21,1),"0")+IFERROR(LARGE(S21:AB21,2),"0")+IFERROR(LARGE(S21:AB21,3),"0"))/3 -> 0 | AJ21: =IFERROR(VLOOKUP(B21,FS!$A$2:$N$78,9,FALSE),"") -> 40 | AM21: =IFERROR(VLOOKUP(B21,FS!$A$2:$N$78,12,FALSE),"") -> 32 | AO21: =SUM(AG21:AN21) -> 72 | AP21: =(IFERROR(LARGE(AG21:AN21,1),"0")+IFERROR(LARGE(AG21:AN21,2),"0")+IFERROR(LARGE(AG21:AN21,3),"0")+IFERROR(LARGE(AG21:AN21,4),"0")+IFERROR(LARGE(AG21:AN21,5),"0")) -> 72 | AQ21: =(IFERROR(LARGE(AG21:AN21,1),"0")+IFERROR(LARGE(AG21:AN21,2),"0")+IFERROR(LARGE(AG21:AN21,3),"0"))/3 -> 24 | AR21: =Q21+AE21+AQ21 -> 39 | AS21: =(IF(Q21>0,1,0))+(IF(AE21>0,1,0))+(IF(AQ21>0,1,0)) -> 2 | AT21: =COUNTIF(I21:N21,">"&0)+COUNTIF(S21:AB21,">"&0)+COUNTIF(AG21:AN21,">"&0) -> 3
A22: 9150410 | B22: 777682 | C22: NOVAK Petr | D22: 1982 | E22: CZE | F22: =IFERROR(VLOOKUP(B22,SVEXP!$A$2:$F$6577,6,FALSE),"") -> Neregistrovaní | G22: =IFERROR(VLOOKUP(B22,SVEXP!$A$2:$E$6577,5,FALSE),"") -> Hlavní město Praha | H22: M | I22: =IFERROR(VLOOKUP(A22,'KLP1'!$C$1:$I$108,7,0),IFERROR(VLOOKUP(B22,'KLP1'!$D$1:$I$108,6,0),"")) | J22: =IFERROR(VLOOKUP(A22,'KLP2'!$C$1:$I$108,7,0),IFERROR(VLOOKUP(B22,'KLP2'!$D$1:$I$108,6,0),"")) | K22: =IFERROR(VLOOKUP(A22,'DM1'!$C$1:$I$108,7,0),IFERROR(VLOOKUP(B22,'DM1'!$D$1:$I$108,6,0),"")) | L22: =IFERROR(VLOOKUP(A22,'DM2'!$C$1:$I$108,7,0),IFERROR(VLOOKUP(B22,'DM2'!$D$1:$I$108,6,0),"")) | M22: =IFERROR(VLOOKUP(A22,'SPF1'!$C$1:$I$108,7,0),IFERROR(VLOOKUP(B22,'SPF1'!$D$1:$I$108,6,0),"")) | N22: =IFERROR(VLOOKUP(A22,'SPF2'!$C$1:$I$108,7,0),IFERROR(VLOOKUP(B22,'SPF2'!$D$1:$I$108,6,0),"")) | O22: =SUM(I22:N22) -> 0 | P22: =IFERROR(LARGE(I22:N22,1),"0")+IFERROR(LARGE(I22:N22,2),"0")+IFERROR(LARGE(I22:N22,3),"0")+IFERROR(LARGE(I22:N22,4),"0") -> 0 | Q22: =(IFERROR(LARGE(I22:N22,1),"0")+IFERROR(LARGE(I22:N22,2),"0")+IFERROR(LARGE(I22:N22,3),"0"))/3 -> 0 | S22: =IFERROR(VLOOKUP(A22,DMSBX1!$C$1:$I$108,7,0),IFERROR(VLOOKUP(B22,DMSBX1!$D$1:$I$108,6,0),"")) | T22: =IFERROR(VLOOKUP(A22,DMSBX2!$C$1:$I$101,7,0),IFERROR(VLOOKUP(B22,DMSBX2!$D$1:$I$101,6,0),"")) | U22: =IFERROR(VLOOKUP(B22,'SP1'!$D$1:$I$107,6,0),"") | V22: =IFERROR(VLOOKUP(B22,'SP2'!$D$1:$I$107,6,0),"") | W22: =IFERROR(IF(B22<>0,VLOOKUP(B22,KLSBX1!$D$2:$I$120,6,FALSE()),NA()),IFERROR(IF(A22<>0,VLOOKUP(A22,KLSBX1!$C$2:$I$120,7,FALSE()),NA()),"")) | X22: =IFERROR(IF(B22<>0,VLOOKUP(B22,KLSBX2!$D$2:$I$120,6,FALSE()),NA()),IFERROR(IF(A22<>0,VLOOKUP(A22,KLSBX2!$C$2:$I$120,7,FALSE()),NA()),"")) | Y22: =IFERROR(IF(B22<>0,VLOOKUP(B22,DMSBXNC!$D$2:$I$420,6,FALSE()),NA()),IFERROR(IF(A22<>0,VLOOKUP(A22,DMSBXNC!$C$2:$I$420,7,FALSE()),NA()),"")) | Z22: =IFERROR(IF(B22<>0,VLOOKUP(B22,DMSBX1_3!$D$2:$I$420,6,FALSE()),NA()),IFERROR(IF(A22<>0,VLOOKUP(A22,DMSBX1_3!$C$2:$I$420,7,FALSE()),NA()),"")) | AA22: =IFERROR(IF(B22<>0,VLOOKUP(B22,'KLS1'!$D$2:$I$420,6,FALSE()),NA()),IFERROR(IF(A22<>0,VLOOKUP(A22,'KLS1'!$C$2:$I$420,7,FALSE()),NA()),"")) | AB22: =IFERROR(IF(B22<>0,VLOOKUP(B22,'KLS2'!$D$2:$I$426,6,FALSE()),NA()),IFERROR(IF(A22<>0,VLOOKUP(A22,'KLS2'!$C$2:$I$426,7,FALSE()),NA()),"")) | AC22: =SUM(S22:AB22) -> 0 | AD22: =(IFERROR(LARGE(S22:AB22,1),"0")+IFERROR(LARGE(S22:AB22,2),"0")+IFERROR(LARGE(S22:AB22,3),"0")+IFERROR(LARGE(S22:AB22,4),"0")+IFERROR(LARGE(S22:AB22,5),"0")+IFERROR(LARGE(S22:AB22,6),"0")+IFERROR(LARGE(S22:AB22,7),"0")+IFERROR(LARGE(S22:AB22,8),"0")) -> 0 | AE22: =(IFERROR(LARGE(S22:AB22,1),"0")+IFERROR(LARGE(S22:AB22,2),"0")+IFERROR(LARGE(S22:AB22,3),"0"))/3 -> 0 | AG22: =IFERROR(VLOOKUP(B22,FS!$A$2:$N$78,6,FALSE),"") | AH22: =IFERROR(VLOOKUP(B22,FS!$A$2:$N$78,7,FALSE),"") | AI22: =IFERROR(VLOOKUP(B22,FS!$A$2:$N$78,8,FALSE),"") | AJ22: =IFERROR(VLOOKUP(B22,FS!$A$2:$N$78,9,FALSE),"") | AK22: =IFERROR(VLOOKUP(B22,FS!$A$2:$N$78,10,FALSE),"") | AL22: =IFERROR(VLOOKUP(B22,FS!$A$2:$N$78,11,FALSE),"") | AM22: =IFERROR(VLOOKUP(B22,FS!$A$2:$N$78,12,FALSE),"") | AN22: =IFERROR(VLOOKUP(B22,FS!$A$2:$N$78,13,FALSE),"") | AO22: =SUM(AG22:AN22) -> 0 | AP22: =(IFERROR(LARGE(AG22:AN22,1),"0")+IFERROR(LARGE(AG22:AN22,2),"0")+IFERROR(LARGE(AG22:AN22,3),"0")+IFERROR(LARGE(AG22:AN22,4),"0")+IFERROR(LARGE(AG22:AN22,5),"0")) -> 0 | AQ22: =(IFERROR(LARGE(AG22:AN22,1),"0")+IFERROR(LARGE(AG22:AN22,2),"0")+IFERROR(LARGE(AG22:AN22,3),"0"))/3 -> 0 | AR22: =Q22+AE22+AQ22 -> 0 | AS22: =(IF(Q22>0,1,0))+(IF(AE22>0,1,0))+(IF(AQ22>0,1,0)) -> 0
A23: 9150365 | B23: 773709 | C23: Novosad Tomas | D23: 1982 | E23: CZE | F23: =IFERROR(VLOOKUP(B23,SVEXP!$A$2:$F$6577,6,FALSE),"") -> Neregistrovaní | G23: =IFERROR(VLOOKUP(B23,SVEXP!$A$2:$E$6577,5,FALSE),"") -> Středočeský kraj | H23: M | I23: =IFERROR(VLOOKUP(A23,'KLP1'!$C$1:$I$108,7,0),IFERROR(VLOOKUP(B23,'KLP1'!$D$1:$I$108,6,0),"")) | J23: =IFERROR(VLOOKUP(A23,'KLP2'!$C$1:$I$108,7,0),IFERROR(VLOOKUP(B23,'KLP2'!$D$1:$I$108,6,0),"")) | K23: =IFERROR(VLOOKUP(A23,'DM1'!$C$1:$I$108,7,0),IFERROR(VLOOKUP(B23,'DM1'!$D$1:$I$108,6,0),"")) | L23: =IFERROR(VLOOKUP(A23,'DM2'!$C$1:$I$108,7,0),IFERROR(VLOOKUP(B23,'DM2'!$D$1:$I$108,6,0),"")) | M23: =IFERROR(VLOOKUP(A23,'SPF1'!$C$1:$I$108,7,0),IFERROR(VLOOKUP(B23,'SPF1'!$D$1:$I$108,6,0),"")) | N23: =IFERROR(VLOOKUP(A23,'SPF2'!$C$1:$I$108,7,0),IFERROR(VLOOKUP(B23,'SPF2'!$D$1:$I$108,6,0),"")) | O23: =SUM(I23:N23) -> 0 | P23: =IFERROR(LARGE(I23:N23,1),"0")+IFERROR(LARGE(I23:N23,2),"0")+IFERROR(LARGE(I23:N23,3),"0")+IFERROR(LARGE(I23:N23,4),"0") -> 0 | Q23: =(IFERROR(LARGE(I23:N23,1),"0")+IFERROR(LARGE(I23:N23,2),"0")+IFERROR(LARGE(I23:N23,3),"0"))/3 -> 0 | S23: =IFERROR(VLOOKUP(A23,DMSBX1!$C$1:$I$108,7,0),IFERROR(VLOOKUP(B23,DMSBX1!$D$1:$I$108,6,0),"")) | T23: =IFERROR(VLOOKUP(A23,DMSBX2!$C$1:$I$101,7,0),IFERROR(VLOOKUP(B23,DMSBX2!$D$1:$I$101,6,0),"")) | U23: =IFERROR(VLOOKUP(B23,'SP1'!$D$1:$I$107,6,0),"") | V23: =IFERROR(VLOOKUP(B23,'SP2'!$D$1:$I$107,6,0),"") | W23: =IFERROR(IF(B23<>0,VLOOKUP(B23,KLSBX1!$D$2:$I$120,6,FALSE()),NA()),IFERROR(IF(A23<>0,VLOOKUP(A23,KLSBX1!$C$2:$I$120,7,FALSE()),NA()),"")) | X23: =IFERROR(IF(B23<>0,VLOOKUP(B23,KLSBX2!$D$2:$I$120,6,FALSE()),NA()),IFERROR(IF(A23<>0,VLOOKUP(A23,KLSBX2!$C$2:$I$120,7,FALSE()),NA()),"")) | Y23: =IFERROR(IF(B23<>0,VLOOKUP(B23,DMSBXNC!$D$2:$I$420,6,FALSE()),NA()),IFERROR(IF(A23<>0,VLOOKUP(A23,DMSBXNC!$C$2:$I$420,7,FALSE()),NA()),"")) | Z23: =IFERROR(IF(B23<>0,VLOOKUP(B23,DMSBX1_3!$D$2:$I$420,6,FALSE()),NA()),IFERROR(IF(A23<>0,VLOOKUP(A23,DMSBX1_3!$C$2:$I$420,7,FALSE()),NA()),"")) | AA23: =IFERROR(IF(B23<>0,VLOOKUP(B23,'KLS1'!$D$2:$I$420,6,FALSE()),NA()),IFERROR(IF(A23<>0,VLOOKUP(A23,'KLS1'!$C$2:$I$420,7,FALSE()),NA()),"")) | AB23: =IFERROR(IF(B23<>0,VLOOKUP(B23,'KLS2'!$D$2:$I$426,6,FALSE()),NA()),IFERROR(IF(A23<>0,VLOOKUP(A23,'KLS2'!$C$2:$I$426,7,FALSE()),NA()),"")) | AC23: =SUM(S23:AB23) -> 0 | AD23: =(IFERROR(LARGE(S23:AB23,1),"0")+IFERROR(LARGE(S23:AB23,2),"0")+IFERROR(LARGE(S23:AB23,3),"0")+IFERROR(LARGE(S23:AB23,4),"0")+IFERROR(LARGE(S23:AB23,5),"0")+IFERROR(LARGE(S23:AB23,6),"0")+IFERROR(LARGE(S23:AB23,7),"0")+IFERROR(LARGE(S23:AB23,8),"0")) -> 0 | AE23: =(IFERROR(LARGE(S23:AB23,1),"0")+IFERROR(LARGE(S23:AB23,2),"0")+IFERROR(LARGE(S23:AB23,3),"0"))/3 -> 0 | AG23: =IFERROR(VLOOKUP(B23,FS!$A$2:$N$78,6,FALSE),"") | AH23: =IFERROR(VLOOKUP(B23,FS!$A$2:$N$78,7,FALSE),"") | AI23: =IFERROR(VLOOKUP(B23,FS!$A$2:$N$78,8,FALSE),"") | AJ23: =IFERROR(VLOOKUP(B23,FS!$A$2:$N$78,9,FALSE),"") | AK23: =IFERROR(VLOOKUP(B23,FS!$A$2:$N$78,10,FALSE),"") | AL23: =IFERROR(VLOOKUP(B23,FS!$A$2:$N$78,11,FALSE),"") | AM23: =IFERROR(VLOOKUP(B23,FS!$A$2:$N$78,12,FALSE),"") | AN23: =IFERROR(VLOOKUP(B23,FS!$A$2:$N$78,13,FALSE),"") | AO23: =SUM(AG23:AN23) -> 0 | AP23: =(IFERROR(LARGE(AG23:AN23,1),"0")+IFERROR(LARGE(AG23:AN23,2),"0")+IFERROR(LARGE(AG23:AN23,3),"0")+IFERROR(LARGE(AG23:AN23,4),"0")+IFERROR(LARGE(AG23:AN23,5),"0")) -> 0 | AQ23: =(IFERROR(LARGE(AG23:AN23,1),"0")+IFERROR(LARGE(AG23:AN23,2),"0")+IFERROR(LARGE(AG23:AN23,3),"0"))/3 -> 0 | AR23: =Q23+AE23+AQ23 -> 0 | AS23: =(IF(Q23>0,1,0))+(IF(AE23>0,1,0))+(IF(AQ23>0,1,0)) -> 0
B24: 778241 | C24: Kouřil Darek | D24: 2017 | E24: CZE | F24: =IFERROR(VLOOKUP(B24,SVEXP!$A$2:$F$6577,6,FALSE),"") -> SA Špindlerův Mlýn | G24: =IFERROR(VLOOKUP(B24,SVEXP!$A$2:$E$6577,5,FALSE),"") -> Královéhradecký kraj | H24: M | I24: =IFERROR(VLOOKUP(#REF!,'KLP1'!$C$1:$I$108,7,0),IFERROR(VLOOKUP(A24,'KLP1'!$D$1:$I$108,6,0),"")) | J24: =IFERROR(VLOOKUP(#REF!,'KLP2'!$C$1:$I$108,7,0),IFERROR(VLOOKUP(A24,'KLP2'!$D$1:$I$108,6,0),"")) | K24: =IFERROR(VLOOKUP(#REF!,'DM1'!$C$1:$I$108,7,0),IFERROR(VLOOKUP(A24,'DM1'!$D$1:$I$108,6,0),"")) | L24: =IFERROR(VLOOKUP(#REF!,'DM2'!$C$1:$I$108,7,0),IFERROR(VLOOKUP(A24,'DM2'!$D$1:$I$108,6,0),"")) | M24: =IFERROR(VLOOKUP(A24,'SPF1'!$C$1:$I$108,7,0),IFERROR(VLOOKUP(B24,'SPF1'!$D$1:$I$108,6,0),"")) -> 50 | N24: =IFERROR(VLOOKUP(A24,'SPF2'!$C$1:$I$108,7,0),IFERROR(VLOOKUP(B24,'SPF2'!$D$1:$I$108,6,0),"")) | O24: =SUM(I24:N24) -> 50 | P24: =IFERROR(LARGE(I24:N24,1),"0")+IFERROR(LARGE(I24:N24,2),"0")+IFERROR(LARGE(I24:N24,3),"0")+IFERROR(LARGE(I24:N24,4),"0") -> 50 | Q24: =(IFERROR(LARGE(I24:N24,1),"0")+IFERROR(LARGE(I24:N24,2),"0")+IFERROR(LARGE(I24:N24,3),"0"))/3 -> 16.666667 | S24: =IFERROR(VLOOKUP(A24,DMSBX1!$C$1:$I$108,7,0),IFERROR(VLOOKUP(B24,DMSBX1!$D$1:$I$108,6,0),"")) | U24: =IFERROR(VLOOKUP(B24,'SP1'!$D$1:$I$107,6,0),"") | V24: =IFERROR(VLOOKUP(B24,'SP2'!$D$1:$I$107,6,0),"") | W24: =IFERROR(IF(B24<>0,VLOOKUP(B24,KLSBX1!$D$2:$I$120,6,FALSE()),NA()),IFERROR(IF(A24<>0,VLOOKUP(A24,KLSBX1!$C$2:$I$120,7,FALSE()),NA()),"")) | X24: =IFERROR(IF(B24<>0,VLOOKUP(B24,KLSBX2!$D$2:$I$120,6,FALSE()),NA()),IFERROR(IF(A24<>0,VLOOKUP(A24,KLSBX2!$C$2:$I$120,7,FALSE()),NA()),"")) | Y24: =IFERROR(IF(B24<>0,VLOOKUP(B24,DMSBXNC!$D$2:$I$420,6,FALSE()),NA()),IFERROR(IF(A24<>0,VLOOKUP(A24,DMSBXNC!$C$2:$I$420,7,FALSE()),NA()),"")) | Z24: =IFERROR(IF(B24<>0,VLOOKUP(B24,DMSBX1_3!$D$2:$I$420,6,FALSE()),NA()),IFERROR(IF(A24<>0,VLOOKUP(A24,DMSBX1_3!$C$2:$I$420,7,FALSE()),NA()),"")) | AA24: =IFERROR(IF(B24<>0,VLOOKUP(B24,'KLS1'!$D$2:$I$420,6,FALSE()),NA()),IFERROR(IF(A24<>0,VLOOKUP(A24,'KLS1'!$C$2:$I$420,7,FALSE()),NA()),"")) | AB24: =IFERROR(IF(B24<>0,VLOOKUP(B24,'KLS2'!$D$2:$I$426,6,FALSE()),NA()),IFERROR(IF(A24<>0,VLOOKUP(A24,'KLS2'!$C$2:$I$426,7,FALSE()),NA()),"")) | AC24: =SUM(S24:AB24) -> 0 | AD24: =(IFERROR(LARGE(S24:AB24,1),"0")+IFERROR(LARGE(S24:AB24,2),"0")+IFERROR(LARGE(S24:AB24,3),"0")+IFERROR(LARGE(S24:AB24,4),"0")+IFERROR(LARGE(S24:AB24,5),"0")+IFERROR(LARGE(S24:AB24,6),"0")+IFERROR(LARGE(S24:AB24,7),"0")+IFERROR(LARGE(S24:AB24,8),"0")) -> 0 | AE24: =(IFERROR(LARGE(S24:AB24,1),"0")+IFERROR(LARGE(S24:AB24,2),"0")+IFERROR(LARGE(S24:AB24,3),"0"))/3 -> 0 | AJ24: =IFERROR(VLOOKUP(B24,FS!$A$2:$N$78,9,FALSE),"") -> 29 | AM24: =IFERROR(VLOOKUP(B24,FS!$A$2:$N$78,12,FALSE),"") -> 36 | AO24: =SUM(AG24:AN24) -> 65 | AP24: =(IFERROR(LARGE(AG24:AN24,1),"0")+IFERROR(LARGE(AG24:AN24,2),"0")+IFERROR(LARGE(AG24:AN24,3),"0")+IFERROR(LARGE(AG24:AN24,4),"0")+IFERROR(LARGE(AG24:AN24,5),"0")) -> 65 | AQ24: =(IFERROR(LARGE(AG24:AN24,1),"0")+IFERROR(LARGE(AG24:AN24,2),"0")+IFERROR(LARGE(AG24:AN24,3),"0"))/3 -> 21.666667 | AR24: =Q24+AE24+AQ24 -> 38.333333 | AS24: =(IF(Q24>0,1,0))+(IF(AE24>0,1,0))+(IF(AQ24>0,1,0)) -> 2 | AT24: =COUNTIF(I24:N24,">"&0)+COUNTIF(S24:AB24,">"&0)+COUNTIF(AG24:AN24,">"&0) -> 3
B25: 779158 | C25: Pospisil Jáchym | D25: 2017 | E25: CZE | F25: =IFERROR(VLOOKUP(B25,SVEXP!$A$2:$F$6577,6,FALSE),"") -> Snow Rockets | G25: =IFERROR(VLOOKUP(B25,SVEXP!$A$2:$E$6577,5,FALSE),"") -> Královéhradecký kraj | H25: M | M25: =IFERROR(VLOOKUP(A25,'SPF1'!$C$1:$I$108,7,0),IFERROR(VLOOKUP(B25,'SPF1'!$D$1:$I$108,6,0),"")) | N25: =IFERROR(VLOOKUP(A25,'SPF2'!$C$1:$I$108,7,0),IFERROR(VLOOKUP(B25,'SPF2'!$D$1:$I$108,6,0),"")) | O25: =SUM(I25:N25) -> 0 | P25: =IFERROR(LARGE(I25:N25,1),"0")+IFERROR(LARGE(I25:N25,2),"0")+IFERROR(LARGE(I25:N25,3),"0")+IFERROR(LARGE(I25:N25,4),"0") -> 0 | Q25: =(IFERROR(LARGE(I25:N25,1),"0")+IFERROR(LARGE(I25:N25,2),"0")+IFERROR(LARGE(I25:N25,3),"0"))/3 -> 0 | S25: =IFERROR(VLOOKUP(A25,DMSBX1!$C$1:$I$108,7,0),IFERROR(VLOOKUP(B25,DMSBX1!$D$1:$I$108,6,0),"")) | U25: =IFERROR(VLOOKUP(B25,'SP1'!$D$1:$I$107,6,0),"") | V25: =IFERROR(VLOOKUP(B25,'SP2'!$D$1:$I$107,6,0),"") | W25: =IFERROR(IF(B25<>0,VLOOKUP(B25,KLSBX1!$D$2:$I$120,6,FALSE()),NA()),IFERROR(IF(A25<>0,VLOOKUP(A25,KLSBX1!$C$2:$I$120,7,FALSE()),NA()),"")) | X25: =IFERROR(IF(B25<>0,VLOOKUP(B25,KLSBX2!$D$2:$I$120,6,FALSE()),NA()),IFERROR(IF(A25<>0,VLOOKUP(A25,KLSBX2!$C$2:$I$120,7,FALSE()),NA()),"")) | Y25: =IFERROR(IF(B25<>0,VLOOKUP(B25,DMSBXNC!$D$2:$I$420,6,FALSE()),NA()),IFERROR(IF(A25<>0,VLOOKUP(A25,DMSBXNC!$C$2:$I$420,7,FALSE()),NA()),"")) -> 29 | Z25: =IFERROR(IF(B25<>0,VLOOKUP(B25,DMSBX1_3!$D$2:$I$420,6,FALSE()),NA()),IFERROR(IF(A25<>0,VLOOKUP(A25,DMSBX1_3!$C$2:$I$420,7,FALSE()),NA()),"")) -> 36 | AA25: =IFERROR(IF(B25<>0,VLOOKUP(B25,'KLS1'!$D$2:$I$420,6,FALSE()),NA()),IFERROR(IF(A25<>0,VLOOKUP(A25,'KLS1'!$C$2:$I$420,7,FALSE()),NA()),"")) | AB25: =IFERROR(IF(B25<>0,VLOOKUP(B25,'KLS2'!$D$2:$I$426,6,FALSE()),NA()),IFERROR(IF(A25<>0,VLOOKUP(A25,'KLS2'!$C$2:$I$426,7,FALSE()),NA()),"")) | AC25: =SUM(S25:AB25) -> 65 | AD25: =(IFERROR(LARGE(S25:AB25,1),"0")+IFERROR(LARGE(S25:AB25,2),"0")+IFERROR(LARGE(S25:AB25,3),"0")+IFERROR(LARGE(S25:AB25,4),"0")+IFERROR(LARGE(S25:AB25,5),"0")+IFERROR(LARGE(S25:AB25,6),"0")+IFERROR(LARGE(S25:AB25,7),"0")+IFERROR(LARGE(S25:AB25,8),"0")) -> 65 | AE25: =(IFERROR(LARGE(S25:AB25,1),"0")+IFERROR(LARGE(S25:AB25,2),"0")+IFERROR(LARGE(S25:AB25,3),"0"))/3 -> 21.666667 | AG25: =IFERROR(VLOOKUP(B25,FS!$A$2:$N$78,6,FALSE),"") | AH25: =IFERROR(VLOOKUP(B25,FS!$A$2:$N$78,7,FALSE),"") | AI25: =IFERROR(VLOOKUP(B25,FS!$A$2:$N$78,8,FALSE),"") | AJ25: =IFERROR(VLOOKUP(B25,FS!$A$2:$N$78,9,FALSE),"") | AK25: =IFERROR(VLOOKUP(B25,FS!$A$2:$N$78,10,FALSE),"") | AL25: =IFERROR(VLOOKUP(B25,FS!$A$2:$N$78,11,FALSE),"") | AM25: =IFERROR(VLOOKUP(B25,FS!$A$2:$N$78,12,FALSE),"") | AN25: =IFERROR(VLOOKUP(B25,FS!$A$2:$N$78,13,FALSE),"") | AO25: =SUM(AG25:AN25) -> 0 | AP25: =(IFERROR(LARGE(AG25:AN25,1),"0")+IFERROR(LARGE(AG25:AN25,2),"0")+IFERROR(LARGE(AG25:AN25,3),"0")+IFERROR(LARGE(AG25:AN25,4),"0")+IFERROR(LARGE(AG25:AN25,5),"0")) -> 0 | AQ25: =(IFERROR(LARGE(AG25:AN25,1),"0")+IFERROR(LARGE(AG25:AN25,2),"0")+IFERROR(LARGE(AG25:AN25,3),"0"))/3 -> 0 | AR25: =Q25+AE25+AQ25 -> 21.666667 | AS25: =(IF(Q25>0,1,0))+(IF(AE25>0,1,0))+(IF(AQ25>0,1,0)) -> 1 | AT25: =COUNTIF(I25:N25,">"&0)+COUNTIF(S25:AB25,">"&0)+COUNTIF(AG25:AN25,">"&0) -> 2
B26: 778026 | C26: TROST Matěj | D26: 2017 | E26: CZE | F26: =IFERROR(VLOOKUP(B26,SVEXP!$A$2:$F$6577,6,FALSE),"") -> SNB Seveřani | G26: =IFERROR(VLOOKUP(B26,SVEXP!$A$2:$E$6577,5,FALSE),"") -> Liberecký kraj | H26: M | I26: =IFERROR(VLOOKUP(A26,'KLP1'!$C$1:$I$108,7,0),IFERROR(VLOOKUP(B26,'KLP1'!$D$1:$I$108,6,0),"")) | J26: =IFERROR(VLOOKUP(A26,'KLP2'!$C$1:$I$108,7,0),IFERROR(VLOOKUP(B26,'KLP2'!$D$1:$I$108,6,0),"")) | K26: =IFERROR(VLOOKUP(A26,'DM1'!$C$1:$I$108,7,0),IFERROR(VLOOKUP(B26,'DM1'!$D$1:$I$108,6,0),"")) | L26: =IFERROR(VLOOKUP(A26,'DM2'!$C$1:$I$108,7,0),IFERROR(VLOOKUP(B26,'DM2'!$D$1:$I$108,6,0),"")) | M26: =IFERROR(VLOOKUP(A26,'SPF1'!$C$1:$I$108,7,0),IFERROR(VLOOKUP(B26,'SPF1'!$D$1:$I$108,6,0),"")) -> 20 | N26: =IFERROR(VLOOKUP(A26,'SPF2'!$C$1:$I$108,7,0),IFERROR(VLOOKUP(B26,'SPF2'!$D$1:$I$108,6,0),"")) -> 25 | O26: =SUM(I26:N26) -> 45 | P26: =IFERROR(LARGE(I26:N26,1),"0")+IFERROR(LARGE(I26:N26,2),"0")+IFERROR(LARGE(I26:N26,3),"0")+IFERROR(LARGE(I26:N26,4),"0") -> 45 | Q26: =(IFERROR(LARGE(I26:N26,1),"0")+IFERROR(LARGE(I26:N26,2),"0")+IFERROR(LARGE(I26:N26,3),"0"))/3 -> 15 | S26: =IFERROR(VLOOKUP(A26,DMSBX1!$C$1:$I$108,7,0),IFERROR(VLOOKUP(B26,DMSBX1!$D$1:$I$108,6,0),"")) | T26: =IFERROR(VLOOKUP(A26,DMSBX2!$C$1:$I$101,7,0),IFERROR(VLOOKUP(B26,DMSBX2!$D$1:$I$101,6,0),"")) | U26: =IFERROR(VLOOKUP(B26,'SP1'!$D$1:$I$107,6,0),"") | V26: =IFERROR(VLOOKUP(B26,'SP2'!$D$1:$I$107,6,0),"") | W26: =IFERROR(IF(B26<>0,VLOOKUP(B26,KLSBX1!$D$2:$I$120,6,FALSE()),NA()),IFERROR(IF(A26<>0,VLOOKUP(A26,KLSBX1!$C$2:$I$120,7,FALSE()),NA()),"")) | X26: =IFERROR(IF(B26<>0,VLOOKUP(B26,KLSBX2!$D$2:$I$120,6,FALSE()),NA()),IFERROR(IF(A26<>0,VLOOKUP(A26,KLSBX2!$C$2:$I$120,7,FALSE()),NA()),"")) | Y26: =IFERROR(IF(B26<>0,VLOOKUP(B26,DMSBXNC!$D$2:$I$420,6,FALSE()),NA()),IFERROR(IF(A26<>0,VLOOKUP(A26,DMSBXNC!$C$2:$I$420,7,FALSE()),NA()),"")) | Z26: =IFERROR(IF(B26<>0,VLOOKUP(B26,DMSBX1_3!$D$2:$I$420,6,FALSE()),NA()),IFERROR(IF(A26<>0,VLOOKUP(A26,DMSBX1_3!$C$2:$I$420,7,FALSE()),NA()),"")) | AA26: =IFERROR(IF(B26<>0,VLOOKUP(B26,'KLS1'!$D$2:$I$420,6,FALSE()),NA()),IFERROR(IF(A26<>0,VLOOKUP(A26,'KLS1'!$C$2:$I$420,7,FALSE()),NA()),"")) | AB26: =IFERROR(IF(B26<>0,VLOOKUP(B26,'KLS2'!$D$2:$I$426,6,FALSE()),NA()),IFERROR(IF(A26<>0,VLOOKUP(A26,'KLS2'!$C$2:$I$426,7,FALSE()),NA()),"")) | AC26: =SUM(S26:AB26) -> 0 | AD26: =(IFERROR(LARGE(S26:AB26,1),"0")+IFERROR(LARGE(S26:AB26,2),"0")+IFERROR(LARGE(S26:AB26,3),"0")+IFERROR(LARGE(S26:AB26,4),"0")+IFERROR(LARGE(S26:AB26,5),"0")+IFERROR(LARGE(S26:AB26,6),"0")+IFERROR(LARGE(S26:AB26,7),"0")+IFERROR(LARGE(S26:AB26,8),"0")) -> 0 | AE26: =(IFERROR(LARGE(S26:AB26,1),"0")+IFERROR(LARGE(S26:AB26,2),"0")+IFERROR(LARGE(S26:AB26,3),"0"))/3 -> 0 | AG26: =IFERROR(VLOOKUP(B26,FS!$A$2:$N$78,6,FALSE),"") | AH26: =IFERROR(VLOOKUP(B26,FS!$A$2:$N$78,7,FALSE),"") | AI26: =IFERROR(VLOOKUP(B26,FS!$A$2:$N$78,8,FALSE),"") | AJ26: =IFERROR(VLOOKUP(B26,FS!$A$2:$N$78,9,FALSE),"") | AK26: =IFERROR(VLOOKUP(B26,FS!$A$2:$N$78,10,FALSE),"") | AL26: =IFERROR(VLOOKUP(B26,FS!$A$2:$N$78,11,FALSE),"") | AM26: =IFERROR(VLOOKUP(B26,FS!$A$2:$N$78,12,FALSE),"") | AN26: =IFERROR(VLOOKUP(B26,FS!$A$2:$N$78,13,FALSE),"") | AO26: =SUM(AG26:AN26) -> 0 | AP26: =(IFERROR(LARGE(AG26:AN26,1),"0")+IFERROR(LARGE(AG26:AN26,2),"0")+IFERROR(LARGE(AG26:AN26,3),"0")+IFERROR(LARGE(AG26:AN26,4),"0")+IFERROR(LARGE(AG26:AN26,5),"0")) -> 0 | AQ26: =(IFERROR(LARGE(AG26:AN26,1),"0")+IFERROR(LARGE(AG26:AN26,2),"0")+IFERROR(LARGE(AG26:AN26,3),"0"))/3 -> 0 | AR26: =Q26+AE26+AQ26 -> 15 | AS26: =(IF(Q26>0,1,0))+(IF(AE26>0,1,0))+(IF(AQ26>0,1,0)) -> 1 | AT26: =COUNTIF(I26:N26,">"&0)+COUNTIF(S26:AB26,">"&0)+COUNTIF(AG26:AN26,">"&0) -> 2
A27: 9150301 | B27: 774470 | C27: Knotek Frantisek | D27: 1984 | E27: CZE | F27: =IFERROR(VLOOKUP(B27,SVEXP!$A$2:$F$6577,6,FALSE),"") -> SA Špindlerův Mlýn | G27: =IFERROR(VLOOKUP(B27,SVEXP!$A$2:$E$6577,5,FALSE),"") -> 0 | H27: M | I27: =IFERROR(VLOOKUP(A27,'KLP1'!$C$1:$I$108,7,0),IFERROR(VLOOKUP(B27,'KLP1'!$D$1:$I$108,6,0),"")) | J27: =IFERROR(VLOOKUP(A27,'KLP2'!$C$1:$I$108,7,0),IFERROR(VLOOKUP(B27,'KLP2'!$D$1:$I$108,6,0),"")) | K27: =IFERROR(VLOOKUP(A27,'DM1'!$C$1:$I$108,7,0),IFERROR(VLOOKUP(B27,'DM1'!$D$1:$I$108,6,0),"")) | L27: =IFERROR(VLOOKUP(A27,'DM2'!$C$1:$I$108,7,0),IFERROR(VLOOKUP(B27,'DM2'!$D$1:$I$108,6,0),"")) | M27: =IFERROR(VLOOKUP(A27,'SPF1'!$C$1:$I$108,7,0),IFERROR(VLOOKUP(B27,'SPF1'!$D$1:$I$108,6,0),"")) | N27: =IFERROR(VLOOKUP(A27,'SPF2'!$C$1:$I$108,7,0),IFERROR(VLOOKUP(B27,'SPF2'!$D$1:$I$108,6,0),"")) | O27: =SUM(I27:N27) -> 0 | P27: =IFERROR(LARGE(I27:N27,1),"0")+IFERROR(LARGE(I27:N27,2),"0")+IFERROR(LARGE(I27:N27,3),"0")+IFERROR(LARGE(I27:N27,4),"0") -> 0 | Q27: =(IFERROR(LARGE(I27:N27,1),"0")+IFERROR(LARGE(I27:N27,2),"0")+IFERROR(LARGE(I27:N27,3),"0"))/3 -> 0 | S27: =IFERROR(VLOOKUP(A27,DMSBX1!$C$1:$I$108,7,0),IFERROR(VLOOKUP(B27,DMSBX1!$D$1:$I$108,6,0),"")) | T27: =IFERROR(VLOOKUP(A27,DMSBX2!$C$1:$I$101,7,0),IFERROR(VLOOKUP(B27,DMSBX2!$D$1:$I$101,6,0),"")) | U27: =IFERROR(VLOOKUP(B27,'SP1'!$D$1:$I$107,6,0),"") | V27: =IFERROR(VLOOKUP(B27,'SP2'!$D$1:$I$107,6,0),"") | W27: =IFERROR(IF(B27<>0,VLOOKUP(B27,KLSBX1!$D$2:$I$120,6,FALSE()),NA()),IFERROR(IF(A27<>0,VLOOKUP(A27,KLSBX1!$C$2:$I$120,7,FALSE()),NA()),"")) | X27: =IFERROR(IF(B27<>0,VLOOKUP(B27,KLSBX2!$D$2:$I$120,6,FALSE()),NA()),IFERROR(IF(A27<>0,VLOOKUP(A27,KLSBX2!$C$2:$I$120,7,FALSE()),NA()),"")) | Y27: =IFERROR(IF(B27<>0,VLOOKUP(B27,DMSBXNC!$D$2:$I$420,6,FALSE()),NA()),IFERROR(IF(A27<>0,VLOOKUP(A27,DMSBXNC!$C$2:$I$420,7,FALSE()),NA()),"")) | Z27: =IFERROR(IF(B27<>0,VLOOKUP(B27,DMSBX1_3!$D$2:$I$420,6,FALSE()),NA()),IFERROR(IF(A27<>0,VLOOKUP(A27,DMSBX1_3!$C$2:$I$420,7,FALSE()),NA()),"")) | AA27: =IFERROR(IF(B27<>0,VLOOKUP(B27,'KLS1'!$D$2:$I$420,6,FALSE()),NA()),IFERROR(IF(A27<>0,VLOOKUP(A27,'KLS1'!$C$2:$I$420,7,FALSE()),NA()),"")) | AB27: =IFERROR(IF(B27<>0,VLOOKUP(B27,'KLS2'!$D$2:$I$426,6,FALSE()),NA()),IFERROR(IF(A27<>0,VLOOKUP(A27,'KLS2'!$C$2:$I$426,7,FALSE()),NA()),"")) | AC27: =SUM(S27:AB27) -> 0 | AD27: =(IFERROR(LARGE(S27:AB27,1),"0")+IFERROR(LARGE(S27:AB27,2),"0")+IFERROR(LARGE(S27:AB27,3),"0")+IFERROR(LARGE(S27:AB27,4),"0")+IFERROR(LARGE(S27:AB27,5),"0")+IFERROR(LARGE(S27:AB27,6),"0")+IFERROR(LARGE(S27:AB27,7),"0")+IFERROR(LARGE(S27:AB27,8),"0")) -> 0 | AE27: =(IFERROR(LARGE(S27:AB27,1),"0")+IFERROR(LARGE(S27:AB27,2),"0")+IFERROR(LARGE(S27:AB27,3),"0"))/3 -> 0 | AG27: =IFERROR(VLOOKUP(B27,FS!$A$2:$N$78,6,FALSE),"") | AH27: =IFERROR(VLOOKUP(B27,FS!$A$2:$N$78,7,FALSE),"") | AI27: =IFERROR(VLOOKUP(B27,FS!$A$2:$N$78,8,FALSE),"") | AJ27: =IFERROR(VLOOKUP(B27,FS!$A$2:$N$78,9,FALSE),"") | AK27: =IFERROR(VLOOKUP(B27,FS!$A$2:$N$78,10,FALSE),"") | AL27: =IFERROR(VLOOKUP(B27,FS!$A$2:$N$78,11,FALSE),"") | AM27: =IFERROR(VLOOKUP(B27,FS!$A$2:$N$78,12,FALSE),"") | AN27: =IFERROR(VLOOKUP(B27,FS!$A$2:$N$78,13,FALSE),"") | AO27: =SUM(AG27:AN27) -> 0 | AP27: =(IFERROR(LARGE(AG27:AN27,1),"0")+IFERROR(LARGE(AG27:AN27,2),"0")+IFERROR(LARGE(AG27:AN27,3),"0")+IFERROR(LARGE(AG27:AN27,4),"0")+IFERROR(LARGE(AG27:AN27,5),"0")) -> 0 | AQ27: =(IFERROR(LARGE(AG27:AN27,1),"0")+IFERROR(LARGE(AG27:AN27,2),"0")+IFERROR(LARGE(AG27:AN27,3),"0"))/3 -> 0 | AR27: =Q27+AE27+AQ27 -> 0 | AS27: =(IF(Q27>0,1,0))+(IF(AE27>0,1,0))+(IF(AQ27>0,1,0)) -> 0
A28: 9150108 | B28: 773710 | C28: MICHAL Stanislav | D28: 1984 | E28: CZE | F28: =IFERROR(VLOOKUP(B28,SVEXP!$A$2:$F$6577,6,FALSE),"") -> Neregistrovaní | G28: =IFERROR(VLOOKUP(B28,SVEXP!$A$2:$E$6577,5,FALSE),"") -> Olomoucký kraj | H28: M | I28: =IFERROR(VLOOKUP(A28,'KLP1'!$C$1:$I$108,7,0),IFERROR(VLOOKUP(B28,'KLP1'!$D$1:$I$108,6,0),"")) | J28: =IFERROR(VLOOKUP(A28,'KLP2'!$C$1:$I$108,7,0),IFERROR(VLOOKUP(B28,'KLP2'!$D$1:$I$108,6,0),"")) | K28: =IFERROR(VLOOKUP(A28,'DM1'!$C$1:$I$108,7,0),IFERROR(VLOOKUP(B28,'DM1'!$D$1:$I$108,6,0),"")) | L28: =IFERROR(VLOOKUP(A28,'DM2'!$C$1:$I$108,7,0),IFERROR(VLOOKUP(B28,'DM2'!$D$1:$I$108,6,0),"")) | M28: =IFERROR(VLOOKUP(A28,'SPF1'!$C$1:$I$108,7,0),IFERROR(VLOOKUP(B28,'SPF1'!$D$1:$I$108,6,0),"")) | N28: =IFERROR(VLOOKUP(A28,'SPF2'!$C$1:$I$108,7,0),IFERROR(VLOOKUP(B28,'SPF2'!$D$1:$I$108,6,0),"")) | O28: =SUM(I28:N28) -> 0 | P28: =IFERROR(LARGE(I28:N28,1),"0")+IFERROR(LARGE(I28:N28,2),"0")+IFERROR(LARGE(I28:N28,3),"0")+IFERROR(LARGE(I28:N28,4),"0") -> 0 | Q28: =(IFERROR(LARGE(I28:N28,1),"0")+IFERROR(LARGE(I28:N28,2),"0")+IFERROR(LARGE(I28:N28,3),"0"))/3 -> 0 | S28: =IFERROR(VLOOKUP(A28,DMSBX1!$C$1:$I$108,7,0),IFERROR(VLOOKUP(B28,DMSBX1!$D$1:$I$108,6,0),"")) | T28: =IFERROR(VLOOKUP(A28,DMSBX2!$C$1:$I$101,7,0),IFERROR(VLOOKUP(B28,DMSBX2!$D$1:$I$101,6,0),"")) | U28: =IFERROR(VLOOKUP(B28,'SP1'!$D$1:$I$107,6,0),"") | V28: =IFERROR(VLOOKUP(B28,'SP2'!$D$1:$I$107,6,0),"") | W28: =IFERROR(IF(B28<>0,VLOOKUP(B28,KLSBX1!$D$2:$I$120,6,FALSE()),NA()),IFERROR(IF(A28<>0,VLOOKUP(A28,KLSBX1!$C$2:$I$120,7,FALSE()),NA()),"")) | X28: =IFERROR(IF(B28<>0,VLOOKUP(B28,KLSBX2!$D$2:$I$120,6,FALSE()),NA()),IFERROR(IF(A28<>0,VLOOKUP(A28,KLSBX2!$C$2:$I$120,7,FALSE()),NA()),"")) | Y28: =IFERROR(IF(B28<>0,VLOOKUP(B28,DMSBXNC!$D$2:$I$420,6,FALSE()),NA()),IFERROR(IF(A28<>0,VLOOKUP(A28,DMSBXNC!$C$2:$I$420,7,FALSE()),NA()),"")) | Z28: =IFERROR(IF(B28<>0,VLOOKUP(B28,DMSBX1_3!$D$2:$I$420,6,FALSE()),NA()),IFERROR(IF(A28<>0,VLOOKUP(A28,DMSBX1_3!$C$2:$I$420,7,FALSE()),NA()),"")) | AA28: =IFERROR(IF(B28<>0,VLOOKUP(B28,'KLS1'!$D$2:$I$420,6,FALSE()),NA()),IFERROR(IF(A28<>0,VLOOKUP(A28,'KLS1'!$C$2:$I$420,7,FALSE()),NA()),"")) | AB28: =IFERROR(IF(B28<>0,VLOOKUP(B28,'KLS2'!$D$2:$I$426,6,FALSE()),NA()),IFERROR(IF(A28<>0,VLOOKUP(A28,'KLS2'!$C$2:$I$426,7,FALSE()),NA()),"")) | AC28: =SUM(S28:AB28) -> 0 | AD28: =(IFERROR(LARGE(S28:AB28,1),"0")+IFERROR(LARGE(S28:AB28,2),"0")+IFERROR(LARGE(S28:AB28,3),"0")+IFERROR(LARGE(S28:AB28,4),"0")+IFERROR(LARGE(S28:AB28,5),"0")+IFERROR(LARGE(S28:AB28,6),"0")+IFERROR(LARGE(S28:AB28,7),"0")+IFERROR(LARGE(S28:AB28,8),"0")) -> 0 | AE28: =(IFERROR(LARGE(S28:AB28,1),"0")+IFERROR(LARGE(S28:AB28,2),"0")+IFERROR(LARGE(S28:AB28,3),"0"))/3 -> 0 | AG28: =IFERROR(VLOOKUP(B28,FS!$A$2:$N$78,6,FALSE),"") | AH28: =IFERROR(VLOOKUP(B28,FS!$A$2:$N$78,7,FALSE),"") | AI28: =IFERROR(VLOOKUP(B28,FS!$A$2:$N$78,8,FALSE),"") | AJ28: =IFERROR(VLOOKUP(B28,FS!$A$2:$N$78,9,FALSE),"") | AK28: =IFERROR(VLOOKUP(B28,FS!$A$2:$N$78,10,FALSE),"") | AL28: =IFERROR(VLOOKUP(B28,FS!$A$2:$N$78,11,FALSE),"") | AM28: =IFERROR(VLOOKUP(B28,FS!$A$2:$N$78,12,FALSE),"") | AN28: =IFERROR(VLOOKUP(B28,FS!$A$2:$N$78,13,FALSE),"") | AO28: =SUM(AG28:AN28) -> 0 | AP28: =(IFERROR(LARGE(AG28:AN28,1),"0")+IFERROR(LARGE(AG28:AN28,2),"0")+IFERROR(LARGE(AG28:AN28,3),"0")+IFERROR(LARGE(AG28:AN28,4),"0")+IFERROR(LARGE(AG28:AN28,5),"0")) -> 0 | AQ28: =(IFERROR(LARGE(AG28:AN28,1),"0")+IFERROR(LARGE(AG28:AN28,2),"0")+IFERROR(LARGE(AG28:AN28,3),"0"))/3 -> 0 | AR28: =Q28+AE28+AQ28 -> 0 | AS28: =(IF(Q28>0,1,0))+(IF(AE28>0,1,0))+(IF(AQ28>0,1,0)) -> 0
A29: 9430195 | C29: Kedzior dariusz | D29: 1985 | E29: POL | H29: M | M29: =IFERROR(VLOOKUP(A29,'SPF1'!$C$1:$I$108,7,0),IFERROR(VLOOKUP(B29,'SPF1'!$D$1:$I$108,6,0),"")) | N29: =IFERROR(VLOOKUP(A29,'SPF2'!$C$1:$I$108,7,0),IFERROR(VLOOKUP(B29,'SPF2'!$D$1:$I$108,6,0),"")) | O29: =SUM(I29:N29) -> 0 | P29: =IFERROR(LARGE(I29:N29,1),"0")+IFERROR(LARGE(I29:N29,2),"0")+IFERROR(LARGE(I29:N29,3),"0")+IFERROR(LARGE(I29:N29,4),"0") -> 0 | Q29: =(IFERROR(LARGE(I29:N29,1),"0")+IFERROR(LARGE(I29:N29,2),"0")+IFERROR(LARGE(I29:N29,3),"0"))/3 -> 0 | X29: =IFERROR(IF(B29<>0,VLOOKUP(B29,KLSBX2!$D$2:$I$120,6,FALSE()),NA()),IFERROR(IF(A29<>0,VLOOKUP(A29,KLSBX2!$C$2:$I$120,7,FALSE()),NA()),"")) | Y29: =IFERROR(IF(B29<>0,VLOOKUP(B29,DMSBXNC!$D$2:$I$420,6,FALSE()),NA()),IFERROR(IF(A29<>0,VLOOKUP(A29,DMSBXNC!$C$2:$I$420,7,FALSE()),NA()),"")) -> 1.64 | Z29: =IFERROR(IF(B29<>0,VLOOKUP(B29,DMSBX1_3!$D$2:$I$420,6,FALSE()),NA()),IFERROR(IF(A29<>0,VLOOKUP(A29,DMSBX1_3!$C$2:$I$420,7,FALSE()),NA()),"")) -> 1.76 | AA29: =IFERROR(IF(B29<>0,VLOOKUP(B29,'KLS1'!$D$2:$I$420,6,FALSE()),NA()),IFERROR(IF(A29<>0,VLOOKUP(A29,'KLS1'!$C$2:$I$420,7,FALSE()),NA()),"")) -> 18 | AB29: =IFERROR(IF(B29<>0,VLOOKUP(B29,'KLS2'!$D$2:$I$426,6,FALSE()),NA()),IFERROR(IF(A29<>0,VLOOKUP(A29,'KLS2'!$C$2:$I$426,7,FALSE()),NA()),"")) -> 20 | AC29: =SUM(S29:AB29) -> 41.4 | AD29: =(IFERROR(LARGE(S29:AB29,1),"0")+IFERROR(LARGE(S29:AB29,2),"0")+IFERROR(LARGE(S29:AB29,3),"0")+IFERROR(LARGE(S29:AB29,4),"0")+IFERROR(LARGE(S29:AB29,5),"0")+IFERROR(LARGE(S29:AB29,6),"0")+IFERROR(LARGE(S29:AB29,7),"0")+IFERROR(LARGE(S29:AB29,8),"0")) -> 41.4 | AE29: =(IFERROR(LARGE(S29:AB29,1),"0")+IFERROR(LARGE(S29:AB29,2),"0")+IFERROR(LARGE(S29:AB29,3),"0"))/3 -> 13.253333 | AG29: =IFERROR(VLOOKUP(B29,FS!$A$2:$N$78,6,FALSE),"") | AH29: =IFERROR(VLOOKUP(B29,FS!$A$2:$N$78,7,FALSE),"") | AI29: =IFERROR(VLOOKUP(B29,FS!$A$2:$N$78,8,FALSE),"") | AJ29: =IFERROR(VLOOKUP(B29,FS!$A$2:$N$78,9,FALSE),"") | AK29: =IFERROR(VLOOKUP(B29,FS!$A$2:$N$78,10,FALSE),"") | AL29: =IFERROR(VLOOKUP(B29,FS!$A$2:$N$78,11,FALSE),"") | AM29: =IFERROR(VLOOKUP(B29,FS!$A$2:$N$78,12,FALSE),"") | AN29: =IFERROR(VLOOKUP(B29,FS!$A$2:$N$78,13,FALSE),"") | AO29: =SUM(AG29:AN29) -> 0 | AP29: =(IFERROR(LARGE(AG29:AN29,1),"0")+IFERROR(LARGE(AG29:AN29,2),"0")+IFERROR(LARGE(AG29:AN29,3),"0")+IFERROR(LARGE(AG29:AN29,4),"0")+IFERROR(LARGE(AG29:AN29,5),"0")) -> 0 | AQ29: =(IFERROR(LARGE(AG29:AN29,1),"0")+IFERROR(LARGE(AG29:AN29,2),"0")+IFERROR(LARGE(AG29:AN29,3),"0"))/3 -> 0 | AR29: =Q29+AE29+AQ29 -> 13.253333 | AS29: =(IF(Q29>0,1,0))+(IF(AE29>0,1,0))+(IF(AQ29>0,1,0)) -> 1
A30: 9430012 | C30: GASIENICA-DANIEL Andrzej | D30: 1987 | E30: POL | H30: M | K30: =IFERROR(VLOOKUP(A30,'DM1'!$C$1:$I$108,7,0),IFERROR(VLOOKUP(B30,'DM1'!$D$1:$I$108,6,0),"")) -> 2.6 | L30: =IFERROR(VLOOKUP(A30,'DM2'!$C$1:$I$108,7,0),IFERROR(VLOOKUP(B30,'DM2'!$D$1:$I$108,6,0),"")) | M30: =IFERROR(VLOOKUP(A30,'SPF1'!$C$1:$I$108,7,0),IFERROR(VLOOKUP(B30,'SPF1'!$D$1:$I$108,6,0),"")) | N30: =IFERROR(VLOOKUP(A30,'SPF2'!$C$1:$I$108,7,0),IFERROR(VLOOKUP(B30,'SPF2'!$D$1:$I$108,6,0),"")) | O30: =SUM(I30:N30) -> 2.6 | P30: =IFERROR(LARGE(I30:N30,1),"0")+IFERROR(LARGE(I30:N30,2),"0")+IFERROR(LARGE(I30:N30,3),"0")+IFERROR(LARGE(I30:N30,4),"0") -> 2.6 | Q30: =(IFERROR(LARGE(I30:N30,1),"0")+IFERROR(LARGE(I30:N30,2),"0")+IFERROR(LARGE(I30:N30,3),"0"))/3 -> 0.86666667 | W30: =IFERROR(IF(B30<>0,VLOOKUP(B30,KLSBX1!$D$2:$I$120,6,FALSE()),NA()),IFERROR(IF(A30<>0,VLOOKUP(A30,KLSBX1!$C$2:$I$120,7,FALSE()),NA()),"")) | X30: =IFERROR(IF(B30<>0,VLOOKUP(B30,KLSBX2!$D$2:$I$120,6,FALSE()),NA()),IFERROR(IF(A30<>0,VLOOKUP(A30,KLSBX2!$C$2:$I$120,7,FALSE()),NA()),"")) | Y30: =IFERROR(IF(B30<>0,VLOOKUP(B30,DMSBXNC!$D$2:$I$420,6,FALSE()),NA()),IFERROR(IF(A30<>0,VLOOKUP(A30,DMSBXNC!$C$2:$I$420,7,FALSE()),NA()),"")) | Z30: =IFERROR(IF(B30<>0,VLOOKUP(B30,DMSBX1_3!$D$2:$I$420,6,FALSE()),NA()),IFERROR(IF(A30<>0,VLOOKUP(A30,DMSBX1_3!$C$2:$I$420,7,FALSE()),NA()),"")) | AA30: =IFERROR(IF(B30<>0,VLOOKUP(B30,'KLS1'!$D$2:$I$420,6,FALSE()),NA()),IFERROR(IF(A30<>0,VLOOKUP(A30,'KLS1'!$C$2:$I$420,7,FALSE()),NA()),"")) | AB30: =IFERROR(IF(B30<>0,VLOOKUP(B30,'KLS2'!$D$2:$I$426,6,FALSE()),NA()),IFERROR(IF(A30<>0,VLOOKUP(A30,'KLS2'!$C$2:$I$426,7,FALSE()),NA()),"")) | AC30: =SUM(S30:AB30) -> 0 | AD30: =(IFERROR(LARGE(S30:AB30,1),"0")+IFERROR(LARGE(S30:AB30,2),"0")+IFERROR(LARGE(S30:AB30,3),"0")+IFERROR(LARGE(S30:AB30,4),"0")+IFERROR(LARGE(S30:AB30,5),"0")+IFERROR(LARGE(S30:AB30,6),"0")+IFERROR(LARGE(S30:AB30,7),"0")+IFERROR(LARGE(S30:AB30,8),"0")) -> 0 | AE30: =(IFERROR(LARGE(S30:AB30,1),"0")+IFERROR(LARGE(S30:AB30,2),"0")+IFERROR(LARGE(S30:AB30,3),"0"))/3 -> 0 | AG30: =IFERROR(VLOOKUP(B30,FS!$A$2:$N$78,6,FALSE),"") | AH30: =IFERROR(VLOOKUP(B30,FS!$A$2:$N$78,7,FALSE),"") | AI30: =IFERROR(VLOOKUP(B30,FS!$A$2:$N$78,8,FALSE),"") | AJ30: =IFERROR(VLOOKUP(B30,FS!$A$2:$N$78,9,FALSE),"") | AK30: =IFERROR(VLOOKUP(B30,FS!$A$2:$N$78,10,FALSE),"") | AL30: =IFERROR(VLOOKUP(B30,FS!$A$2:$N$78,11,FALSE),"") | AM30: =IFERROR(VLOOKUP(B30,FS!$A$2:$N$78,12,FALSE),"") | AN30: =IFERROR(VLOOKUP(B30,FS!$A$2:$N$78,13,FALSE),"") | AO30: =SUM(AG30:AN30) -> 0 | AP30: =(IFERROR(LARGE(AG30:AN30,1),"0")+IFERROR(LARGE(AG30:AN30,2),"0")+IFERROR(LARGE(AG30:AN30,3),"0")+IFERROR(LARGE(AG30:AN30,4),"0")+IFERROR(LARGE(AG30:AN30,5),"0")) -> 0 | AQ30: =(IFERROR(LARGE(AG30:AN30,1),"0")+IFERROR(LARGE(AG30:AN30,2),"0")+IFERROR(LARGE(AG30:AN30,3),"0"))/3 -> 0 | AR30: =Q30+AE30+AQ30 -> 0.86666667 | AS30: =(IF(Q30>0,1,0))+(IF(AE30>0,1,0))+(IF(AQ30>0,1,0)) -> 1
A31: 9430258 | C31: Kustra Tomasz | D31: 1987 | E31: POL | H31: M | M31: =IFERROR(VLOOKUP(A31,'SPF1'!$C$1:$I$108,7,0),IFERROR(VLOOKUP(B31,'SPF1'!$D$1:$I$108,6,0),"")) | N31: =IFERROR(VLOOKUP(A31,'SPF2'!$C$1:$I$108,7,0),IFERROR(VLOOKUP(B31,'SPF2'!$D$1:$I$108,6,0),"")) | O31: =SUM(I31:N31) -> 0 | P31: =IFERROR(LARGE(I31:N31,1),"0")+IFERROR(LARGE(I31:N31,2),"0")+IFERROR(LARGE(I31:N31,3),"0")+IFERROR(LARGE(I31:N31,4),"0") -> 0 | Q31: =(IFERROR(LARGE(I31:N31,1),"0")+IFERROR(LARGE(I31:N31,2),"0")+IFERROR(LARGE(I31:N31,3),"0"))/3 -> 0 | X31: =IFERROR(IF(B31<>0,VLOOKUP(B31,KLSBX2!$D$2:$I$120,6,FALSE()),NA()),IFERROR(IF(A31<>0,VLOOKUP(A31,KLSBX2!$C$2:$I$120,7,FALSE()),NA()),"")) | Y31: =IFERROR(IF(B31<>0,VLOOKUP(B31,DMSBXNC!$D$2:$I$420,6,FALSE()),NA()),IFERROR(IF(A31<>0,VLOOKUP(A31,DMSBXNC!$C$2:$I$420,7,FALSE()),NA()),"")) | Z31: =IFERROR(IF(B31<>0,VLOOKUP(B31,DMSBX1_3!$D$2:$I$420,6,FALSE()),NA()),IFERROR(IF(A31<>0,VLOOKUP(A31,DMSBX1_3!$C$2:$I$420,7,FALSE()),NA()),"")) | AA31: =IFERROR(IF(B31<>0,VLOOKUP(B31,'KLS1'!$D$2:$I$420,6,FALSE()),NA()),IFERROR(IF(A31<>0,VLOOKUP(A31,'KLS1'!$C$2:$I$420,7,FALSE()),NA()),"")) | AB31: =IFERROR(IF(B31<>0,VLOOKUP(B31,'KLS2'!$D$2:$I$426,6,FALSE()),NA()),IFERROR(IF(A31<>0,VLOOKUP(A31,'KLS2'!$C$2:$I$426,7,FALSE()),NA()),"")) | AC31: =SUM(S31:AB31) -> 0 | AD31: =(IFERROR(LARGE(S31:AB31,1),"0")+IFERROR(LARGE(S31:AB31,2),"0")+IFERROR(LARGE(S31:AB31,3),"0")+IFERROR(LARGE(S31:AB31,4),"0")+IFERROR(LARGE(S31:AB31,5),"0")+IFERROR(LARGE(S31:AB31,6),"0")+IFERROR(LARGE(S31:AB31,7),"0")+IFERROR(LARGE(S31:AB31,8),"0")) -> 0 | AE31: =(IFERROR(LARGE(S31:AB31,1),"0")+IFERROR(LARGE(S31:AB31,2),"0")+IFERROR(LARGE(S31:AB31,3),"0"))/3 -> 0 | AG31: =IFERROR(VLOOKUP(B31,FS!$A$2:$N$78,6,FALSE),"") | AH31: =IFERROR(VLOOKUP(B31,FS!$A$2:$N$78,7,FALSE),"") | AI31: =IFERROR(VLOOKUP(B31,FS!$A$2:$N$78,8,FALSE),"") | AJ31: =IFERROR(VLOOKUP(B31,FS!$A$2:$N$78,9,FALSE),"") | AK31: =IFERROR(VLOOKUP(B31,FS!$A$2:$N$78,10,FALSE),"") | AL31: =IFERROR(VLOOKUP(B31,FS!$A$2:$N$78,11,FALSE),"") | AM31: =IFERROR(VLOOKUP(B31,FS!$A$2:$N$78,12,FALSE),"") | AN31: =IFERROR(VLOOKUP(B31,FS!$A$2:$N$78,13,FALSE),"") | AO31: =SUM(AG31:AN31) -> 0 | AP31: =(IFERROR(LARGE(AG31:AN31,1),"0")+IFERROR(LARGE(AG31:AN31,2),"0")+IFERROR(LARGE(AG31:AN31,3),"0")+IFERROR(LARGE(AG31:AN31,4),"0")+IFERROR(LARGE(AG31:AN31,5),"0")) -> 0 | AQ31: =(IFERROR(LARGE(AG31:AN31,1),"0")+IFERROR(LARGE(AG31:AN31,2),"0")+IFERROR(LARGE(AG31:AN31,3),"0"))/3 -> 0 | AR31: =Q31+AE31+AQ31 -> 0 | AS31: =(IF(Q31>0,1,0))+(IF(AE31>0,1,0))+(IF(AQ31>0,1,0)) -> 0
B32: 779130 | C32: STEJNÝ Jáchym | D32: 2017 | E32: CZE | F32: =IFERROR(VLOOKUP(B32,SVEXP!$A$2:$F$6577,6,FALSE),"") -> SNB Seveřani | G32: =IFERROR(VLOOKUP(B32,SVEXP!$A$2:$E$6577,5,FALSE),"") -> Liberecký kraj | H32: M | I32: =IFERROR(VLOOKUP(A32,'KLP1'!$C$1:$I$108,7,0),IFERROR(VLOOKUP(B32,'KLP1'!$D$1:$I$108,6,0),"")) | J32: =IFERROR(VLOOKUP(A32,'KLP2'!$C$1:$I$108,7,0),IFERROR(VLOOKUP(B32,'KLP2'!$D$1:$I$108,6,0),"")) | K32: =IFERROR(VLOOKUP(A32,'DM1'!$C$1:$I$108,7,0),IFERROR(VLOOKUP(B32,'DM1'!$D$1:$I$108,6,0),"")) | L32: =IFERROR(VLOOKUP(A32,'DM2'!$C$1:$I$108,7,0),IFERROR(VLOOKUP(B32,'DM2'!$D$1:$I$108,6,0),"")) | M32: =IFERROR(VLOOKUP(A32,'SPF1'!$C$1:$I$108,7,0),IFERROR(VLOOKUP(B32,'SPF1'!$D$1:$I$108,6,0),"")) -> 22 | N32: =IFERROR(VLOOKUP(A32,'SPF2'!$C$1:$I$108,7,0),IFERROR(VLOOKUP(B32,'SPF2'!$D$1:$I$108,6,0),"")) | O32: =SUM(I32:N32) -> 22 | P32: =IFERROR(LARGE(I32:N32,1),"0")+IFERROR(LARGE(I32:N32,2),"0")+IFERROR(LARGE(I32:N32,3),"0")+IFERROR(LARGE(I32:N32,4),"0") -> 22 | Q32: =(IFERROR(LARGE(I32:N32,1),"0")+IFERROR(LARGE(I32:N32,2),"0")+IFERROR(LARGE(I32:N32,3),"0"))/3 -> 7.3333333 | S32: =IFERROR(VLOOKUP(A32,DMSBX1!$C$1:$I$108,7,0),IFERROR(VLOOKUP(B32,DMSBX1!$D$1:$I$108,6,0),"")) | T32: =IFERROR(VLOOKUP(A32,DMSBX2!$C$1:$I$101,7,0),IFERROR(VLOOKUP(B32,DMSBX2!$D$1:$I$101,6,0),"")) | U32: =IFERROR(VLOOKUP(B32,'SP1'!$D$1:$I$107,6,0),"") | V32: =IFERROR(VLOOKUP(B32,'SP2'!$D$1:$I$107,6,0),"") | W32: =IFERROR(IF(B32<>0,VLOOKUP(B32,KLSBX1!$D$2:$I$120,6,FALSE()),NA()),IFERROR(IF(A32<>0,VLOOKUP(A32,KLSBX1!$C$2:$I$120,7,FALSE()),NA()),"")) | X32: =IFERROR(IF(B32<>0,VLOOKUP(B32,KLSBX2!$D$2:$I$120,6,FALSE()),NA()),IFERROR(IF(A32<>0,VLOOKUP(A32,KLSBX2!$C$2:$I$120,7,FALSE()),NA()),"")) | Y32: =IFERROR(IF(B32<>0,VLOOKUP(B32,DMSBXNC!$D$2:$I$420,6,FALSE()),NA()),IFERROR(IF(A32<>0,VLOOKUP(A32,DMSBXNC!$C$2:$I$420,7,FALSE()),NA()),"")) | Z32: =IFERROR(IF(B32<>0,VLOOKUP(B32,DMSBX1_3!$D$2:$I$420,6,FALSE()),NA()),IFERROR(IF(A32<>0,VLOOKUP(A32,DMSBX1_3!$C$2:$I$420,7,FALSE()),NA()),"")) | AA32: =IFERROR(IF(B32<>0,VLOOKUP(B32,'KLS1'!$D$2:$I$420,6,FALSE()),NA()),IFERROR(IF(A32<>0,VLOOKUP(A32,'KLS1'!$C$2:$I$420,7,FALSE()),NA()),"")) | AB32: =IFERROR(IF(B32<>0,VLOOKUP(B32,'KLS2'!$D$2:$I$426,6,FALSE()),NA()),IFERROR(IF(A32<>0,VLOOKUP(A32,'KLS2'!$C$2:$I$426,7,FALSE()),NA()),"")) | AC32: =SUM(S32:AB32) -> 0 | AD32: =(IFERROR(LARGE(S32:AB32,1),"0")+IFERROR(LARGE(S32:AB32,2),"0")+IFERROR(LARGE(S32:AB32,3),"0")+IFERROR(LARGE(S32:AB32,4),"0")+IFERROR(LARGE(S32:AB32,5),"0")+IFERROR(LARGE(S32:AB32,6),"0")+IFERROR(LARGE(S32:AB32,7),"0")+IFERROR(LARGE(S32:AB32,8),"0")) -> 0 | AE32: =(IFERROR(LARGE(S32:AB32,1),"0")+IFERROR(LARGE(S32:AB32,2),"0")+IFERROR(LARGE(S32:AB32,3),"0"))/3 -> 0 | AG32: =IFERROR(VLOOKUP(B32,FS!$A$2:$N$78,6,FALSE),"") | AH32: =IFERROR(VLOOKUP(B32,FS!$A$2:$N$78,7,FALSE),"") | AI32: =IFERROR(VLOOKUP(B32,FS!$A$2:$N$78,8,FALSE),"") | AJ32: =IFERROR(VLOOKUP(B32,FS!$A$2:$N$78,9,FALSE),"") | AK32: =IFERROR(VLOOKUP(B32,FS!$A$2:$N$78,10,FALSE),"") | AL32: =IFERROR(VLOOKUP(B32,FS!$A$2:$N$78,11,FALSE),"") | AM32: =IFERROR(VLOOKUP(B32,FS!$A$2:$N$78,12,FALSE),"") | AN32: =IFERROR(VLOOKUP(B32,FS!$A$2:$N$78,13,FALSE),"") | AO32: =SUM(AG32:AN32) -> 0 | AP32: =(IFERROR(LARGE(AG32:AN32,1),"0")+IFERROR(LARGE(AG32:AN32,2),"0")+IFERROR(LARGE(AG32:AN32,3),"0")+IFERROR(LARGE(AG32:AN32,4),"0")+IFERROR(LARGE(AG32:AN32,5),"0")) -> 0 | AQ32: =(IFERROR(LARGE(AG32:AN32,1),"0")+IFERROR(LARGE(AG32:AN32,2),"0")+IFERROR(LARGE(AG32:AN32,3),"0"))/3 -> 0 | AR32: =Q32+AE32+AQ32 -> 7.3333333 | AS32: =(IF(Q32>0,1,0))+(IF(AE32>0,1,0))+(IF(AQ32>0,1,0)) -> 1 | AT32: =COUNTIF(I32:N32,">"&0)+COUNTIF(S32:AB32,">"&0)+COUNTIF(AG32:AN32,">"&0) -> 1
B33: 779160 | C33: Pankratz Nicolas | D33: 2017 | E33: CZE | F33: =IFERROR(VLOOKUP(B33,SVEXP!$A$2:$F$6577,6,FALSE),"") -> Snow Rockets | G33: =IFERROR(VLOOKUP(B33,SVEXP!$A$2:$E$6577,5,FALSE),"") -> Moravskoslezský kraj | H33: M | M33: =IFERROR(VLOOKUP(A33,'SPF1'!$C$1:$I$108,7,0),IFERROR(VLOOKUP(B33,'SPF1'!$D$1:$I$108,6,0),"")) | N33: =IFERROR(VLOOKUP(A33,'SPF2'!$C$1:$I$108,7,0),IFERROR(VLOOKUP(B33,'SPF2'!$D$1:$I$108,6,0),"")) | O33: =SUM(I33:N33) -> 0 | P33: =IFERROR(LARGE(I33:N33,1),"0")+IFERROR(LARGE(I33:N33,2),"0")+IFERROR(LARGE(I33:N33,3),"0")+IFERROR(LARGE(I33:N33,4),"0") -> 0 | Q33: =(IFERROR(LARGE(I33:N33,1),"0")+IFERROR(LARGE(I33:N33,2),"0")+IFERROR(LARGE(I33:N33,3),"0"))/3 -> 0 | S33: =IFERROR(VLOOKUP(A33,DMSBX1!$C$1:$I$108,7,0),IFERROR(VLOOKUP(B33,DMSBX1!$D$1:$I$108,6,0),"")) | U33: =IFERROR(VLOOKUP(B33,'SP1'!$D$1:$I$107,6,0),"") | V33: =IFERROR(VLOOKUP(B33,'SP2'!$D$1:$I$107,6,0),"") | W33: =IFERROR(IF(B33<>0,VLOOKUP(B33,KLSBX1!$D$2:$I$120,6,FALSE()),NA()),IFERROR(IF(A33<>0,VLOOKUP(A33,KLSBX1!$C$2:$I$120,7,FALSE()),NA()),"")) | X33: =IFERROR(IF(B33<>0,VLOOKUP(B33,KLSBX2!$D$2:$I$120,6,FALSE()),NA()),IFERROR(IF(A33<>0,VLOOKUP(A33,KLSBX2!$C$2:$I$120,7,FALSE()),NA()),"")) | Y33: =IFERROR(IF(B33<>0,VLOOKUP(B33,DMSBXNC!$D$2:$I$420,6,FALSE()),NA()),IFERROR(IF(A33<>0,VLOOKUP(A33,DMSBXNC!$C$2:$I$420,7,FALSE()),NA()),"")) -> 22 | Z33: =IFERROR(IF(B33<>0,VLOOKUP(B33,DMSBX1_3!$D$2:$I$420,6,FALSE()),NA()),IFERROR(IF(A33<>0,VLOOKUP(A33,DMSBX1_3!$C$2:$I$420,7,FALSE()),NA()),"")) -> 16 | AA33: =IFERROR(IF(B33<>0,VLOOKUP(B33,'KLS1'!$D$2:$I$420,6,FALSE()),NA()),IFERROR(IF(A33<>0,VLOOKUP(A33,'KLS1'!$C$2:$I$420,7,FALSE()),NA()),"")) | AB33: =IFERROR(IF(B33<>0,VLOOKUP(B33,'KLS2'!$D$2:$I$426,6,FALSE()),NA()),IFERROR(IF(A33<>0,VLOOKUP(A33,'KLS2'!$C$2:$I$426,7,FALSE()),NA()),"")) | AC33: =SUM(S33:AB33) -> 38 | AD33: =(IFERROR(LARGE(S33:AB33,1),"0")+IFERROR(LARGE(S33:AB33,2),"0")+IFERROR(LARGE(S33:AB33,3),"0")+IFERROR(LARGE(S33:AB33,4),"0")+IFERROR(LARGE(S33:AB33,5),"0")+IFERROR(LARGE(S33:AB33,6),"0")+IFERROR(LARGE(S33:AB33,7),"0")+IFERROR(LARGE(S33:AB33,8),"0")) -> 38 | AE33: =(IFERROR(LARGE(S33:AB33,1),"0")+IFERROR(LARGE(S33:AB33,2),"0")+IFERROR(LARGE(S33:AB33,3),"0"))/3 -> 12.666667 | AG33: =IFERROR(VLOOKUP(B33,FS!$A$2:$N$78,6,FALSE),"") | AH33: =IFERROR(VLOOKUP(B33,FS!$A$2:$N$78,7,FALSE),"") | AI33: =IFERROR(VLOOKUP(B33,FS!$A$2:$N$78,8,FALSE),"") | AJ33: =IFERROR(VLOOKUP(B33,FS!$A$2:$N$78,9,FALSE),"") | AK33: =IFERROR(VLOOKUP(B33,FS!$A$2:$N$78,10,FALSE),"") | AL33: =IFERROR(VLOOKUP(B33,FS!$A$2:$N$78,11,FALSE),"") | AM33: =IFERROR(VLOOKUP(B33,FS!$A$2:$N$78,12,FALSE),"") | AN33: =IFERROR(VLOOKUP(B33,FS!$A$2:$N$78,13,FALSE),"") | AO33: =SUM(AG33:AN33) -> 0 | AP33: =(IFERROR(LARGE(AG33:AN33,1),"0")+IFERROR(LARGE(AG33:AN33,2),"0")+IFERROR(LARGE(AG33:AN33,3),"0")+IFERROR(LARGE(AG33:AN33,4),"0")+IFERROR(LARGE(AG33:AN33,5),"0")) -> 0 | AQ33: =(IFERROR(LARGE(AG33:AN33,1),"0")+IFERROR(LARGE(AG33:AN33,2),"0")+IFERROR(LARGE(AG33:AN33,3),"0"))/3 -> 0 | AR33: =Q33+AE33+AQ33 -> 12.666667 | AS33: =(IF(Q33>0,1,0))+(IF(AE33>0,1,0))+(IF(AQ33>0,1,0)) -> 1 | AT33: =COUNTIF(I33:N33,">"&0)+COUNTIF(S33:AB33,">"&0)+COUNTIF(AG33:AN33,">"&0) -> 2
A34: 9430173 | C34: PIEKAJ Łukasz | D34: 1989 | E34: POL | H34: M | K34: =IFERROR(VLOOKUP(A34,'DM1'!$C$1:$I$108,7,0),IFERROR(VLOOKUP(B34,'DM1'!$D$1:$I$108,6,0),"")) -> 11 | L34: =IFERROR(VLOOKUP(A34,'DM2'!$C$1:$I$108,7,0),IFERROR(VLOOKUP(B34,'DM2'!$D$1:$I$108,6,0),"")) -> 20 | M34: =IFERROR(VLOOKUP(A34,'SPF1'!$C$1:$I$108,7,0),IFERROR(VLOOKUP(B34,'SPF1'!$D$1:$I$108,6,0),"")) -> 16 | N34: =IFERROR(VLOOKUP(A34,'SPF2'!$C$1:$I$108,7,0),IFERROR(VLOOKUP(B34,'SPF2'!$D$1:$I$108,6,0),"")) -> 18 | O34: =SUM(I34:N34) -> 65 | P34: =IFERROR(LARGE(I34:N34,1),"0")+IFERROR(LARGE(I34:N34,2),"0")+IFERROR(LARGE(I34:N34,3),"0")+IFERROR(LARGE(I34:N34,4),"0") -> 65 | Q34: =(IFERROR(LARGE(I34:N34,1),"0")+IFERROR(LARGE(I34:N34,2),"0")+IFERROR(LARGE(I34:N34,3),"0"))/3 -> 18 | W34: =IFERROR(IF(B34<>0,VLOOKUP(B34,KLSBX1!$D$2:$I$120,6,FALSE()),NA()),IFERROR(IF(A34<>0,VLOOKUP(A34,KLSBX1!$C$2:$I$120,7,FALSE()),NA()),"")) | X34: =IFERROR(IF(B34<>0,VLOOKUP(B34,KLSBX2!$D$2:$I$120,6,FALSE()),NA()),IFERROR(IF(A34<>0,VLOOKUP(A34,KLSBX2!$C$2:$I$120,7,FALSE()),NA()),"")) | Y34: =IFERROR(IF(B34<>0,VLOOKUP(B34,DMSBXNC!$D$2:$I$420,6,FALSE()),NA()),IFERROR(IF(A34<>0,VLOOKUP(A34,DMSBXNC!$C$2:$I$420,7,FALSE()),NA()),"")) | Z34: =IFERROR(IF(B34<>0,VLOOKUP(B34,DMSBX1_3!$D$2:$I$420,6,FALSE()),NA()),IFERROR(IF(A34<>0,VLOOKUP(A34,DMSBX1_3!$C$2:$I$420,7,FALSE()),NA()),"")) | AA34: =IFERROR(IF(B34<>0,VLOOKUP(B34,'KLS1'!$D$2:$I$420,6,FALSE()),NA()),IFERROR(IF(A34<>0,VLOOKUP(A34,'KLS1'!$C$2:$I$420,7,FALSE()),NA()),"")) | AB34: =IFERROR(IF(B34<>0,VLOOKUP(B34,'KLS2'!$D$2:$I$426,6,FALSE()),NA()),IFERROR(IF(A34<>0,VLOOKUP(A34,'KLS2'!$C$2:$I$426,7,FALSE()),NA()),"")) | AC34: =SUM(S34:AB34) -> 0 | AD34: =(IFERROR(LARGE(S34:AB34,1),"0")+IFERROR(LARGE(S34:AB34,2),"0")+IFERROR(LARGE(S34:AB34,3),"0")+IFERROR(LARGE(S34:AB34,4),"0")+IFERROR(LARGE(S34:AB34,5),"0")+IFERROR(LARGE(S34:AB34,6),"0")+IFERROR(LARGE(S34:AB34,7),"0")+IFERROR(LARGE(S34:AB34,8),"0")) -> 0 | AE34: =(IFERROR(LARGE(S34:AB34,1),"0")+IFERROR(LARGE(S34:AB34,2),"0")+IFERROR(LARGE(S34:AB34,3),"0"))/3 -> 0 | AG34: =IFERROR(VLOOKUP(B34,FS!$A$2:$N$78,6,FALSE),"") | AH34: =IFERROR(VLOOKUP(B34,FS!$A$2:$N$78,7,FALSE),"") | AI34: =IFERROR(VLOOKUP(B34,FS!$A$2:$N$78,8,FALSE),"") | AJ34: =IFERROR(VLOOKUP(B34,FS!$A$2:$N$78,9,FALSE),"") | AK34: =IFERROR(VLOOKUP(B34,FS!$A$2:$N$78,10,FALSE),"") | AL34: =IFERROR(VLOOKUP(B34,FS!$A$2:$N$78,11,FALSE),"") | AM34: =IFERROR(VLOOKUP(B34,FS!$A$2:$N$78,12,FALSE),"") | AN34: =IFERROR(VLOOKUP(B34,FS!$A$2:$N$78,13,FALSE),"") | AO34: =SUM(AG34:AN34) -> 0 | AP34: =(IFERROR(LARGE(AG34:AN34,1),"0")+IFERROR(LARGE(AG34:AN34,2),"0")+IFERROR(LARGE(AG34:AN34,3),"0")+IFERROR(LARGE(AG34:AN34,4),"0")+IFERROR(LARGE(AG34:AN34,5),"0")) -> 0 | AQ34: =(IFERROR(LARGE(AG34:AN34,1),"0")+IFERROR(LARGE(AG34:AN34,2),"0")+IFERROR(LARGE(AG34:AN34,3),"0"))/3 -> 0 | AR34: =Q34+AE34+AQ34 -> 18 | AS34: =(IF(Q34>0,1,0))+(IF(AE34>0,1,0))+(IF(AQ34>0,1,0)) -> 1
A35: 9430048 | C35: FORYS Marek | D35: 1989 | E35: POL | H35: M | I35: =IFERROR(VLOOKUP(A36,'KLP1'!$C$1:$I$108,7,0),IFERROR(VLOOKUP(B36,'KLP1'!$D$1:$I$108,6,0),"")) | J35: =IFERROR(VLOOKUP(A36,'KLP2'!$C$1:$I$108,7,0),IFERROR(VLOOKUP(B36,'KLP2'!$D$1:$I$108,6,0),"")) | L35: =IFERROR(VLOOKUP(A36,'DM2'!$C$1:$I$108,7,0),IFERROR(VLOOKUP(B36,'DM2'!$D$1:$I$108,6,0),"")) | M35: =IFERROR(VLOOKUP(A35,'SPF1'!$C$1:$I$108,7,0),IFERROR(VLOOKUP(B35,'SPF1'!$D$1:$I$108,6,0),"")) | N35: =IFERROR(VLOOKUP(A35,'SPF2'!$C$1:$I$108,7,0),IFERROR(VLOOKUP(B35,'SPF2'!$D$1:$I$108,6,0),"")) | O35: =SUM(I35:N35) -> 0 | P35: =IFERROR(LARGE(I35:N35,1),"0")+IFERROR(LARGE(I35:N35,2),"0")+IFERROR(LARGE(I35:N35,3),"0")+IFERROR(LARGE(I35:N35,4),"0") -> 0 | Q35: =(IFERROR(LARGE(I35:N35,1),"0")+IFERROR(LARGE(I35:N35,2),"0")+IFERROR(LARGE(I35:N35,3),"0"))/3 -> 0 | S35: =IFERROR(VLOOKUP(A35,DMSBX1!$C$1:$I$108,7,0),IFERROR(VLOOKUP(B35,DMSBX1!$D$1:$I$108,6,0),"")) | U35: =IFERROR(VLOOKUP(B36,DMSBX2!$D$1:$I$101,6,0),"") | V35: =IFERROR(VLOOKUP(B36,'SP2'!$D$1:$I$107,6,0),"") -> 28.8 | W35: =IFERROR(IF(B35<>0,VLOOKUP(B35,KLSBX1!$D$2:$I$120,6,FALSE()),NA()),IFERROR(IF(A35<>0,VLOOKUP(A35,KLSBX1!$C$2:$I$120,7,FALSE()),NA()),"")) -> 15 | X35: =IFERROR(IF(B35<>0,VLOOKUP(B35,KLSBX2!$D$2:$I$120,6,FALSE()),NA()),IFERROR(IF(A35<>0,VLOOKUP(A35,KLSBX2!$C$2:$I$120,7,FALSE()),NA()),"")) -> 14 | Y35: =IFERROR(IF(B35<>0,VLOOKUP(B35,DMSBXNC!$D$2:$I$420,6,FALSE()),NA()),IFERROR(IF(A35<>0,VLOOKUP(A35,DMSBXNC!$C$2:$I$420,7,FALSE()),NA()),"")) -> 2.4 | Z35: =IFERROR(IF(B35<>0,VLOOKUP(B35,DMSBX1_3!$D$2:$I$420,6,FALSE()),NA()),IFERROR(IF(A35<>0,VLOOKUP(A35,DMSBX1_3!$C$2:$I$420,7,FALSE()),NA()),"")) -> 3.2 | AA35: =IFERROR(IF(B35<>0,VLOOKUP(B35,'KLS1'!$D$2:$I$420,6,FALSE()),NA()),IFERROR(IF(A35<>0,VLOOKUP(A35,'KLS1'!$C$2:$I$420,7,FALSE()),NA()),"")) -> 50 | AB35: =IFERROR(IF(B35<>0,VLOOKUP(B35,'KLS2'!$D$2:$I$426,6,FALSE()),NA()),IFERROR(IF(A35<>0,VLOOKUP(A35,'KLS2'!$C$2:$I$426,7,FALSE()),NA()),"")) | AC35: =SUM(S35:AB35) -> 113.4 | AD35: =(IFERROR(LARGE(S35:AB35,1),"0")+IFERROR(LARGE(S35:AB35,2),"0")+IFERROR(LARGE(S35:AB35,3),"0")+IFERROR(LARGE(S35:AB35,4),"0")+IFERROR(LARGE(S35:AB35,5),"0")+IFERROR(LARGE(S35:AB35,6),"0")+IFERROR(LARGE(S35:AB35,7),"0")+IFERROR(LARGE(S35:AB35,8),"0")) -> 113.4 | AE35: =(IFERROR(LARGE(S35:AB35,1),"0")+IFERROR(LARGE(S35:AB35,2),"0")+IFERROR(LARGE(S35:AB35,3),"0"))/3 -> 31.266667 | AG35: =IFERROR(VLOOKUP(B35,FS!$A$2:$N$78,6,FALSE),"") | AH35: =IFERROR(VLOOKUP(B35,FS!$A$2:$N$78,7,FALSE),"") | AI35: =IFERROR(VLOOKUP(B35,FS!$A$2:$N$78,8,FALSE),"") | AJ35: =IFERROR(VLOOKUP(B35,FS!$A$2:$N$78,9,FALSE),"") | AK35: =IFERROR(VLOOKUP(B35,FS!$A$2:$N$78,10,FALSE),"") | AL35: =IFERROR(VLOOKUP(B35,FS!$A$2:$N$78,11,FALSE),"") | AM35: =IFERROR(VLOOKUP(B35,FS!$A$2:$N$78,12,FALSE),"") | AN35: =IFERROR(VLOOKUP(B35,FS!$A$2:$N$78,13,FALSE),"") | AO35: =SUM(AG35:AN35) -> 0 | AP35: =(IFERROR(LARGE(AG35:AN35,1),"0")+IFERROR(LARGE(AG35:AN35,2),"0")+IFERROR(LARGE(AG35:AN35,3),"0")+IFERROR(LARGE(AG35:AN35,4),"0")+IFERROR(LARGE(AG35:AN35,5),"0")) -> 0 | AQ35: =(IFERROR(LARGE(AG35:AN35,1),"0")+IFERROR(LARGE(AG35:AN35,2),"0")+IFERROR(LARGE(AG35:AN35,3),"0"))/3 -> 0 | AR35: =Q35+AE35+AQ35 -> 31.266667 | AS35: =(IF(Q35>0,1,0))+(IF(AE35>0,1,0))+(IF(AQ35>0,1,0)) -> 1
B36: 705444 | C36: HARTL Jakub | D36: 2017 | E36: CZE | F36: =IFERROR(VLOOKUP(B36,SVEXP!$A$2:$F$6577,6,FALSE),"") -> SK SNOWRIDERS VIMPERK | G36: =IFERROR(VLOOKUP(B36,SVEXP!$A$2:$E$6577,5,FALSE),"") -> Plzeňský kraj | H36: M | I36: =IFERROR(VLOOKUP(A36,'KLP1'!$C$1:$I$108,7,0),IFERROR(VLOOKUP(B36,'KLP1'!$D$1:$I$108,6,0),"")) | J36: =IFERROR(VLOOKUP(A36,'KLP2'!$C$1:$I$108,7,0),IFERROR(VLOOKUP(B36,'KLP2'!$D$1:$I$108,6,0),"")) | K36: =IFERROR(VLOOKUP(A36,'DM1'!$C$1:$I$108,7,0),IFERROR(VLOOKUP(B36,'DM1'!$D$1:$I$108,6,0),"")) | L36: =IFERROR(VLOOKUP(A36,'DM2'!$C$1:$I$108,7,0),IFERROR(VLOOKUP(B36,'DM2'!$D$1:$I$108,6,0),"")) | M36: =IFERROR(VLOOKUP(A36,'SPF1'!$C$1:$I$108,7,0),IFERROR(VLOOKUP(B36,'SPF1'!$D$1:$I$108,6,0),"")) | N36: =IFERROR(VLOOKUP(A36,'SPF2'!$C$1:$I$108,7,0),IFERROR(VLOOKUP(B36,'SPF2'!$D$1:$I$108,6,0),"")) | O36: =SUM(I36:N36) -> 0 | P36: =IFERROR(LARGE(I36:N36,1),"0")+IFERROR(LARGE(I36:N36,2),"0")+IFERROR(LARGE(I36:N36,3),"0")+IFERROR(LARGE(I36:N36,4),"0") -> 0 | Q36: =(IFERROR(LARGE(I36:N36,1),"0")+IFERROR(LARGE(I36:N36,2),"0")+IFERROR(LARGE(I36:N36,3),"0"))/3 -> 0 | S36: =IFERROR(VLOOKUP(A36,DMSBX1!$C$1:$I$108,7,0),IFERROR(VLOOKUP(B36,DMSBX1!$D$1:$I$108,6,0),"")) | U36: =IFERROR(VLOOKUP(B36,'SP1'!$D$1:$I$107,6,0),"") | V36: =IFERROR(VLOOKUP(B36,'SP2'!$D$1:$I$107,6,0),"") -> 28.8 | W36: =IFERROR(IF(B36<>0,VLOOKUP(B36,KLSBX1!$D$2:$I$120,6,FALSE()),NA()),IFERROR(IF(A36<>0,VLOOKUP(A36,KLSBX1!$C$2:$I$120,7,FALSE()),NA()),"")) | X36: =IFERROR(IF(B36<>0,VLOOKUP(B36,KLSBX2!$D$2:$I$120,6,FALSE()),NA()),IFERROR(IF(A36<>0,VLOOKUP(A36,KLSBX2!$C$2:$I$120,7,FALSE()),NA()),"")) | Y36: =IFERROR(IF(B36<>0,VLOOKUP(B36,DMSBXNC!$D$2:$I$420,6,FALSE()),NA()),IFERROR(IF(A36<>0,VLOOKUP(A36,DMSBXNC!$C$2:$I$420,7,FALSE()),NA()),"")) | Z36: =IFERROR(IF(B36<>0,VLOOKUP(B36,DMSBX1_3!$D$2:$I$420,6,FALSE()),NA()),IFERROR(IF(A36<>0,VLOOKUP(A36,DMSBX1_3!$C$2:$I$420,7,FALSE()),NA()),"")) | AA36: =IFERROR(IF(B36<>0,VLOOKUP(B36,'KLS1'!$D$2:$I$420,6,FALSE()),NA()),IFERROR(IF(A36<>0,VLOOKUP(A36,'KLS1'!$C$2:$I$420,7,FALSE()),NA()),"")) | AB36: =IFERROR(IF(B36<>0,VLOOKUP(B36,'KLS2'!$D$2:$I$426,6,FALSE()),NA()),IFERROR(IF(A36<>0,VLOOKUP(A36,'KLS2'!$C$2:$I$426,7,FALSE()),NA()),"")) | AC36: =SUM(S36:AB36) -> 28.8 | AD36: =(IFERROR(LARGE(S36:AB36,1),"0")+IFERROR(LARGE(S36:AB36,2),"0")+IFERROR(LARGE(S36:AB36,3),"0")+IFERROR(LARGE(S36:AB36,4),"0")+IFERROR(LARGE(S36:AB36,5),"0")+IFERROR(LARGE(S36:AB36,6),"0")+IFERROR(LARGE(S36:AB36,7),"0")+IFERROR(LARGE(S36:AB36,8),"0")) -> 28.8 | AE36: =(IFERROR(LARGE(S36:AB36,1),"0")+IFERROR(LARGE(S36:AB36,2),"0")+IFERROR(LARGE(S36:AB36,3),"0"))/3 -> 9.6 | AG36: =IFERROR(VLOOKUP(B36,FS!$A$2:$N$78,6,FALSE),"") | AH36: =IFERROR(VLOOKUP(B36,FS!$A$2:$N$78,7,FALSE),"") | AI36: =IFERROR(VLOOKUP(B36,FS!$A$2:$N$78,8,FALSE),"") | AJ36: =IFERROR(VLOOKUP(B36,FS!$A$2:$N$78,9,FALSE),"") | AK36: =IFERROR(VLOOKUP(B36,FS!$A$2:$N$78,10,FALSE),"") | AL36: =IFERROR(VLOOKUP(B36,FS!$A$2:$N$78,11,FALSE),"") | AM36: =IFERROR(VLOOKUP(B36,FS!$A$2:$N$78,12,FALSE),"") | AN36: =IFERROR(VLOOKUP(B36,FS!$A$2:$N$78,13,FALSE),"") | AO36: =SUM(AG36:AN36) -> 0 | AP36: =(IFERROR(LARGE(AG36:AN36,1),"0")+IFERROR(LARGE(AG36:AN36,2),"0")+IFERROR(LARGE(AG36:AN36,3),"0")+IFERROR(LARGE(AG36:AN36,4),"0")+IFERROR(LARGE(AG36:AN36,5),"0")) -> 0 | AQ36: =(IFERROR(LARGE(AG36:AN36,1),"0")+IFERROR(LARGE(AG36:AN36,2),"0")+IFERROR(LARGE(AG36:AN36,3),"0"))/3 -> 0 | AR36: =Q36+AE36+AQ36 -> 9.6 | AS36: =(IF(Q36>0,1,0))+(IF(AE36>0,1,0))+(IF(AQ36>0,1,0)) -> 1 | AT36: =COUNTIF(I36:N36,">"&0)+COUNTIF(S36:AB36,">"&0)+COUNTIF(AG36:AN36,">"&0) -> 1
B37: 779103 | C37: SÁDOVSKÝ Šimon | D37: 2017 | E37: CZE | F37: =IFERROR(VLOOKUP(B37,SVEXP!$A$2:$F$6577,6,FALSE),"") -> Snow Rockets | G37: =IFERROR(VLOOKUP(B37,SVEXP!$A$2:$E$6577,5,FALSE),"") -> Středočeský kraj | H37: M | I37: =IFERROR(VLOOKUP(A37,'KLP1'!$C$1:$I$108,7,0),IFERROR(VLOOKUP(B37,'KLP1'!$D$1:$I$108,6,0),"")) | J37: =IFERROR(VLOOKUP(A37,'KLP2'!$C$1:$I$108,7,0),IFERROR(VLOOKUP(B37,'KLP2'!$D$1:$I$108,6,0),"")) | K37: =IFERROR(VLOOKUP(A37,'DM1'!$C$1:$I$108,7,0),IFERROR(VLOOKUP(B37,'DM1'!$D$1:$I$108,6,0),"")) | L37: =IFERROR(VLOOKUP(A37,'DM2'!$C$1:$I$108,7,0),IFERROR(VLOOKUP(B37,'DM2'!$D$1:$I$108,6,0),"")) | M37: =IFERROR(VLOOKUP(A37,'SPF1'!$C$1:$I$108,7,0),IFERROR(VLOOKUP(B37,'SPF1'!$D$1:$I$108,6,0),"")) | N37: =IFERROR(VLOOKUP(A37,'SPF2'!$C$1:$I$108,7,0),IFERROR(VLOOKUP(B37,'SPF2'!$D$1:$I$108,6,0),"")) | O37: =SUM(I37:N37) -> 0 | P37: =IFERROR(LARGE(I37:N37,1),"0")+IFERROR(LARGE(I37:N37,2),"0")+IFERROR(LARGE(I37:N37,3),"0")+IFERROR(LARGE(I37:N37,4),"0") -> 0 | Q37: =(IFERROR(LARGE(I37:N37,1),"0")+IFERROR(LARGE(I37:N37,2),"0")+IFERROR(LARGE(I37:N37,3),"0"))/3 -> 0 | S37: =IFERROR(VLOOKUP(A37,DMSBX1!$C$1:$I$108,7,0),IFERROR(VLOOKUP(B37,DMSBX1!$D$1:$I$108,6,0),"")) | U37: =IFERROR(VLOOKUP(B37,'SP1'!$D$1:$I$107,6,0),"") | V37: =IFERROR(VLOOKUP(B37,'SP2'!$D$1:$I$107,6,0),"") -> 32 | W37: =IFERROR(IF(B37<>0,VLOOKUP(B37,KLSBX1!$D$2:$I$120,6,FALSE()),NA()),IFERROR(IF(A37<>0,VLOOKUP(A37,KLSBX1!$C$2:$I$120,7,FALSE()),NA()),"")) | X37: =IFERROR(IF(B37<>0,VLOOKUP(B37,KLSBX2!$D$2:$I$120,6,FALSE()),NA()),IFERROR(IF(A37<>0,VLOOKUP(A37,KLSBX2!$C$2:$I$120,7,FALSE()),NA()),"")) | Y37: =IFERROR(IF(B37<>0,VLOOKUP(B37,DMSBXNC!$D$2:$I$420,6,FALSE()),NA()),IFERROR(IF(A37<>0,VLOOKUP(A37,DMSBXNC!$C$2:$I$420,7,FALSE()),NA()),"")) | Z37: =IFERROR(IF(B37<>0,VLOOKUP(B37,DMSBX1_3!$D$2:$I$420,6,FALSE()),NA()),IFERROR(IF(A37<>0,VLOOKUP(A37,DMSBX1_3!$C$2:$I$420,7,FALSE()),NA()),"")) | AA37: =IFERROR(IF(B37<>0,VLOOKUP(B37,'KLS1'!$D$2:$I$420,6,FALSE()),NA()),IFERROR(IF(A37<>0,VLOOKUP(A37,'KLS1'!$C$2:$I$420,7,FALSE()),NA()),"")) | AB37: =IFERROR(IF(B37<>0,VLOOKUP(B37,'KLS2'!$D$2:$I$426,6,FALSE()),NA()),IFERROR(IF(A37<>0,VLOOKUP(A37,'KLS2'!$C$2:$I$426,7,FALSE()),NA()),"")) | AC37: =SUM(S37:AB37) -> 32 | AD37: =(IFERROR(LARGE(S37:AB37,1),"0")+IFERROR(LARGE(S37:AB37,2),"0")+IFERROR(LARGE(S37:AB37,3),"0")+IFERROR(LARGE(S37:AB37,4),"0")+IFERROR(LARGE(S37:AB37,5),"0")+IFERROR(LARGE(S37:AB37,6),"0")+IFERROR(LARGE(S37:AB37,7),"0")+IFERROR(LARGE(S37:AB37,8),"0")) -> 32 | AE37: =(IFERROR(LARGE(S37:AB37,1),"0")+IFERROR(LARGE(S37:AB37,2),"0")+IFERROR(LARGE(S37:AB37,3),"0"))/3 -> 10.666667 | AG37: =IFERROR(VLOOKUP(B37,FS!$A$2:$N$78,6,FALSE),"") | AH37: =IFERROR(VLOOKUP(B37,FS!$A$2:$N$78,7,FALSE),"") | AI37: =IFERROR(VLOOKUP(B37,FS!$A$2:$N$78,8,FALSE),"") | AJ37: =IFERROR(VLOOKUP(B37,FS!$A$2:$N$78,9,FALSE),"") | AK37: =IFERROR(VLOOKUP(B37,FS!$A$2:$N$78,10,FALSE),"") | AL37: =IFERROR(VLOOKUP(B37,FS!$A$2:$N$78,11,FALSE),"") | AM37: =IFERROR(VLOOKUP(B37,FS!$A$2:$N$78,12,FALSE),"") | AN37: =IFERROR(VLOOKUP(B37,FS!$A$2:$N$78,13,FALSE),"") | AO37: =SUM(AG37:AN37) -> 0 | AP37: =(IFERROR(LARGE(AG37:AN37,1),"0")+IFERROR(LARGE(AG37:AN37,2),"0")+IFERROR(LARGE(AG37:AN37,3),"0")+IFERROR(LARGE(AG37:AN37,4),"0")+IFERROR(LARGE(AG37:AN37,5),"0")) -> 0 | AQ37: =(IFERROR(LARGE(AG37:AN37,1),"0")+IFERROR(LARGE(AG37:AN37,2),"0")+IFERROR(LARGE(AG37:AN37,3),"0"))/3 -> 0 | AR37: =Q37+AE37+AQ37 -> 10.666667 | AS37: =(IF(Q37>0,1,0))+(IF(AE37>0,1,0))+(IF(AQ37>0,1,0)) -> 1 | AT37: =COUNTIF(I37:N37,">"&0)+COUNTIF(S37:AB37,">"&0)+COUNTIF(AG37:AN37,">"&0) -> 1
B38: 887880 | C38: Novotná Luisa Anna | D38: 2016 | E38: CZE | F38: =IFERROR(VLOOKUP(B38,SVEXP!$A$2:$F$6577,6,FALSE),"") -> SA Špindlerův Mlýn | G38: =IFERROR(VLOOKUP(B38,SVEXP!$A$2:$E$6577,5,FALSE),"") -> Hlavní město Praha | H38: L | I38: =IFERROR(VLOOKUP(A38,'KLP1'!$C$1:$I$108,7,0),IFERROR(VLOOKUP(B38,'KLP1'!$D$1:$I$108,6,0),"")) | J38: =IFERROR(VLOOKUP(A38,'KLP2'!$C$1:$I$108,7,0),IFERROR(VLOOKUP(B38,'KLP2'!$D$1:$I$108,6,0),"")) | K38: =IFERROR(VLOOKUP(A38,'DM1'!$C$1:$I$108,7,0),IFERROR(VLOOKUP(B38,'DM1'!$D$1:$I$108,6,0),"")) | L38: =IFERROR(VLOOKUP(A38,'DM2'!$C$1:$I$108,7,0),IFERROR(VLOOKUP(B38,'DM2'!$D$1:$I$108,6,0),"")) | M38: =IFERROR(VLOOKUP(A38,'SPF1'!$C$1:$I$108,7,0),IFERROR(VLOOKUP(B38,'SPF1'!$D$1:$I$108,6,0),"")) -> 48 | N38: =IFERROR(VLOOKUP(A38,'SPF2'!$C$1:$I$108,7,0),IFERROR(VLOOKUP(B38,'SPF2'!$D$1:$I$108,6,0),"")) -> 56 | O38: =SUM(I38:N38) -> 104 | P38: =IFERROR(LARGE(I38:N38,1),"0")+IFERROR(LARGE(I38:N38,2),"0")+IFERROR(LARGE(I38:N38,3),"0")+IFERROR(LARGE(I38:N38,4),"0") -> 104 | Q38: =(IFERROR(LARGE(I38:N38,1),"0")+IFERROR(LARGE(I38:N38,2),"0")+IFERROR(LARGE(I38:N38,3),"0"))/3 -> 34.666667 | S38: =IFERROR(VLOOKUP(A38,DMSBX1!$C$1:$I$108,7,0),IFERROR(VLOOKUP(B38,DMSBX1!$D$1:$I$108,6,0),"")) -> 30 | T38: =IFERROR(VLOOKUP(A38,DMSBX2!$C$1:$I$101,7,0),IFERROR(VLOOKUP(B38,DMSBX2!$D$1:$I$101,6,0),"")) -> 30 | U38: =IFERROR(VLOOKUP(B38,'SP1'!$D$1:$I$107,6,0),"") -> 45 | V38: =IFERROR(VLOOKUP(B38,'SP2'!$D$1:$I$107,6,0),"") -> 70 | W38: =IFERROR(IF(B38<>0,VLOOKUP(B38,KLSBX1!$D$2:$I$120,6,FALSE()),NA()),IFERROR(IF(A38<>0,VLOOKUP(A38,KLSBX1!$C$2:$I$120,7,FALSE()),NA()),"")) -> 64 | X38: =IFERROR(IF(B38<>0,VLOOKUP(B38,KLSBX2!$D$2:$I$120,6,FALSE()),NA()),IFERROR(IF(A38<>0,VLOOKUP(A38,KLSBX2!$C$2:$I$120,7,FALSE()),NA()),"")) -> 80 | Y38: =IFERROR(IF(B38<>0,VLOOKUP(B38,DMSBXNC!$D$2:$I$420,6,FALSE()),NA()),IFERROR(IF(A38<>0,VLOOKUP(A38,DMSBXNC!$C$2:$I$420,7,FALSE()),NA()),"")) -> 64 | Z38: =IFERROR(IF(B38<>0,VLOOKUP(B38,DMSBX1_3!$D$2:$I$420,6,FALSE()),NA()),IFERROR(IF(A38<>0,VLOOKUP(A38,DMSBX1_3!$C$2:$I$420,7,FALSE()),NA()),"")) -> 64 | AA38: =IFERROR(IF(B38<>0,VLOOKUP(B38,'KLS1'!$D$2:$I$420,6,FALSE()),NA()),IFERROR(IF(A38<>0,VLOOKUP(A38,'KLS1'!$C$2:$I$420,7,FALSE()),NA()),"")) -> 48 | AB38: =IFERROR(IF(B38<>0,VLOOKUP(B38,'KLS2'!$D$2:$I$426,6,FALSE()),NA()),IFERROR(IF(A38<>0,VLOOKUP(A38,'KLS2'!$C$2:$I$426,7,FALSE()),NA()),"")) -> 30 | AC38: =SUM(S38:AB38) -> 525 | AD38: =(IFERROR(LARGE(S38:AB38,1),"0")+IFERROR(LARGE(S38:AB38,2),"0")+IFERROR(LARGE(S38:AB38,3),"0")+IFERROR(LARGE(S38:AB38,4),"0")+IFERROR(LARGE(S38:AB38,5),"0")+IFERROR(LARGE(S38:AB38,6),"0")+IFERROR(LARGE(S38:AB38,7),"0")+IFERROR(LARGE(S38:AB38,8),"0")) -> 465 | AE38: =(IFERROR(LARGE(S38:AB38,1),"0")+IFERROR(LARGE(S38:AB38,2),"0")+IFERROR(LARGE(S38:AB38,3),"0"))/3 -> 71.333333 | AG38: =IFERROR(VLOOKUP(B38,FS!$A$2:$N$78,6,FALSE),"") -> 16 | AN38: =IFERROR(VLOOKUP(B38,FS!$A$2:$N$78,13,FALSE),"") -> 16 | AO38: =SUM(AG38:AN38) -> 32 | AP38: =(IFERROR(LARGE(AG38:AN38,1),"0")+IFERROR(LARGE(AG38:AN38,2),"0")+IFERROR(LARGE(AG38:AN38,3),"0")+IFERROR(LARGE(AG38:AN38,4),"0")+IFERROR(LARGE(AG38:AN38,5),"0")) -> 32 | AQ38: =(IFERROR(LARGE(AG38:AN38,1),"0")+IFERROR(LARGE(AG38:AN38,2),"0")+IFERROR(LARGE(AG38:AN38,3),"0"))/3 -> 10.666667 | AR38: =Q38+AE38+AQ38 -> 116.66667 | AS38: =(IF(Q38>0,1,0))+(IF(AE38>0,1,0))+(IF(AQ38>0,1,0)) -> 3 | AT38: =COUNTIF(I38:N38,">"&0)+COUNTIF(S38:AB38,">"&0)+COUNTIF(AG38:AN38,">"&0) -> 14
A39: 9690065 | C39: ALEKSANDROVSKYY Roman | D39: 1994 | E39: UKR | H39: M | M39: =IFERROR(VLOOKUP(A39,'SPF1'!$C$1:$I$108,7,0),IFERROR(VLOOKUP(B39,'SPF1'!$D$1:$I$108,6,0),"")) | N39: =IFERROR(VLOOKUP(A39,'SPF2'!$C$1:$I$108,7,0),IFERROR(VLOOKUP(B39,'SPF2'!$D$1:$I$108,6,0),"")) | O39: =SUM(I39:N39) -> 0 | P39: =IFERROR(LARGE(I39:N39,1),"0")+IFERROR(LARGE(I39:N39,2),"0")+IFERROR(LARGE(I39:N39,3),"0")+IFERROR(LARGE(I39:N39,4),"0") -> 0 | Q39: =(IFERROR(LARGE(I39:N39,1),"0")+IFERROR(LARGE(I39:N39,2),"0")+IFERROR(LARGE(I39:N39,3),"0"))/3 -> 0 | X39: =IFERROR(IF(B39<>0,VLOOKUP(B39,KLSBX2!$D$2:$I$120,6,FALSE()),NA()),IFERROR(IF(A39<>0,VLOOKUP(A39,KLSBX2!$C$2:$I$120,7,FALSE()),NA()),"")) | Y39: =IFERROR(IF(B39<>0,VLOOKUP(B39,DMSBXNC!$D$2:$I$420,6,FALSE()),NA()),IFERROR(IF(A39<>0,VLOOKUP(A39,DMSBXNC!$C$2:$I$420,7,FALSE()),NA()),"")) -> 12 | Z39: =IFERROR(IF(B39<>0,VLOOKUP(B39,DMSBX1_3!$D$2:$I$420,6,FALSE()),NA()),IFERROR(IF(A39<>0,VLOOKUP(A39,DMSBX1_3!$C$2:$I$420,7,FALSE()),NA()),"")) -> 40 | AA39: =IFERROR(IF(B39<>0,VLOOKUP(B39,'KLS1'!$D$2:$I$420,6,FALSE()),NA()),IFERROR(IF(A39<>0,VLOOKUP(A39,'KLS1'!$C$2:$I$420,7,FALSE()),NA()),"")) | AB39: =IFERROR(IF(B39<>0,VLOOKUP(B39,'KLS2'!$D$2:$I$426,6,FALSE()),NA()),IFERROR(IF(A39<>0,VLOOKUP(A39,'KLS2'!$C$2:$I$426,7,FALSE()),NA()),"")) | AC39: =SUM(S39:AB39) -> 52 | AD39: =(IFERROR(LARGE(S39:AB39,1),"0")+IFERROR(LARGE(S39:AB39,2),"0")+IFERROR(LARGE(S39:AB39,3),"0")+IFERROR(LARGE(S39:AB39,4),"0")+IFERROR(LARGE(S39:AB39,5),"0")+IFERROR(LARGE(S39:AB39,6),"0")+IFERROR(LARGE(S39:AB39,7),"0")+IFERROR(LARGE(S39:AB39,8),"0")) -> 52 | AE39: =(IFERROR(LARGE(S39:AB39,1),"0")+IFERROR(LARGE(S39:AB39,2),"0")+IFERROR(LARGE(S39:AB39,3),"0"))/3 -> 17.333333 | AG39: =IFERROR(VLOOKUP(B39,FS!$A$2:$N$78,6,FALSE),"") | AH39: =IFERROR(VLOOKUP(B39,FS!$A$2:$N$78,7,FALSE),"") | AI39: =IFERROR(VLOOKUP(B39,FS!$A$2:$N$78,8,FALSE),"") | AJ39: =IFERROR(VLOOKUP(B39,FS!$A$2:$N$78,9,FALSE),"") | AK39: =IFERROR(VLOOKUP(B39,FS!$A$2:$N$78,10,FALSE),"") | AL39: =IFERROR(VLOOKUP(B39,FS!$A$2:$N$78,11,FALSE),"") | AM39: =IFERROR(VLOOKUP(B39,FS!$A$2:$N$78,12,FALSE),"") | AN39: =IFERROR(VLOOKUP(B39,FS!$A$2:$N$78,13,FALSE),"") | AO39: =SUM(AG39:AN39) -> 0 | AP39: =(IFERROR(LARGE(AG39:AN39,1),"0")+IFERROR(LARGE(AG39:AN39,2),"0")+IFERROR(LARGE(AG39:AN39,3),"0")+IFERROR(LARGE(AG39:AN39,4),"0")+IFERROR(LARGE(AG39:AN39,5),"0")) -> 0 | AQ39: =(IFERROR(LARGE(AG39:AN39,1),"0")+IFERROR(LARGE(AG39:AN39,2),"0")+IFERROR(LARGE(AG39:AN39,3),"0"))/3 -> 0 | AR39: =Q39+AE39+AQ39 -> 17.333333 | AS39: =(IF(Q39>0,1,0))+(IF(AE39>0,1,0))+(IF(AQ39>0,1,0)) -> 1
B40: 887898 | C40: Pažoutová Natálie | D40: 2016 | E40: CZE | F40: =IFERROR(VLOOKUP(B40,SVEXP!$A$2:$F$6577,6,FALSE),"") -> SA Špindlerův Mlýn | G40: =IFERROR(VLOOKUP(B40,SVEXP!$A$2:$E$6577,5,FALSE),"") -> Hlavní město Praha | H40: L | I40: =IFERROR(VLOOKUP(A40,'KLP1'!$C$1:$I$108,7,0),IFERROR(VLOOKUP(B40,'KLP1'!$D$1:$I$108,6,0),"")) | J40: =IFERROR(VLOOKUP(A40,'KLP2'!$C$1:$I$108,7,0),IFERROR(VLOOKUP(B40,'KLP2'!$D$1:$I$108,6,0),"")) | K40: =IFERROR(VLOOKUP(A40,'DM1'!$C$1:$I$108,7,0),IFERROR(VLOOKUP(B40,'DM1'!$D$1:$I$108,6,0),"")) | L40: =IFERROR(VLOOKUP(A40,'DM2'!$C$1:$I$108,7,0),IFERROR(VLOOKUP(B40,'DM2'!$D$1:$I$108,6,0),"")) | M40: =IFERROR(VLOOKUP(A40,'SPF1'!$C$1:$I$108,7,0),IFERROR(VLOOKUP(B40,'SPF1'!$D$1:$I$108,6,0),"")) -> 64 | N40: =IFERROR(VLOOKUP(A40,'SPF2'!$C$1:$I$108,7,0),IFERROR(VLOOKUP(B40,'SPF2'!$D$1:$I$108,6,0),"")) | O40: =SUM(I40:N40) -> 64 | P40: =IFERROR(LARGE(I40:N40,1),"0")+IFERROR(LARGE(I40:N40,2),"0")+IFERROR(LARGE(I40:N40,3),"0")+IFERROR(LARGE(I40:N40,4),"0") -> 64 | Q40: =(IFERROR(LARGE(I40:N40,1),"0")+IFERROR(LARGE(I40:N40,2),"0")+IFERROR(LARGE(I40:N40,3),"0"))/3 -> 21.333333 | S40: =IFERROR(VLOOKUP(A40,DMSBX1!$C$1:$I$108,7,0),IFERROR(VLOOKUP(B40,DMSBX1!$D$1:$I$108,6,0),"")) -> 40 | T40: =IFERROR(VLOOKUP(A40,DMSBX2!$C$1:$I$101,7,0),IFERROR(VLOOKUP(B40,DMSBX2!$D$1:$I$101,6,0),"")) -> 40 | U40: =IFERROR(VLOOKUP(B40,'SP1'!$D$1:$I$107,6,0),"") | V40: =IFERROR(VLOOKUP(B40,'SP2'!$D$1:$I$107,6,0),"") | W40: =IFERROR(IF(B40<>0,VLOOKUP(B40,KLSBX1!$D$2:$I$120,6,FALSE()),NA()),IFERROR(IF(A40<>0,VLOOKUP(A40,KLSBX1!$C$2:$I$120,7,FALSE()),NA()),"")) -> 48 | X40: =IFERROR(IF(B40<>0,VLOOKUP(B40,KLSBX2!$D$2:$I$120,6,FALSE()),NA()),IFERROR(IF(A40<>0,VLOOKUP(A40,KLSBX2!$C$2:$I$120,7,FALSE()),NA()),"")) -> 60 | Y40: =IFERROR(IF(B40<>0,VLOOKUP(B40,DMSBXNC!$D$2:$I$420,6,FALSE()),NA()),IFERROR(IF(A40<>0,VLOOKUP(A40,DMSBXNC!$C$2:$I$420,7,FALSE()),NA()),"")) -> 40 | Z40: =IFERROR(IF(B40<>0,VLOOKUP(B40,DMSBX1_3!$D$2:$I$420,6,FALSE()),NA()),IFERROR(IF(A40<>0,VLOOKUP(A40,DMSBX1_3!$C$2:$I$420,7,FALSE()),NA()),"")) -> 32 | AA40: =IFERROR(IF(B40<>0,VLOOKUP(B40,'KLS1'!$D$2:$I$420,6,FALSE()),NA()),IFERROR(IF(A40<>0,VLOOKUP(A40,'KLS1'!$C$2:$I$420,7,FALSE()),NA()),"")) | AB40: =IFERROR(IF(B40<>0,VLOOKUP(B40,'KLS2'!$D$2:$I$426,6,FALSE()),NA()),IFERROR(IF(A40<>0,VLOOKUP(A40,'KLS2'!$C$2:$I$426,7,FALSE()),NA()),"")) | AC40: =SUM(S40:AB40) -> 260 | AD40: =(IFERROR(LARGE(S40:AB40,1),"0")+IFERROR(LARGE(S40:AB40,2),"0")+IFERROR(LARGE(S40:AB40,3),"0")+IFERROR(LARGE(S40:AB40,4),"0")+IFERROR(LARGE(S40:AB40,5),"0")+IFERROR(LARGE(S40:AB40,6),"0")+IFERROR(LARGE(S40:AB40,7),"0")+IFERROR(LARGE(S40:AB40,8),"0")) -> 260 | AE40: =(IFERROR(LARGE(S40:AB40,1),"0")+IFERROR(LARGE(S40:AB40,2),"0")+IFERROR(LARGE(S40:AB40,3),"0"))/3 -> 49.333333 | AG40: =IFERROR(VLOOKUP(B40,FS!$A$2:$N$78,6,FALSE),"") -> 20 | AH40: =IFERROR(VLOOKUP(B40,FS!$A$2:$N$78,7,FALSE),"") -> 20 | AJ40: =IFERROR(VLOOKUP(B40,FS!$A$2:$N$78,9,FALSE),"") -> 40 | AK40: =IFERROR(VLOOKUP(B40,FS!$A$2:$N$78,10,FALSE),"") -> 10 | AL40: =IFERROR(VLOOKUP(B40,FS!$A$2:$N$78,11,FALSE),"") -> 10 | AM40: =IFERROR(VLOOKUP(B40,FS!$A$2:$N$78,12,FALSE),"") -> 40 | AN40: =IFERROR(VLOOKUP(B40,FS!$A$2:$N$78,13,FALSE),"") -> 20 | AO40: =SUM(AG40:AN40) -> 160 | AP40: =(IFERROR(LARGE(AG40:AN40,1),"0")+IFERROR(LARGE(AG40:AN40,2),"0")+IFERROR(LARGE(AG40:AN40,3),"0")+IFERROR(LARGE(AG40:AN40,4),"0")+IFERROR(LARGE(AG40:AN40,5),"0")) -> 140 | AQ40: =(IFERROR(LARGE(AG40:AN40,1),"0")+IFERROR(LARGE(AG40:AN40,2),"0")+IFERROR(LARGE(AG40:AN40,3),"0"))/3 -> 33.333333 | AR40: =Q40+AE40+AQ40 -> 104 | AS40: =(IF(Q40>0,1,0))+(IF(AE40>0,1,0))+(IF(AQ40>0,1,0)) -> 3 | AT40: =COUNTIF(I40:N40,">"&0)+COUNTIF(S40:AB40,">"&0)+COUNTIF(AG40:AN40,">"&0) -> 14
B41: 887094 | C41: Bendová Ema | D41: 2016 | E41: CZE | F41: =IFERROR(VLOOKUP(B41,SVEXP!$A$2:$F$6577,6,FALSE),"") -> Neregistrovaní | G41: =IFERROR(VLOOKUP(B41,SVEXP!$A$2:$E$6577,5,FALSE),"") -> Hlavní město Praha | H41: L | I41: =IFERROR(VLOOKUP(#REF!,'KLP1'!$C$1:$I$108,7,0),IFERROR(VLOOKUP(A41,'KLP1'!$D$1:$I$108,6,0),"")) | J41: =IFERROR(VLOOKUP(#REF!,'KLP2'!$C$1:$I$108,7,0),IFERROR(VLOOKUP(A41,'KLP2'!$D$1:$I$108,6,0),"")) | K41: =IFERROR(VLOOKUP(#REF!,'DM1'!$C$1:$I$108,7,0),IFERROR(VLOOKUP(A41,'DM1'!$D$1:$I$108,6,0),"")) | L41: =IFERROR(VLOOKUP(#REF!,'DM2'!$C$1:$I$108,7,0),IFERROR(VLOOKUP(A41,'DM2'!$D$1:$I$108,6,0),"")) | M41: =IFERROR(VLOOKUP(A41,'SPF1'!$C$1:$I$108,7,0),IFERROR(VLOOKUP(B41,'SPF1'!$D$1:$I$108,6,0),"")) | N41: =IFERROR(VLOOKUP(A41,'SPF2'!$C$1:$I$108,7,0),IFERROR(VLOOKUP(B41,'SPF2'!$D$1:$I$108,6,0),"")) | O41: =SUM(I41:N41) -> 0 | P41: =IFERROR(LARGE(I41:N41,1),"0")+IFERROR(LARGE(I41:N41,2),"0")+IFERROR(LARGE(I41:N41,3),"0")+IFERROR(LARGE(I41:N41,4),"0") -> 0 | Q41: =(IFERROR(LARGE(I41:N41,1),"0")+IFERROR(LARGE(I41:N41,2),"0")+IFERROR(LARGE(I41:N41,3),"0"))/3 -> 0 | S41: =IFERROR(VLOOKUP(A41,DMSBX1!$C$1:$I$108,7,0),IFERROR(VLOOKUP(B41,DMSBX1!$D$1:$I$108,6,0),"")) | U41: =IFERROR(VLOOKUP(B41,'SP1'!$D$1:$I$107,6,0),"") | V41: =IFERROR(VLOOKUP(B41,'SP2'!$D$1:$I$107,6,0),"") | W41: =IFERROR(IF(B41<>0,VLOOKUP(B41,KLSBX1!$D$2:$I$120,6,FALSE()),NA()),IFERROR(IF(A41<>0,VLOOKUP(A41,KLSBX1!$C$2:$I$120,7,FALSE()),NA()),"")) -> 32 | X41: =IFERROR(IF(B41<>0,VLOOKUP(B41,KLSBX2!$D$2:$I$120,6,FALSE()),NA()),IFERROR(IF(A41<>0,VLOOKUP(A41,KLSBX2!$C$2:$I$120,7,FALSE()),NA()),"")) -> 36 | Y41: =IFERROR(IF(B41<>0,VLOOKUP(B41,DMSBXNC!$D$2:$I$420,6,FALSE()),NA()),IFERROR(IF(A41<>0,VLOOKUP(A41,DMSBXNC!$C$2:$I$420,7,FALSE()),NA()),"")) | Z41: =IFERROR(IF(B41<>0,VLOOKUP(B41,DMSBX1_3!$D$2:$I$420,6,FALSE()),NA()),IFERROR(IF(A41<>0,VLOOKUP(A41,DMSBX1_3!$C$2:$I$420,7,FALSE()),NA()),"")) | AA41: =IFERROR(IF(B41<>0,VLOOKUP(B41,'KLS1'!$D$2:$I$420,6,FALSE()),NA()),IFERROR(IF(A41<>0,VLOOKUP(A41,'KLS1'!$C$2:$I$420,7,FALSE()),NA()),"")) -> 24 | AB41: =IFERROR(IF(B41<>0,VLOOKUP(B41,'KLS2'!$D$2:$I$426,6,FALSE()),NA()),IFERROR(IF(A41<>0,VLOOKUP(A41,'KLS2'!$C$2:$I$426,7,FALSE()),NA()),"")) | AC41: =SUM(S41:AB41) -> 92 | AD41: =(IFERROR(LARGE(S41:AB41,1),"0")+IFERROR(LARGE(S41:AB41,2),"0")+IFERROR(LARGE(S41:AB41,3),"0")+IFERROR(LARGE(S41:AB41,4),"0")+IFERROR(LARGE(S41:AB41,5),"0")+IFERROR(LARGE(S41:AB41,6),"0")+IFERROR(LARGE(S41:AB41,7),"0")+IFERROR(LARGE(S41:AB41,8),"0")) -> 92 | AE41: =(IFERROR(LARGE(S41:AB41,1),"0")+IFERROR(LARGE(S41:AB41,2),"0")+IFERROR(LARGE(S41:AB41,3),"0"))/3 -> 30.666667 | AG41: =IFERROR(VLOOKUP(B41,FS!$A$2:$N$78,6,FALSE),"") | AH41: =IFERROR(VLOOKUP(B41,FS!$A$2:$N$78,7,FALSE),"") | AI41: =IFERROR(VLOOKUP(B41,FS!$A$2:$N$78,8,FALSE),"") | AJ41: =IFERROR(VLOOKUP(B41,FS!$A$2:$N$78,9,FALSE),"") | AK41: =IFERROR(VLOOKUP(B41,FS!$A$2:$N$78,10,FALSE),"") | AL41: =IFERROR(VLOOKUP(B41,FS!$A$2:$N$78,11,FALSE),"") | AM41: =IFERROR(VLOOKUP(B41,FS!$A$2:$N$78,12,FALSE),"") | AN41: =IFERROR(VLOOKUP(B41,FS!$A$2:$N$78,13,FALSE),"") | AO41: =SUM(AG41:AN41) -> 0 | AP41: =(IFERROR(LARGE(AG41:AN41,1),"0")+IFERROR(LARGE(AG41:AN41,2),"0")+IFERROR(LARGE(AG41:AN41,3),"0")+IFERROR(LARGE(AG41:AN41,4),"0")+IFERROR(LARGE(AG41:AN41,5),"0")) -> 0 | AQ41: =(IFERROR(LARGE(AG41:AN41,1),"0")+IFERROR(LARGE(AG41:AN41,2),"0")+IFERROR(LARGE(AG41:AN41,3),"0"))/3 -> 0 | AR41: =Q41+AE41+AQ41 -> 30.666667 | AS41: =(IF(Q41>0,1,0))+(IF(AE41>0,1,0))+(IF(AQ41>0,1,0)) -> 1 | AT41: =COUNTIF(I41:N41,">"&0)+COUNTIF(S41:AB41,">"&0)+COUNTIF(AG41:AN41,">"&0) -> 3
B42: 891774 | C42: SALANSKÁ Žofie | D42: 2016 | E42: CZE | F42: =IFERROR(VLOOKUP(B42,SVEXP!$A$2:$F$6577,6,FALSE),"") -> Neregistrovaní | G42: =IFERROR(VLOOKUP(B42,SVEXP!$A$2:$E$6577,5,FALSE),"") -> Liberecký kraj | H42: L | I42: =IFERROR(VLOOKUP(A42,'KLP1'!$C$1:$I$108,7,0),IFERROR(VLOOKUP(B42,'KLP1'!$D$1:$I$108,6,0),"")) | J42: =IFERROR(VLOOKUP(A42,'KLP2'!$C$1:$I$108,7,0),IFERROR(VLOOKUP(B42,'KLP2'!$D$1:$I$108,6,0),"")) | K42: =IFERROR(VLOOKUP(A42,'DM1'!$C$1:$I$108,7,0),IFERROR(VLOOKUP(B42,'DM1'!$D$1:$I$108,6,0),"")) | L42: =IFERROR(VLOOKUP(A42,'DM2'!$C$1:$I$108,7,0),IFERROR(VLOOKUP(B42,'DM2'!$D$1:$I$108,6,0),"")) | M42: =IFERROR(VLOOKUP(A42,'SPF1'!$C$1:$I$108,7,0),IFERROR(VLOOKUP(B42,'SPF1'!$D$1:$I$108,6,0),"")) -> 32 | N42: =IFERROR(VLOOKUP(A42,'SPF2'!$C$1:$I$108,7,0),IFERROR(VLOOKUP(B42,'SPF2'!$D$1:$I$108,6,0),"")) | O42: =SUM(I42:N42) -> 32 | P42: =IFERROR(LARGE(I42:N42,1),"0")+IFERROR(LARGE(I42:N42,2),"0")+IFERROR(LARGE(I42:N42,3),"0")+IFERROR(LARGE(I42:N42,4),"0") -> 32 | Q42: =(IFERROR(LARGE(I42:N42,1),"0")+IFERROR(LARGE(I42:N42,2),"0")+IFERROR(LARGE(I42:N42,3),"0"))/3 -> 10.666667 | S42: =IFERROR(VLOOKUP(A42,DMSBX1!$C$1:$I$108,7,0),IFERROR(VLOOKUP(B42,DMSBX1!$D$1:$I$108,6,0),"")) | T42: =IFERROR(VLOOKUP(A42,DMSBX2!$C$1:$I$101,7,0),IFERROR(VLOOKUP(B42,DMSBX2!$D$1:$I$101,6,0),"")) | U42: =IFERROR(VLOOKUP(B42,'SP1'!$D$1:$I$107,6,0),"") | V42: =IFERROR(VLOOKUP(B42,'SP2'!$D$1:$I$107,6,0),"") | W42: =IFERROR(IF(B42<>0,VLOOKUP(B42,KLSBX1!$D$2:$I$120,6,FALSE()),NA()),IFERROR(IF(A42<>0,VLOOKUP(A42,KLSBX1!$C$2:$I$120,7,FALSE()),NA()),"")) | X42: =IFERROR(IF(B42<>0,VLOOKUP(B42,KLSBX2!$D$2:$I$120,6,FALSE()),NA()),IFERROR(IF(A42<>0,VLOOKUP(A42,KLSBX2!$C$2:$I$120,7,FALSE()),NA()),"")) | Y42: =IFERROR(IF(B42<>0,VLOOKUP(B42,DMSBXNC!$D$2:$I$420,6,FALSE()),NA()),IFERROR(IF(A42<>0,VLOOKUP(A42,DMSBXNC!$C$2:$I$420,7,FALSE()),NA()),"")) | Z42: =IFERROR(IF(B42<>0,VLOOKUP(B42,DMSBX1_3!$D$2:$I$420,6,FALSE()),NA()),IFERROR(IF(A42<>0,VLOOKUP(A42,DMSBX1_3!$C$2:$I$420,7,FALSE()),NA()),"")) | AA42: =IFERROR(IF(B42<>0,VLOOKUP(B42,'KLS1'!$D$2:$I$420,6,FALSE()),NA()),IFERROR(IF(A42<>0,VLOOKUP(A42,'KLS1'!$C$2:$I$420,7,FALSE()),NA()),"")) | AB42: =IFERROR(IF(B42<>0,VLOOKUP(B42,'KLS2'!$D$2:$I$426,6,FALSE()),NA()),IFERROR(IF(A42<>0,VLOOKUP(A42,'KLS2'!$C$2:$I$426,7,FALSE()),NA()),"")) | AC42: =SUM(S42:AB42) -> 0 | AD42: =(IFERROR(LARGE(S42:AB42,1),"0")+IFERROR(LARGE(S42:AB42,2),"0")+IFERROR(LARGE(S42:AB42,3),"0")+IFERROR(LARGE(S42:AB42,4),"0")+IFERROR(LARGE(S42:AB42,5),"0")+IFERROR(LARGE(S42:AB42,6),"0")+IFERROR(LARGE(S42:AB42,7),"0")+IFERROR(LARGE(S42:AB42,8),"0")) -> 0 | AE42: =(IFERROR(LARGE(S42:AB42,1),"0")+IFERROR(LARGE(S42:AB42,2),"0")+IFERROR(LARGE(S42:AB42,3),"0"))/3 -> 0 | AG42: =IFERROR(VLOOKUP(B42,FS!$A$2:$N$78,6,FALSE),"") | AH42: =IFERROR(VLOOKUP(B42,FS!$A$2:$N$78,7,FALSE),"") | AI42: =IFERROR(VLOOKUP(B42,FS!$A$2:$N$78,8,FALSE),"") | AJ42: =IFERROR(VLOOKUP(B42,FS!$A$2:$N$78,9,FALSE),"") | AK42: =IFERROR(VLOOKUP(B42,FS!$A$2:$N$78,10,FALSE),"") | AL42: =IFERROR(VLOOKUP(B42,FS!$A$2:$N$78,11,FALSE),"") | AM42: =IFERROR(VLOOKUP(B42,FS!$A$2:$N$78,12,FALSE),"") | AN42: =IFERROR(VLOOKUP(B42,FS!$A$2:$N$78,13,FALSE),"") | AO42: =SUM(AG42:AN42) -> 0 | AP42: =(IFERROR(LARGE(AG42:AN42,1),"0")+IFERROR(LARGE(AG42:AN42,2),"0")+IFERROR(LARGE(AG42:AN42,3),"0")+IFERROR(LARGE(AG42:AN42,4),"0")+IFERROR(LARGE(AG42:AN42,5),"0")) -> 0 | AQ42: =(IFERROR(LARGE(AG42:AN42,1),"0")+IFERROR(LARGE(AG42:AN42,2),"0")+IFERROR(LARGE(AG42:AN42,3),"0"))/3 -> 0 | AR42: =Q42+AE42+AQ42 -> 10.666667 | AS42: =(IF(Q42>0,1,0))+(IF(AE42>0,1,0))+(IF(AQ42>0,1,0)) -> 1 | AT42: =COUNTIF(I42:N42,">"&0)+COUNTIF(S42:AB42,">"&0)+COUNTIF(AG42:AN42,">"&0) -> 1
A43: 9155052 | B43: 888883 | C43: HOUZVICKOVA Kristyna | D43: 1996 | E43: CZE | F43: =IFERROR(VLOOKUP(B43,SVEXP!$A$2:$F$6577,6,FALSE),"") -> 100. Hard | G43: =IFERROR(VLOOKUP(B43,SVEXP!$A$2:$E$6577,5,FALSE),"") -> Středočeský kraj | H43: L | I43: =IFERROR(VLOOKUP(A43,'KLP1'!$C$1:$I$108,7,0),IFERROR(VLOOKUP(B43,'KLP1'!$D$1:$I$108,6,0),"")) | J43: =IFERROR(VLOOKUP(A43,'KLP2'!$C$1:$I$108,7,0),IFERROR(VLOOKUP(B43,'KLP2'!$D$1:$I$108,6,0),"")) | K43: =IFERROR(VLOOKUP(A43,'DM1'!$C$1:$I$108,7,0),IFERROR(VLOOKUP(B43,'DM1'!$D$1:$I$108,6,0),"")) | L43: =IFERROR(VLOOKUP(A43,'DM2'!$C$1:$I$108,7,0),IFERROR(VLOOKUP(B43,'DM2'!$D$1:$I$108,6,0),"")) | M43: =IFERROR(VLOOKUP(A43,'SPF1'!$C$1:$I$108,7,0),IFERROR(VLOOKUP(B43,'SPF1'!$D$1:$I$108,6,0),"")) | N43: =IFERROR(VLOOKUP(A43,'SPF2'!$C$1:$I$108,7,0),IFERROR(VLOOKUP(B43,'SPF2'!$D$1:$I$108,6,0),"")) | O43: =SUM(I43:N43) -> 0 | P43: =IFERROR(LARGE(I43:N43,1),"0")+IFERROR(LARGE(I43:N43,2),"0")+IFERROR(LARGE(I43:N43,3),"0")+IFERROR(LARGE(I43:N43,4),"0") -> 0 | Q43: =(IFERROR(LARGE(I43:N43,1),"0")+IFERROR(LARGE(I43:N43,2),"0")+IFERROR(LARGE(I43:N43,3),"0"))/3 -> 0 | S43: =IFERROR(VLOOKUP(A43,DMSBX1!$C$1:$I$108,7,0),IFERROR(VLOOKUP(B43,DMSBX1!$D$1:$I$108,6,0),"")) | T43: =IFERROR(VLOOKUP(A43,DMSBX2!$C$1:$I$101,7,0),IFERROR(VLOOKUP(B43,DMSBX2!$D$1:$I$101,6,0),"")) | U43: =IFERROR(VLOOKUP(B43,'SP1'!$D$1:$I$107,6,0),"") | V43: =IFERROR(VLOOKUP(B43,'SP2'!$D$1:$I$107,6,0),"") | W43: =IFERROR(IF(B43<>0,VLOOKUP(B43,KLSBX1!$D$2:$I$120,6,FALSE()),NA()),IFERROR(IF(A43<>0,VLOOKUP(A43,KLSBX1!$C$2:$I$120,7,FALSE()),NA()),"")) | X43: =IFERROR(IF(B43<>0,VLOOKUP(B43,KLSBX2!$D$2:$I$120,6,FALSE()),NA()),IFERROR(IF(A43<>0,VLOOKUP(A43,KLSBX2!$C$2:$I$120,7,FALSE()),NA()),"")) | Y43: =IFERROR(IF(B43<>0,VLOOKUP(B43,DMSBXNC!$D$2:$I$420,6,FALSE()),NA()),IFERROR(IF(A43<>0,VLOOKUP(A43,DMSBXNC!$C$2:$I$420,7,FALSE()),NA()),"")) | Z43: =IFERROR(IF(B43<>0,VLOOKUP(B43,DMSBX1_3!$D$2:$I$420,6,FALSE()),NA()),IFERROR(IF(A43<>0,VLOOKUP(A43,DMSBX1_3!$C$2:$I$420,7,FALSE()),NA()),"")) | AA43: =IFERROR(IF(B43<>0,VLOOKUP(B43,'KLS1'!$D$2:$I$420,6,FALSE()),NA()),IFERROR(IF(A43<>0,VLOOKUP(A43,'KLS1'!$C$2:$I$420,7,FALSE()),NA()),"")) | AB43: =IFERROR(IF(B43<>0,VLOOKUP(B43,'KLS2'!$D$2:$I$426,6,FALSE()),NA()),IFERROR(IF(A43<>0,VLOOKUP(A43,'KLS2'!$C$2:$I$426,7,FALSE()),NA()),"")) | AC43: =SUM(S43:AB43) -> 0 | AD43: =(IFERROR(LARGE(S43:AB43,1),"0")+IFERROR(LARGE(S43:AB43,2),"0")+IFERROR(LARGE(S43:AB43,3),"0")+IFERROR(LARGE(S43:AB43,4),"0")+IFERROR(LARGE(S43:AB43,5),"0")+IFERROR(LARGE(S43:AB43,6),"0")+IFERROR(LARGE(S43:AB43,7),"0")+IFERROR(LARGE(S43:AB43,8),"0")) -> 0 | AE43: =(IFERROR(LARGE(S43:AB43,1),"0")+IFERROR(LARGE(S43:AB43,2),"0")+IFERROR(LARGE(S43:AB43,3),"0"))/3 -> 0 | AG43: =IFERROR(VLOOKUP(B43,FS!$A$2:$N$78,6,FALSE),"") | AH43: =IFERROR(VLOOKUP(B43,FS!$A$2:$N$78,7,FALSE),"") | AI43: =IFERROR(VLOOKUP(B43,FS!$A$2:$N$78,8,FALSE),"") | AJ43: =IFERROR(VLOOKUP(B43,FS!$A$2:$N$78,9,FALSE),"") | AK43: =IFERROR(VLOOKUP(B43,FS!$A$2:$N$78,10,FALSE),"") | AL43: =IFERROR(VLOOKUP(B43,FS!$A$2:$N$78,11,FALSE),"") | AM43: =IFERROR(VLOOKUP(B43,FS!$A$2:$N$78,12,FALSE),"") | AN43: =IFERROR(VLOOKUP(B43,FS!$A$2:$N$78,13,FALSE),"") | AO43: =SUM(AG43:AN43) -> 0 | AP43: =(IFERROR(LARGE(AG43:AN43,1),"0")+IFERROR(LARGE(AG43:AN43,2),"0")+IFERROR(LARGE(AG43:AN43,3),"0")+IFERROR(LARGE(AG43:AN43,4),"0")+IFERROR(LARGE(AG43:AN43,5),"0")) -> 0 | AQ43: =(IFERROR(LARGE(AG43:AN43,1),"0")+IFERROR(LARGE(AG43:AN43,2),"0")+IFERROR(LARGE(AG43:AN43,3),"0"))/3 -> 0 | AR43: =Q43+AE43+AQ43 -> 0 | AS43: =(IF(Q43>0,1,0))+(IF(AE43>0,1,0))+(IF(AQ43>0,1,0)) -> 0
A44: 9690100 | C44: KARPOV Anton | D44: 1997 | E44: UKR | H44: M | M44: =IFERROR(VLOOKUP(A44,'SPF1'!$C$1:$I$108,7,0),IFERROR(VLOOKUP(B44,'SPF1'!$D$1:$I$108,6,0),"")) | N44: =IFERROR(VLOOKUP(A44,'SPF2'!$C$1:$I$108,7,0),IFERROR(VLOOKUP(B44,'SPF2'!$D$1:$I$108,6,0),"")) | O44: =SUM(I44:N44) -> 0 | P44: =IFERROR(LARGE(I44:N44,1),"0")+IFERROR(LARGE(I44:N44,2),"0")+IFERROR(LARGE(I44:N44,3),"0")+IFERROR(LARGE(I44:N44,4),"0") -> 0 | Q44: =(IFERROR(LARGE(I44:N44,1),"0")+IFERROR(LARGE(I44:N44,2),"0")+IFERROR(LARGE(I44:N44,3),"0"))/3 -> 0 | X44: =IFERROR(IF(B44<>0,VLOOKUP(B44,KLSBX2!$D$2:$I$120,6,FALSE()),NA()),IFERROR(IF(A44<>0,VLOOKUP(A44,KLSBX2!$C$2:$I$120,7,FALSE()),NA()),"")) | Y44: =IFERROR(IF(B44<>0,VLOOKUP(B44,DMSBXNC!$D$2:$I$420,6,FALSE()),NA()),IFERROR(IF(A44<>0,VLOOKUP(A44,DMSBXNC!$C$2:$I$420,7,FALSE()),NA()),"")) -> 22 | Z44: =IFERROR(IF(B44<>0,VLOOKUP(B44,DMSBX1_3!$D$2:$I$420,6,FALSE()),NA()),IFERROR(IF(A44<>0,VLOOKUP(A44,DMSBX1_3!$C$2:$I$420,7,FALSE()),NA()),"")) -> 45 | AA44: =IFERROR(IF(B44<>0,VLOOKUP(B44,'KLS1'!$D$2:$I$420,6,FALSE()),NA()),IFERROR(IF(A44<>0,VLOOKUP(A44,'KLS1'!$C$2:$I$420,7,FALSE()),NA()),"")) | AB44: =IFERROR(IF(B44<>0,VLOOKUP(B44,'KLS2'!$D$2:$I$426,6,FALSE()),NA()),IFERROR(IF(A44<>0,VLOOKUP(A44,'KLS2'!$C$2:$I$426,7,FALSE()),NA()),"")) | AC44: =SUM(S44:AB44) -> 67 | AD44: =(IFERROR(LARGE(S44:AB44,1),"0")+IFERROR(LARGE(S44:AB44,2),"0")+IFERROR(LARGE(S44:AB44,3),"0")+IFERROR(LARGE(S44:AB44,4),"0")+IFERROR(LARGE(S44:AB44,5),"0")+IFERROR(LARGE(S44:AB44,6),"0")+IFERROR(LARGE(S44:AB44,7),"0")+IFERROR(LARGE(S44:AB44,8),"0")) -> 67 | AE44: =(IFERROR(LARGE(S44:AB44,1),"0")+IFERROR(LARGE(S44:AB44,2),"0")+IFERROR(LARGE(S44:AB44,3),"0"))/3 -> 22.333333 | AG44: =IFERROR(VLOOKUP(B44,FS!$A$2:$N$78,6,FALSE),"") | AH44: =IFERROR(VLOOKUP(B44,FS!$A$2:$N$78,7,FALSE),"") | AI44: =IFERROR(VLOOKUP(B44,FS!$A$2:$N$78,8,FALSE),"") | AJ44: =IFERROR(VLOOKUP(B44,FS!$A$2:$N$78,9,FALSE),"") | AK44: =IFERROR(VLOOKUP(B44,FS!$A$2:$N$78,10,FALSE),"") | AL44: =IFERROR(VLOOKUP(B44,FS!$A$2:$N$78,11,FALSE),"") | AM44: =IFERROR(VLOOKUP(B44,FS!$A$2:$N$78,12,FALSE),"") | AN44: =IFERROR(VLOOKUP(B44,FS!$A$2:$N$78,13,FALSE),"") | AO44: =SUM(AG44:AN44) -> 0 | AP44: =(IFERROR(LARGE(AG44:AN44,1),"0")+IFERROR(LARGE(AG44:AN44,2),"0")+IFERROR(LARGE(AG44:AN44,3),"0")+IFERROR(LARGE(AG44:AN44,4),"0")+IFERROR(LARGE(AG44:AN44,5),"0")) -> 0 | AQ44: =(IFERROR(LARGE(AG44:AN44,1),"0")+IFERROR(LARGE(AG44:AN44,2),"0")+IFERROR(LARGE(AG44:AN44,3),"0"))/3 -> 0 | AR44: =Q44+AE44+AQ44 -> 22.333333 | AS44: =(IF(Q44>0,1,0))+(IF(AE44>0,1,0))+(IF(AQ44>0,1,0)) -> 1
A45: 9400127 | C45: Braunius Stijn | D45: 1997 | H45: M | I45: =IFERROR(VLOOKUP(A45,'KLP1'!$C$1:$I$108,7,0),IFERROR(VLOOKUP(B45,'KLP1'!$D$1:$I$108,6,0),"")) | J45: =IFERROR(VLOOKUP(A45,'KLP2'!$C$1:$I$108,7,0),IFERROR(VLOOKUP(B45,'KLP2'!$D$1:$I$108,6,0),"")) | K45: =IFERROR(VLOOKUP(A45,'DM1'!$C$1:$I$108,7,0),IFERROR(VLOOKUP(B45,'DM1'!$D$1:$I$108,6,0),"")) | L45: =IFERROR(VLOOKUP(A45,'DM2'!$C$1:$I$108,7,0),IFERROR(VLOOKUP(B45,'DM2'!$D$1:$I$108,6,0),"")) | M45: =IFERROR(VLOOKUP(A45,'SPF1'!$C$1:$I$108,7,0),IFERROR(VLOOKUP(B45,'SPF1'!$D$1:$I$108,6,0),"")) | N45: =IFERROR(VLOOKUP(A45,'SPF2'!$C$1:$I$108,7,0),IFERROR(VLOOKUP(B45,'SPF2'!$D$1:$I$108,6,0),"")) | O45: =SUM(I45:N45) -> 0 | P45: =IFERROR(LARGE(I45:N45,1),"0")+IFERROR(LARGE(I45:N45,2),"0")+IFERROR(LARGE(I45:N45,3),"0")+IFERROR(LARGE(I45:N45,4),"0") -> 0 | Q45: =(IFERROR(LARGE(I45:N45,1),"0")+IFERROR(LARGE(I45:N45,2),"0")+IFERROR(LARGE(I45:N45,3),"0"))/3 -> 0 | U45: =IFERROR(VLOOKUP(B45,DMSBX2!$D$1:$I$101,6,0),"") | V45: =IFERROR(VLOOKUP(B45,'SP2'!$D$1:$I$107,6,0),"") | W45: =IFERROR(IF(B45<>0,VLOOKUP(B45,KLSBX1!$D$2:$I$120,6,FALSE()),NA()),IFERROR(IF(A45<>0,VLOOKUP(A45,KLSBX1!$C$2:$I$120,7,FALSE()),NA()),"")) -> 32 | X45: =IFERROR(IF(B45<>0,VLOOKUP(B45,KLSBX2!$D$2:$I$120,6,FALSE()),NA()),IFERROR(IF(A45<>0,VLOOKUP(A45,KLSBX2!$C$2:$I$120,7,FALSE()),NA()),"")) -> 36 | Y45: =IFERROR(IF(B45<>0,VLOOKUP(B45,DMSBXNC!$D$2:$I$420,6,FALSE()),NA()),IFERROR(IF(A45<>0,VLOOKUP(A45,DMSBXNC!$C$2:$I$420,7,FALSE()),NA()),"")) -> 10 | Z45: =IFERROR(IF(B45<>0,VLOOKUP(B45,DMSBX1_3!$D$2:$I$420,6,FALSE()),NA()),IFERROR(IF(A45<>0,VLOOKUP(A45,DMSBX1_3!$C$2:$I$420,7,FALSE()),NA()),"")) -> 11 | AA45: =IFERROR(IF(B45<>0,VLOOKUP(B45,'KLS1'!$D$2:$I$420,6,FALSE()),NA()),IFERROR(IF(A45<>0,VLOOKUP(A45,'KLS1'!$C$2:$I$420,7,FALSE()),NA()),"")) -> 100 | AB45: =IFERROR(IF(B45<>0,VLOOKUP(B45,'KLS2'!$D$2:$I$426,6,FALSE()),NA()),IFERROR(IF(A45<>0,VLOOKUP(A45,'KLS2'!$C$2:$I$426,7,FALSE()),NA()),"")) -> 100 | AC45: =SUM(S45:AB45) -> 289 | AD45: =(IFERROR(LARGE(S45:AB45,1),"0")+IFERROR(LARGE(S45:AB45,2),"0")+IFERROR(LARGE(S45:AB45,3),"0")+IFERROR(LARGE(S45:AB45,4),"0")+IFERROR(LARGE(S45:AB45,5),"0")+IFERROR(LARGE(S45:AB45,6),"0")+IFERROR(LARGE(S45:AB45,7),"0")+IFERROR(LARGE(S45:AB45,8),"0")) -> 289 | AE45: =(IFERROR(LARGE(S45:AB45,1),"0")+IFERROR(LARGE(S45:AB45,2),"0")+IFERROR(LARGE(S45:AB45,3),"0"))/3 -> 78.666667 | AG45: =IFERROR(VLOOKUP(B45,FS!$A$2:$N$78,6,FALSE),"") | AH45: =IFERROR(VLOOKUP(B45,FS!$A$2:$N$78,7,FALSE),"") | AI45: =IFERROR(VLOOKUP(B45,FS!$A$2:$N$78,8,FALSE),"") | AJ45: =IFERROR(VLOOKUP(B45,FS!$A$2:$N$78,9,FALSE),"") | AK45: =IFERROR(VLOOKUP(B45,FS!$A$2:$N$78,10,FALSE),"") | AL45: =IFERROR(VLOOKUP(B45,FS!$A$2:$N$78,11,FALSE),"") | AM45: =IFERROR(VLOOKUP(B45,FS!$A$2:$N$78,12,FALSE),"") | AN45: =IFERROR(VLOOKUP(B45,FS!$A$2:$N$78,13,FALSE),"") | AO45: =SUM(AG45:AN45) -> 0 | AP45: =(IFERROR(LARGE(AG45:AN45,1),"0")+IFERROR(LARGE(AG45:AN45,2),"0")+IFERROR(LARGE(AG45:AN45,3),"0")+IFERROR(LARGE(AG45:AN45,4),"0")+IFERROR(LARGE(AG45:AN45,5),"0")) -> 0 | AQ45: =(IFERROR(LARGE(AG45:AN45,1),"0")+IFERROR(LARGE(AG45:AN45,2),"0")+IFERROR(LARGE(AG45:AN45,3),"0"))/3 -> 0 | AR45: =Q45+AE45+AQ45 -> 78.666667 | AS45: =(IF(Q45>0,1,0))+(IF(AE45>0,1,0))+(IF(AQ45>0,1,0)) -> 1
B46: 890527 | C46: Zifčáková Justýna | D46: 2016 | E46: CZE | F46: =IFERROR(VLOOKUP(B46,SVEXP!$A$2:$F$6577,6,FALSE),"") -> Neregistrovaní | G46: =IFERROR(VLOOKUP(B46,SVEXP!$A$2:$E$6577,5,FALSE),"") -> Olomoucký kraj | H46: L | I46: =IFERROR(VLOOKUP(A46,'KLP1'!$C$1:$I$108,7,0),IFERROR(VLOOKUP(B46,'KLP1'!$D$1:$I$108,6,0),"")) | J46: =IFERROR(VLOOKUP(A46,'KLP2'!$C$1:$I$108,7,0),IFERROR(VLOOKUP(B46,'KLP2'!$D$1:$I$108,6,0),"")) | K46: =IFERROR(VLOOKUP(A46,'DM1'!$C$1:$I$108,7,0),IFERROR(VLOOKUP(B46,'DM1'!$D$1:$I$108,6,0),"")) -> 25 | L46: =IFERROR(VLOOKUP(A46,'DM2'!$C$1:$I$108,7,0),IFERROR(VLOOKUP(B46,'DM2'!$D$1:$I$108,6,0),"")) | M46: =IFERROR(VLOOKUP(A46,'SPF1'!$C$1:$I$108,7,0),IFERROR(VLOOKUP(B46,'SPF1'!$D$1:$I$108,6,0),"")) -> 28.8 | N46: =IFERROR(VLOOKUP(A46,'SPF2'!$C$1:$I$108,7,0),IFERROR(VLOOKUP(B46,'SPF2'!$D$1:$I$108,6,0),"")) -> 28 | O46: =SUM(I46:N46) -> 81.8 | P46: =IFERROR(LARGE(I46:N46,1),"0")+IFERROR(LARGE(I46:N46,2),"0")+IFERROR(LARGE(I46:N46,3),"0")+IFERROR(LARGE(I46:N46,4),"0") -> 81.8 | Q46: =(IFERROR(LARGE(I46:N46,1),"0")+IFERROR(LARGE(I46:N46,2),"0")+IFERROR(LARGE(I46:N46,3),"0"))/3 -> 27.266667 | S46: =IFERROR(VLOOKUP(A46,DMSBX1!$C$1:$I$108,7,0),IFERROR(VLOOKUP(B46,DMSBX1!$D$1:$I$108,6,0),"")) | T46: =IFERROR(VLOOKUP(A46,DMSBX2!$C$1:$I$101,7,0),IFERROR(VLOOKUP(B46,DMSBX2!$D$1:$I$101,6,0),"")) | U46: =IFERROR(VLOOKUP(B46,'SP1'!$D$1:$I$107,6,0),"") | V46: =IFERROR(VLOOKUP(B46,'SP2'!$D$1:$I$107,6,0),"") | W46: =IFERROR(IF(B46<>0,VLOOKUP(B46,KLSBX1!$D$2:$I$120,6,FALSE()),NA()),IFERROR(IF(A46<>0,VLOOKUP(A46,KLSBX1!$C$2:$I$120,7,FALSE()),NA()),"")) | X46: =IFERROR(IF(B46<>0,VLOOKUP(B46,KLSBX2!$D$2:$I$120,6,FALSE()),NA()),IFERROR(IF(A46<>0,VLOOKUP(A46,KLSBX2!$C$2:$I$120,7,FALSE()),NA()),"")) | Y46: =IFERROR(IF(B46<>0,VLOOKUP(B46,DMSBXNC!$D$2:$I$420,6,FALSE()),NA()),IFERROR(IF(A46<>0,VLOOKUP(A46,DMSBXNC!$C$2:$I$420,7,FALSE()),NA()),"")) | Z46: =IFERROR(IF(B46<>0,VLOOKUP(B46,DMSBX1_3!$D$2:$I$420,6,FALSE()),NA()),IFERROR(IF(A46<>0,VLOOKUP(A46,DMSBX1_3!$C$2:$I$420,7,FALSE()),NA()),"")) | AA46: =IFERROR(IF(B46<>0,VLOOKUP(B46,'KLS1'!$D$2:$I$420,6,FALSE()),NA()),IFERROR(IF(A46<>0,VLOOKUP(A46,'KLS1'!$C$2:$I$420,7,FALSE()),NA()),"")) | AB46: =IFERROR(IF(B46<>0,VLOOKUP(B46,'KLS2'!$D$2:$I$426,6,FALSE()),NA()),IFERROR(IF(A46<>0,VLOOKUP(A46,'KLS2'!$C$2:$I$426,7,FALSE()),NA()),"")) | AC46: =SUM(S46:AB46) -> 0 | AD46: =(IFERROR(LARGE(S46:AB46,1),"0")+IFERROR(LARGE(S46:AB46,2),"0")+IFERROR(LARGE(S46:AB46,3),"0")+IFERROR(LARGE(S46:AB46,4),"0")+IFERROR(LARGE(S46:AB46,5),"0")+IFERROR(LARGE(S46:AB46,6),"0")+IFERROR(LARGE(S46:AB46,7),"0")+IFERROR(LARGE(S46:AB46,8),"0")) -> 0 | AE46: =(IFERROR(LARGE(S46:AB46,1),"0")+IFERROR(LARGE(S46:AB46,2),"0")+IFERROR(LARGE(S46:AB46,3),"0"))/3 -> 0 | AG46: =IFERROR(VLOOKUP(B46,FS!$A$2:$N$78,6,FALSE),"") | AH46: =IFERROR(VLOOKUP(B46,FS!$A$2:$N$78,7,FALSE),"") | AI46: =IFERROR(VLOOKUP(B46,FS!$A$2:$N$78,8,FALSE),"") | AJ46: =IFERROR(VLOOKUP(B46,FS!$A$2:$N$78,9,FALSE),"") | AK46: =IFERROR(VLOOKUP(B46,FS!$A$2:$N$78,10,FALSE),"") | AL46: =IFERROR(VLOOKUP(B46,FS!$A$2:$N$78,11,FALSE),"") | AM46: =IFERROR(VLOOKUP(B46,FS!$A$2:$N$78,12,FALSE),"") | AN46: =IFERROR(VLOOKUP(B46,FS!$A$2:$N$78,13,FALSE),"") | AO46: =SUM(AG46:AN46) -> 0 | AP46: =(IFERROR(LARGE(AG46:AN46,1),"0")+IFERROR(LARGE(AG46:AN46,2),"0")+IFERROR(LARGE(AG46:AN46,3),"0")+IFERROR(LARGE(AG46:AN46,4),"0")+IFERROR(LARGE(AG46:AN46,5),"0")) -> 0 | AQ46: =(IFERROR(LARGE(AG46:AN46,1),"0")+IFERROR(LARGE(AG46:AN46,2),"0")+IFERROR(LARGE(AG46:AN46,3),"0"))/3 -> 0 | AR46: =Q46+AE46+AQ46 -> 27.266667 | AS46: =(IF(Q46>0,1,0))+(IF(AE46>0,1,0))+(IF(AQ46>0,1,0)) -> 1 | AT46: =COUNTIF(I46:N46,">"&0)+COUNTIF(S46:AB46,">"&0)+COUNTIF(AG46:AN46,">"&0) -> 3
B47: 813016 | C47: Stadnikova Estel | D47: 2016 | E47: CZE | F47: =IFERROR(VLOOKUP(B47,SVEXP!$A$2:$F$6577,6,FALSE),"") -> board masteRS team | G47: =IFERROR(VLOOKUP(B47,SVEXP!$A$2:$E$6577,5,FALSE),"") -> Středočeský kraj | H47: L | O47: =SUM(I47:N47) -> 0 | P47: =IFERROR(LARGE(I47:N47,1),"0")+IFERROR(LARGE(I47:N47,2),"0")+IFERROR(LARGE(I47:N47,3),"0")+IFERROR(LARGE(I47:N47,4),"0") -> 0 | Q47: =(IFERROR(LARGE(I47:N47,1),"0")+IFERROR(LARGE(I47:N47,2),"0")+IFERROR(LARGE(I47:N47,3),"0"))/3 -> 0 | AC47: =SUM(S47:AB47) -> 0 | AD47: =(IFERROR(LARGE(S47:AB47,1),"0")+IFERROR(LARGE(S47:AB47,2),"0")+IFERROR(LARGE(S47:AB47,3),"0")+IFERROR(LARGE(S47:AB47,4),"0")+IFERROR(LARGE(S47:AB47,5),"0")+IFERROR(LARGE(S47:AB47,6),"0")+IFERROR(LARGE(S47:AB47,7),"0")+IFERROR(LARGE(S47:AB47,8),"0")) -> 0 | AE47: =(IFERROR(LARGE(S47:AB47,1),"0")+IFERROR(LARGE(S47:AB47,2),"0")+IFERROR(LARGE(S47:AB47,3),"0"))/3 -> 0 | AJ47: =IFERROR(VLOOKUP(B47,FS!$A$2:$N$78,9,FALSE),"") -> 32 | AO47: =SUM(AG47:AN47) -> 32 | AP47: =(IFERROR(LARGE(AG47:AN47,1),"0")+IFERROR(LARGE(AG47:AN47,2),"0")+IFERROR(LARGE(AG47:AN47,3),"0")+IFERROR(LARGE(AG47:AN47,4),"0")+IFERROR(LARGE(AG47:AN47,5),"0")) -> 32 | AQ47: =(IFERROR(LARGE(AG47:AN47,1),"0")+IFERROR(LARGE(AG47:AN47,2),"0")+IFERROR(LARGE(AG47:AN47,3),"0"))/3 -> 10.666667 | AR47: =Q47+AE47+AQ47 -> 10.666667 | AS47: =(IF(Q47>0,1,0))+(IF(AE47>0,1,0))+(IF(AQ47>0,1,0)) -> 1 | AT47: =COUNTIF(I47:N47,">"&0)+COUNTIF(S47:AB47,">"&0)+COUNTIF(AG47:AN47,">"&0) -> 1
A48: 9320127 | C48: HONG Seung-Yeong | D48: 1998 | E48: KOR | H48: M | I48: =IFERROR(VLOOKUP(A48,'KLP1'!$C$1:$I$108,7,0),IFERROR(VLOOKUP(B48,'KLP1'!$D$1:$I$108,6,0),"")) | J48: =IFERROR(VLOOKUP(A48,'KLP2'!$C$1:$I$108,7,0),IFERROR(VLOOKUP(B48,'KLP2'!$D$1:$I$108,6,0),"")) | K48: =IFERROR(VLOOKUP(A48,'DM1'!$C$1:$I$108,7,0),IFERROR(VLOOKUP(B48,'DM1'!$D$1:$I$108,6,0),"")) | L48: =IFERROR(VLOOKUP(A48,'DM2'!$C$1:$I$108,7,0),IFERROR(VLOOKUP(B48,'DM2'!$D$1:$I$108,6,0),"")) | M48: =IFERROR(VLOOKUP(A48,'SPF1'!$C$1:$I$108,7,0),IFERROR(VLOOKUP(B48,'SPF1'!$D$1:$I$108,6,0),"")) | N48: =IFERROR(VLOOKUP(A48,'SPF2'!$C$1:$I$108,7,0),IFERROR(VLOOKUP(B48,'SPF2'!$D$1:$I$108,6,0),"")) | O48: =SUM(I48:N48) -> 0 | P48: =IFERROR(LARGE(I48:N48,1),"0")+IFERROR(LARGE(I48:N48,2),"0")+IFERROR(LARGE(I48:N48,3),"0")+IFERROR(LARGE(I48:N48,4),"0") -> 0 | Q48: =(IFERROR(LARGE(I48:N48,1),"0")+IFERROR(LARGE(I48:N48,2),"0")+IFERROR(LARGE(I48:N48,3),"0"))/3 -> 0 | S48: =IFERROR(VLOOKUP(A48,DMSBX1!$C$1:$I$108,7,0),IFERROR(VLOOKUP(B48,DMSBX1!$D$1:$I$108,6,0),"")) | T48: =IFERROR(VLOOKUP(A48,DMSBX2!$C$1:$I$101,7,0),IFERROR(VLOOKUP(B48,DMSBX2!$D$1:$I$101,6,0),"")) | U48: =IFERROR(VLOOKUP(B48,'SP1'!$D$1:$I$107,6,0),"") | V48: =IFERROR(VLOOKUP(B48,'SP2'!$D$1:$I$107,6,0),"") | W48: =IFERROR(IF(B48<>0,VLOOKUP(B48,KLSBX1!$D$2:$I$120,6,FALSE()),NA()),IFERROR(IF(A48<>0,VLOOKUP(A48,KLSBX1!$C$2:$I$120,7,FALSE()),NA()),"")) | X48: =IFERROR(IF(B48<>0,VLOOKUP(B48,KLSBX2!$D$2:$I$120,6,FALSE()),NA()),IFERROR(IF(A48<>0,VLOOKUP(A48,KLSBX2!$C$2:$I$120,7,FALSE()),NA()),"")) | Y48: =IFERROR(IF(B48<>0,VLOOKUP(B48,DMSBXNC!$D$2:$I$420,6,FALSE()),NA()),IFERROR(IF(A48<>0,VLOOKUP(A48,DMSBXNC!$C$2:$I$420,7,FALSE()),NA()),"")) | Z48: =IFERROR(IF(B48<>0,VLOOKUP(B48,DMSBX1_3!$D$2:$I$420,6,FALSE()),NA()),IFERROR(IF(A48<>0,VLOOKUP(A48,DMSBX1_3!$C$2:$I$420,7,FALSE()),NA()),"")) | AA48: =IFERROR(IF(B48<>0,VLOOKUP(B48,'KLS1'!$D$2:$I$420,6,FALSE()),NA()),IFERROR(IF(A48<>0,VLOOKUP(A48,'KLS1'!$C$2:$I$420,7,FALSE()),NA()),"")) | AB48: =IFERROR(IF(B48<>0,VLOOKUP(B48,'KLS2'!$D$2:$I$426,6,FALSE()),NA()),IFERROR(IF(A48<>0,VLOOKUP(A48,'KLS2'!$C$2:$I$426,7,FALSE()),NA()),"")) | AC48: =SUM(S48:AB48) -> 0 | AD48: =(IFERROR(LARGE(S48:AB48,1),"0")+IFERROR(LARGE(S48:AB48,2),"0")+IFERROR(LARGE(S48:AB48,3),"0")+IFERROR(LARGE(S48:AB48,4),"0")+IFERROR(LARGE(S48:AB48,5),"0")+IFERROR(LARGE(S48:AB48,6),"0")+IFERROR(LARGE(S48:AB48,7),"0")+IFERROR(LARGE(S48:AB48,8),"0")) -> 0 | AE48: =(IFERROR(LARGE(S48:AB48,1),"0")+IFERROR(LARGE(S48:AB48,2),"0")+IFERROR(LARGE(S48:AB48,3),"0"))/3 -> 0 | AG48: =IFERROR(VLOOKUP(B48,FS!$A$2:$N$78,6,FALSE),"") | AH48: =IFERROR(VLOOKUP(B48,FS!$A$2:$N$78,7,FALSE),"") | AI48: =IFERROR(VLOOKUP(B48,FS!$A$2:$N$78,8,FALSE),"") | AJ48: =IFERROR(VLOOKUP(B48,FS!$A$2:$N$78,9,FALSE),"") | AK48: =IFERROR(VLOOKUP(B48,FS!$A$2:$N$78,10,FALSE),"") | AL48: =IFERROR(VLOOKUP(B48,FS!$A$2:$N$78,11,FALSE),"") | AM48: =IFERROR(VLOOKUP(B48,FS!$A$2:$N$78,12,FALSE),"") | AN48: =IFERROR(VLOOKUP(B48,FS!$A$2:$N$78,13,FALSE),"") | AO48: =SUM(AG48:AN48) -> 0 | AP48: =(IFERROR(LARGE(AG48:AN48,1),"0")+IFERROR(LARGE(AG48:AN48,2),"0")+IFERROR(LARGE(AG48:AN48,3),"0")+IFERROR(LARGE(AG48:AN48,4),"0")+IFERROR(LARGE(AG48:AN48,5),"0")) -> 0 | AQ48: =(IFERROR(LARGE(AG48:AN48,1),"0")+IFERROR(LARGE(AG48:AN48,2),"0")+IFERROR(LARGE(AG48:AN48,3),"0"))/3 -> 0 | AR48: =Q48+AE48+AQ48 -> 0 | AS48: =(IF(Q48>0,1,0))+(IF(AE48>0,1,0))+(IF(AQ48>0,1,0)) -> 0
A49: 9155003 | B49: 890014 | C49: BURESOVA Vendula | D49: 1999 | E49: CZE | F49: =IFERROR(VLOOKUP(B49,SVEXP!$A$2:$F$6577,6,FALSE),"") -> Ski klub Strážné | G49: =IFERROR(VLOOKUP(B49,SVEXP!$A$2:$E$6577,5,FALSE),"") -> Liberecký kraj | H49: L | I49: =IFERROR(VLOOKUP(A49,'KLP1'!$C$1:$I$108,7,0),IFERROR(VLOOKUP(B49,'KLP1'!$D$1:$I$108,6,0),"")) | J49: =IFERROR(VLOOKUP(A49,'KLP2'!$C$1:$I$108,7,0),IFERROR(VLOOKUP(B49,'KLP2'!$D$1:$I$108,6,0),"")) | K49: =IFERROR(VLOOKUP(A49,'DM1'!$C$1:$I$108,7,0),IFERROR(VLOOKUP(B49,'DM1'!$D$1:$I$108,6,0),"")) | L49: =IFERROR(VLOOKUP(A49,'DM2'!$C$1:$I$108,7,0),IFERROR(VLOOKUP(B49,'DM2'!$D$1:$I$108,6,0),"")) | M49: =IFERROR(VLOOKUP(A49,'SPF1'!$C$1:$I$108,7,0),IFERROR(VLOOKUP(B49,'SPF1'!$D$1:$I$108,6,0),"")) | N49: =IFERROR(VLOOKUP(A49,'SPF2'!$C$1:$I$108,7,0),IFERROR(VLOOKUP(B49,'SPF2'!$D$1:$I$108,6,0),"")) | O49: =SUM(I49:N49) -> 0 | P49: =IFERROR(LARGE(I49:N49,1),"0")+IFERROR(LARGE(I49:N49,2),"0")+IFERROR(LARGE(I49:N49,3),"0")+IFERROR(LARGE(I49:N49,4),"0") -> 0 | Q49: =(IFERROR(LARGE(I49:N49,1),"0")+IFERROR(LARGE(I49:N49,2),"0")+IFERROR(LARGE(I49:N49,3),"0"))/3 -> 0 | S49: =IFERROR(VLOOKUP(A49,DMSBX1!$C$1:$I$108,7,0),IFERROR(VLOOKUP(B49,DMSBX1!$D$1:$I$108,6,0),"")) | T49: =IFERROR(VLOOKUP(A49,DMSBX2!$C$1:$I$101,7,0),IFERROR(VLOOKUP(B49,DMSBX2!$D$1:$I$101,6,0),"")) | U49: =IFERROR(VLOOKUP(B49,'SP1'!$D$1:$I$107,6,0),"") | V49: =IFERROR(VLOOKUP(B49,'SP2'!$D$1:$I$107,6,0),"") | W49: =IFERROR(IF(B49<>0,VLOOKUP(B49,KLSBX1!$D$2:$I$120,6,FALSE()),NA()),IFERROR(IF(A49<>0,VLOOKUP(A49,KLSBX1!$C$2:$I$120,7,FALSE()),NA()),"")) | X49: =IFERROR(IF(B49<>0,VLOOKUP(B49,KLSBX2!$D$2:$I$120,6,FALSE()),NA()),IFERROR(IF(A49<>0,VLOOKUP(A49,KLSBX2!$C$2:$I$120,7,FALSE()),NA()),"")) | Y49: =IFERROR(IF(B49<>0,VLOOKUP(B49,DMSBXNC!$D$2:$I$420,6,FALSE()),NA()),IFERROR(IF(A49<>0,VLOOKUP(A49,DMSBXNC!$C$2:$I$420,7,FALSE()),NA()),"")) | Z49: =IFERROR(IF(B49<>0,VLOOKUP(B49,DMSBX1_3!$D$2:$I$420,6,FALSE()),NA()),IFERROR(IF(A49<>0,VLOOKUP(A49,DMSBX1_3!$C$2:$I$420,7,FALSE()),NA()),"")) | AA49: =IFERROR(IF(B49<>0,VLOOKUP(B49,'KLS1'!$D$2:$I$420,6,FALSE()),NA()),IFERROR(IF(A49<>0,VLOOKUP(A49,'KLS1'!$C$2:$I$420,7,FALSE()),NA()),"")) | AB49: =IFERROR(IF(B49<>0,VLOOKUP(B49,'KLS2'!$D$2:$I$426,6,FALSE()),NA()),IFERROR(IF(A49<>0,VLOOKUP(A49,'KLS2'!$C$2:$I$426,7,FALSE()),NA()),"")) | AC49: =SUM(S49:AB49) -> 0 | AD49: =(IFERROR(LARGE(S49:AB49,1),"0")+IFERROR(LARGE(S49:AB49,2),"0")+IFERROR(LARGE(S49:AB49,3),"0")+IFERROR(LARGE(S49:AB49,4),"0")+IFERROR(LARGE(S49:AB49,5),"0")+IFERROR(LARGE(S49:AB49,6),"0")+IFERROR(LARGE(S49:AB49,7),"0")+IFERROR(LARGE(S49:AB49,8),"0")) -> 0 | AE49: =(IFERROR(LARGE(S49:AB49,1),"0")+IFERROR(LARGE(S49:AB49,2),"0")+IFERROR(LARGE(S49:AB49,3),"0"))/3 -> 0 | AG49: =IFERROR(VLOOKUP(B49,FS!$A$2:$N$78,6,FALSE),"") | AH49: =IFERROR(VLOOKUP(B49,FS!$A$2:$N$78,7,FALSE),"") | AI49: =IFERROR(VLOOKUP(B49,FS!$A$2:$N$78,8,FALSE),"") | AJ49: =IFERROR(VLOOKUP(B49,FS!$A$2:$N$78,9,FALSE),"") | AK49: =IFERROR(VLOOKUP(B49,FS!$A$2:$N$78,10,FALSE),"") | AL49: =IFERROR(VLOOKUP(B49,FS!$A$2:$N$78,11,FALSE),"") | AM49: =IFERROR(VLOOKUP(B49,FS!$A$2:$N$78,12,FALSE),"") | AN49: =IFERROR(VLOOKUP(B49,FS!$A$2:$N$78,13,FALSE),"") | AO49: =SUM(AG49:AN49) -> 0 | AP49: =(IFERROR(LARGE(AG49:AN49,1),"0")+IFERROR(LARGE(AG49:AN49,2),"0")+IFERROR(LARGE(AG49:AN49,3),"0")+IFERROR(LARGE(AG49:AN49,4),"0")+IFERROR(LARGE(AG49:AN49,5),"0")) -> 0 | AQ49: =(IFERROR(LARGE(AG49:AN49,1),"0")+IFERROR(LARGE(AG49:AN49,2),"0")+IFERROR(LARGE(AG49:AN49,3),"0"))/3 -> 0 | AR49: =Q49+AE49+AQ49 -> 0 | AS49: =(IF(Q49>0,1,0))+(IF(AE49>0,1,0))+(IF(AQ49>0,1,0)) -> 0
A50: 1159990 | B50: 890006 | C50: KASPAR Sarah | D50: 1999 | E50: CZE | F50: =IFERROR(VLOOKUP(B50,SVEXP!$A$2:$F$6577,6,FALSE),"") -> Neregistrovaní | G50: =IFERROR(VLOOKUP(B50,SVEXP!$A$2:$E$6577,5,FALSE),"") -> Jihočeský kraj | H50: L | I50: =IFERROR(VLOOKUP(A50,'KLP1'!$C$1:$I$108,7,0),IFERROR(VLOOKUP(B50,'KLP1'!$D$1:$I$108,6,0),"")) | J50: =IFERROR(VLOOKUP(A50,'KLP2'!$C$1:$I$108,7,0),IFERROR(VLOOKUP(B50,'KLP2'!$D$1:$I$108,6,0),"")) | K50: =IFERROR(VLOOKUP(A50,'DM1'!$C$1:$I$108,7,0),IFERROR(VLOOKUP(B50,'DM1'!$D$1:$I$108,6,0),"")) | L50: =IFERROR(VLOOKUP(A50,'DM2'!$C$1:$I$108,7,0),IFERROR(VLOOKUP(B50,'DM2'!$D$1:$I$108,6,0),"")) | M50: =IFERROR(VLOOKUP(A50,'SPF1'!$C$1:$I$108,7,0),IFERROR(VLOOKUP(B50,'SPF1'!$D$1:$I$108,6,0),"")) | N50: =IFERROR(VLOOKUP(A50,'SPF2'!$C$1:$I$108,7,0),IFERROR(VLOOKUP(B50,'SPF2'!$D$1:$I$108,6,0),"")) | O50: =SUM(I50:N50) -> 0 | P50: =IFERROR(LARGE(I50:N50,1),"0")+IFERROR(LARGE(I50:N50,2),"0")+IFERROR(LARGE(I50:N50,3),"0")+IFERROR(LARGE(I50:N50,4),"0") -> 0 | Q50: =(IFERROR(LARGE(I50:N50,1),"0")+IFERROR(LARGE(I50:N50,2),"0")+IFERROR(LARGE(I50:N50,3),"0"))/3 -> 0 | S50: =IFERROR(VLOOKUP(A50,DMSBX1!$C$1:$I$108,7,0),IFERROR(VLOOKUP(B50,DMSBX1!$D$1:$I$108,6,0),"")) | T50: =IFERROR(VLOOKUP(A50,DMSBX2!$C$1:$I$101,7,0),IFERROR(VLOOKUP(B50,DMSBX2!$D$1:$I$101,6,0),"")) | U50: =IFERROR(VLOOKUP(B50,'SP1'!$D$1:$I$107,6,0),"") | V50: =IFERROR(VLOOKUP(B50,'SP2'!$D$1:$I$107,6,0),"") | W50: =IFERROR(IF(B50<>0,VLOOKUP(B50,KLSBX1!$D$2:$I$120,6,FALSE()),NA()),IFERROR(IF(A50<>0,VLOOKUP(A50,KLSBX1!$C$2:$I$120,7,FALSE()),NA()),"")) | X50: =IFERROR(IF(B50<>0,VLOOKUP(B50,KLSBX2!$D$2:$I$120,6,FALSE()),NA()),IFERROR(IF(A50<>0,VLOOKUP(A50,KLSBX2!$C$2:$I$120,7,FALSE()),NA()),"")) | Y50: =IFERROR(IF(B50<>0,VLOOKUP(B50,DMSBXNC!$D$2:$I$420,6,FALSE()),NA()),IFERROR(IF(A50<>0,VLOOKUP(A50,DMSBXNC!$C$2:$I$420,7,FALSE()),NA()),"")) | Z50: =IFERROR(IF(B50<>0,VLOOKUP(B50,DMSBX1_3!$D$2:$I$420,6,FALSE()),NA()),IFERROR(IF(A50<>0,VLOOKUP(A50,DMSBX1_3!$C$2:$I$420,7,FALSE()),NA()),"")) | AA50: =IFERROR(IF(B50<>0,VLOOKUP(B50,'KLS1'!$D$2:$I$420,6,FALSE()),NA()),IFERROR(IF(A50<>0,VLOOKUP(A50,'KLS1'!$C$2:$I$420,7,FALSE()),NA()),"")) | AB50: =IFERROR(IF(B50<>0,VLOOKUP(B50,'KLS2'!$D$2:$I$426,6,FALSE()),NA()),IFERROR(IF(A50<>0,VLOOKUP(A50,'KLS2'!$C$2:$I$426,7,FALSE()),NA()),"")) | AC50: =SUM(S50:AB50) -> 0 | AD50: =(IFERROR(LARGE(S50:AB50,1),"0")+IFERROR(LARGE(S50:AB50,2),"0")+IFERROR(LARGE(S50:AB50,3),"0")+IFERROR(LARGE(S50:AB50,4),"0")+IFERROR(LARGE(S50:AB50,5),"0")+IFERROR(LARGE(S50:AB50,6),"0")+IFERROR(LARGE(S50:AB50,7),"0")+IFERROR(LARGE(S50:AB50,8),"0")) -> 0 | AE50: =(IFERROR(LARGE(S50:AB50,1),"0")+IFERROR(LARGE(S50:AB50,2),"0")+IFERROR(LARGE(S50:AB50,3),"0"))/3 -> 0 | AG50: =IFERROR(VLOOKUP(B50,FS!$A$2:$N$78,6,FALSE),"") | AH50: =IFERROR(VLOOKUP(B50,FS!$A$2:$N$78,7,FALSE),"") | AI50: =IFERROR(VLOOKUP(B50,FS!$A$2:$N$78,8,FALSE),"") | AJ50: =IFERROR(VLOOKUP(B50,FS!$A$2:$N$78,9,FALSE),"") | AK50: =IFERROR(VLOOKUP(B50,FS!$A$2:$N$78,10,FALSE),"") | AL50: =IFERROR(VLOOKUP(B50,FS!$A$2:$N$78,11,FALSE),"") | AM50: =IFERROR(VLOOKUP(B50,FS!$A$2:$N$78,12,FALSE),"") | AN50: =IFERROR(VLOOKUP(B50,FS!$A$2:$N$78,13,FALSE),"") | AO50: =SUM(AG50:AN50) -> 0 | AP50: =(IFERROR(LARGE(AG50:AN50,1),"0")+IFERROR(LARGE(AG50:AN50,2),"0")+IFERROR(LARGE(AG50:AN50,3),"0")+IFERROR(LARGE(AG50:AN50,4),"0")+IFERROR(LARGE(AG50:AN50,5),"0")) -> 0 | AQ50: =(IFERROR(LARGE(AG50:AN50,1),"0")+IFERROR(LARGE(AG50:AN50,2),"0")+IFERROR(LARGE(AG50:AN50,3),"0"))/3 -> 0 | AR50: =Q50+AE50+AQ50 -> 0 | AS50: =(IF(Q50>0,1,0))+(IF(AE50>0,1,0))+(IF(AQ50>0,1,0)) -> 0
A51: 9150167 | B51: 773732 | C51: KOUDELKA Matous | D51: 1999 | E51: CZE | F51: =IFERROR(VLOOKUP(B51,SVEXP!$A$2:$F$6577,6,FALSE),"") -> Neregistrovaní | G51: =IFERROR(VLOOKUP(B51,SVEXP!$A$2:$E$6577,5,FALSE),"") -> Jihočeský kraj | H51: M | I51: =IFERROR(VLOOKUP(A51,'KLP1'!$C$1:$I$108,7,0),IFERROR(VLOOKUP(B51,'KLP1'!$D$1:$I$108,6,0),"")) | J51: =IFERROR(VLOOKUP(A51,'KLP2'!$C$1:$I$108,7,0),IFERROR(VLOOKUP(B51,'KLP2'!$D$1:$I$108,6,0),"")) | K51: =IFERROR(VLOOKUP(A51,'DM1'!$C$1:$I$108,7,0),IFERROR(VLOOKUP(B51,'DM1'!$D$1:$I$108,6,0),"")) | L51: =IFERROR(VLOOKUP(A51,'DM2'!$C$1:$I$108,7,0),IFERROR(VLOOKUP(B51,'DM2'!$D$1:$I$108,6,0),"")) | M51: =IFERROR(VLOOKUP(A51,'SPF1'!$C$1:$I$108,7,0),IFERROR(VLOOKUP(B51,'SPF1'!$D$1:$I$108,6,0),"")) | N51: =IFERROR(VLOOKUP(A51,'SPF2'!$C$1:$I$108,7,0),IFERROR(VLOOKUP(B51,'SPF2'!$D$1:$I$108,6,0),"")) | O51: =SUM(I51:N51) -> 0 | P51: =IFERROR(LARGE(I51:N51,1),"0")+IFERROR(LARGE(I51:N51,2),"0")+IFERROR(LARGE(I51:N51,3),"0")+IFERROR(LARGE(I51:N51,4),"0") -> 0 | Q51: =(IFERROR(LARGE(I51:N51,1),"0")+IFERROR(LARGE(I51:N51,2),"0")+IFERROR(LARGE(I51:N51,3),"0"))/3 -> 0 | S51: =IFERROR(VLOOKUP(A51,DMSBX1!$C$1:$I$108,7,0),IFERROR(VLOOKUP(B51,DMSBX1!$D$1:$I$108,6,0),"")) | T51: =IFERROR(VLOOKUP(A51,DMSBX2!$C$1:$I$101,7,0),IFERROR(VLOOKUP(B51,DMSBX2!$D$1:$I$101,6,0),"")) | U51: =IFERROR(VLOOKUP(B51,'SP1'!$D$1:$I$107,6,0),"") | V51: =IFERROR(VLOOKUP(B51,'SP2'!$D$1:$I$107,6,0),"") | W51: =IFERROR(IF(B51<>0,VLOOKUP(B51,KLSBX1!$D$2:$I$120,6,FALSE()),NA()),IFERROR(IF(A51<>0,VLOOKUP(A51,KLSBX1!$C$2:$I$120,7,FALSE()),NA()),"")) | X51: =IFERROR(IF(B51<>0,VLOOKUP(B51,KLSBX2!$D$2:$I$120,6,FALSE()),NA()),IFERROR(IF(A51<>0,VLOOKUP(A51,KLSBX2!$C$2:$I$120,7,FALSE()),NA()),"")) | Y51: =IFERROR(IF(B51<>0,VLOOKUP(B51,DMSBXNC!$D$2:$I$420,6,FALSE()),NA()),IFERROR(IF(A51<>0,VLOOKUP(A51,DMSBXNC!$C$2:$I$420,7,FALSE()),NA()),"")) | Z51: =IFERROR(IF(B51<>0,VLOOKUP(B51,DMSBX1_3!$D$2:$I$420,6,FALSE()),NA()),IFERROR(IF(A51<>0,VLOOKUP(A51,DMSBX1_3!$C$2:$I$420,7,FALSE()),NA()),"")) | AA51: =IFERROR(IF(B51<>0,VLOOKUP(B51,'KLS1'!$D$2:$I$420,6,FALSE()),NA()),IFERROR(IF(A51<>0,VLOOKUP(A51,'KLS1'!$C$2:$I$420,7,FALSE()),NA()),"")) | AB51: =IFERROR(IF(B51<>0,VLOOKUP(B51,'KLS2'!$D$2:$I$426,6,FALSE()),NA()),IFERROR(IF(A51<>0,VLOOKUP(A51,'KLS2'!$C$2:$I$426,7,FALSE()),NA()),"")) | AC51: =SUM(S51:AB51) -> 0 | AD51: =(IFERROR(LARGE(S51:AB51,1),"0")+IFERROR(LARGE(S51:AB51,2),"0")+IFERROR(LARGE(S51:AB51,3),"0")+IFERROR(LARGE(S51:AB51,4),"0")+IFERROR(LARGE(S51:AB51,5),"0")+IFERROR(LARGE(S51:AB51,6),"0")+IFERROR(LARGE(S51:AB51,7),"0")+IFERROR(LARGE(S51:AB51,8),"0")) -> 0 | AE51: =(IFERROR(LARGE(S51:AB51,1),"0")+IFERROR(LARGE(S51:AB51,2),"0")+IFERROR(LARGE(S51:AB51,3),"0"))/3 -> 0 | AG51: =IFERROR(VLOOKUP(B51,FS!$A$2:$N$78,6,FALSE),"") | AH51: =IFERROR(VLOOKUP(B51,FS!$A$2:$N$78,7,FALSE),"") | AI51: =IFERROR(VLOOKUP(B51,FS!$A$2:$N$78,8,FALSE),"") | AJ51: =IFERROR(VLOOKUP(B51,FS!$A$2:$N$78,9,FALSE),"") | AK51: =IFERROR(VLOOKUP(B51,FS!$A$2:$N$78,10,FALSE),"") | AL51: =IFERROR(VLOOKUP(B51,FS!$A$2:$N$78,11,FALSE),"") | AM51: =IFERROR(VLOOKUP(B51,FS!$A$2:$N$78,12,FALSE),"") | AN51: =IFERROR(VLOOKUP(B51,FS!$A$2:$N$78,13,FALSE),"") | AO51: =SUM(AG51:AN51) -> 0 | AP51: =(IFERROR(LARGE(AG51:AN51,1),"0")+IFERROR(LARGE(AG51:AN51,2),"0")+IFERROR(LARGE(AG51:AN51,3),"0")+IFERROR(LARGE(AG51:AN51,4),"0")+IFERROR(LARGE(AG51:AN51,5),"0")) -> 0 | AQ51: =(IFERROR(LARGE(AG51:AN51,1),"0")+IFERROR(LARGE(AG51:AN51,2),"0")+IFERROR(LARGE(AG51:AN51,3),"0"))/3 -> 0 | AR51: =Q51+AE51+AQ51 -> 0 | AS51: =(IF(Q51>0,1,0))+(IF(AE51>0,1,0))+(IF(AQ51>0,1,0)) -> 0
A52: 9150168 | B52: 776411 | C52: POCINEK Adam | D52: 1999 | E52: CZE | F52: =IFERROR(VLOOKUP(B52,SVEXP!$A$2:$F$6577,6,FALSE),"") -> Spolek Y.S.R. | G52: =IFERROR(VLOOKUP(B52,SVEXP!$A$2:$E$6577,5,FALSE),"") -> Liberecký kraj | H52: M | I52: =IFERROR(VLOOKUP(A52,'KLP1'!$C$1:$I$108,7,0),IFERROR(VLOOKUP(B52,'KLP1'!$D$1:$I$108,6,0),"")) | J52: =IFERROR(VLOOKUP(A52,'KLP2'!$C$1:$I$108,7,0),IFERROR(VLOOKUP(B52,'KLP2'!$D$1:$I$108,6,0),"")) | K52: =IFERROR(VLOOKUP(A52,'DM1'!$C$1:$I$108,7,0),IFERROR(VLOOKUP(B52,'DM1'!$D$1:$I$108,6,0),"")) | L52: =IFERROR(VLOOKUP(A52,'DM2'!$C$1:$I$108,7,0),IFERROR(VLOOKUP(B52,'DM2'!$D$1:$I$108,6,0),"")) | M52: =IFERROR(VLOOKUP(A52,'SPF1'!$C$1:$I$108,7,0),IFERROR(VLOOKUP(B52,'SPF1'!$D$1:$I$108,6,0),"")) | N52: =IFERROR(VLOOKUP(A52,'SPF2'!$C$1:$I$108,7,0),IFERROR(VLOOKUP(B52,'SPF2'!$D$1:$I$108,6,0),"")) | O52: =SUM(I52:N52) -> 0 | P52: =IFERROR(LARGE(I52:N52,1),"0")+IFERROR(LARGE(I52:N52,2),"0")+IFERROR(LARGE(I52:N52,3),"0")+IFERROR(LARGE(I52:N52,4),"0") -> 0 | Q52: =(IFERROR(LARGE(I52:N52,1),"0")+IFERROR(LARGE(I52:N52,2),"0")+IFERROR(LARGE(I52:N52,3),"0"))/3 -> 0 | S52: =IFERROR(VLOOKUP(A52,DMSBX1!$C$1:$I$108,7,0),IFERROR(VLOOKUP(B52,DMSBX1!$D$1:$I$108,6,0),"")) | T52: =IFERROR(VLOOKUP(A52,DMSBX2!$C$1:$I$101,7,0),IFERROR(VLOOKUP(B52,DMSBX2!$D$1:$I$101,6,0),"")) | U52: =IFERROR(VLOOKUP(B52,'SP1'!$D$1:$I$107,6,0),"") | V52: =IFERROR(VLOOKUP(B52,'SP2'!$D$1:$I$107,6,0),"") | W52: =IFERROR(IF(B52<>0,VLOOKUP(B52,KLSBX1!$D$2:$I$120,6,FALSE()),NA()),IFERROR(IF(A52<>0,VLOOKUP(A52,KLSBX1!$C$2:$I$120,7,FALSE()),NA()),"")) | X52: =IFERROR(IF(B52<>0,VLOOKUP(B52,KLSBX2!$D$2:$I$120,6,FALSE()),NA()),IFERROR(IF(A52<>0,VLOOKUP(A52,KLSBX2!$C$2:$I$120,7,FALSE()),NA()),"")) | Y52: =IFERROR(IF(B52<>0,VLOOKUP(B52,DMSBXNC!$D$2:$I$420,6,FALSE()),NA()),IFERROR(IF(A52<>0,VLOOKUP(A52,DMSBXNC!$C$2:$I$420,7,FALSE()),NA()),"")) | Z52: =IFERROR(IF(B52<>0,VLOOKUP(B52,DMSBX1_3!$D$2:$I$420,6,FALSE()),NA()),IFERROR(IF(A52<>0,VLOOKUP(A52,DMSBX1_3!$C$2:$I$420,7,FALSE()),NA()),"")) | AA52: =IFERROR(IF(B52<>0,VLOOKUP(B52,'KLS1'!$D$2:$I$420,6,FALSE()),NA()),IFERROR(IF(A52<>0,VLOOKUP(A52,'KLS1'!$C$2:$I$420,7,FALSE()),NA()),"")) | AB52: =IFERROR(IF(B52<>0,VLOOKUP(B52,'KLS2'!$D$2:$I$426,6,FALSE()),NA()),IFERROR(IF(A52<>0,VLOOKUP(A52,'KLS2'!$C$2:$I$426,7,FALSE()),NA()),"")) | AC52: =SUM(S52:AB52) -> 0 | AD52: =(IFERROR(LARGE(S52:AB52,1),"0")+IFERROR(LARGE(S52:AB52,2),"0")+IFERROR(LARGE(S52:AB52,3),"0")+IFERROR(LARGE(S52:AB52,4),"0")+IFERROR(LARGE(S52:AB52,5),"0")+IFERROR(LARGE(S52:AB52,6),"0")+IFERROR(LARGE(S52:AB52,7),"0")+IFERROR(LARGE(S52:AB52,8),"0")) -> 0 | AE52: =(IFERROR(LARGE(S52:AB52,1),"0")+IFERROR(LARGE(S52:AB52,2),"0")+IFERROR(LARGE(S52:AB52,3),"0"))/3 -> 0 | AG52: =IFERROR(VLOOKUP(B52,FS!$A$2:$N$78,6,FALSE),"") | AH52: =IFERROR(VLOOKUP(B52,FS!$A$2:$N$78,7,FALSE),"") | AI52: =IFERROR(VLOOKUP(B52,FS!$A$2:$N$78,8,FALSE),"") | AJ52: =IFERROR(VLOOKUP(B52,FS!$A$2:$N$78,9,FALSE),"") | AK52: =IFERROR(VLOOKUP(B52,FS!$A$2:$N$78,10,FALSE),"") | AL52: =IFERROR(VLOOKUP(B52,FS!$A$2:$N$78,11,FALSE),"") | AM52: =IFERROR(VLOOKUP(B52,FS!$A$2:$N$78,12,FALSE),"") | AN52: =IFERROR(VLOOKUP(B52,FS!$A$2:$N$78,13,FALSE),"") | AO52: =SUM(AG52:AN52) -> 0 | AP52: =(IFERROR(LARGE(AG52:AN52,1),"0")+IFERROR(LARGE(AG52:AN52,2),"0")+IFERROR(LARGE(AG52:AN52,3),"0")+IFERROR(LARGE(AG52:AN52,4),"0")+IFERROR(LARGE(AG52:AN52,5),"0")) -> 0 | AQ52: =(IFERROR(LARGE(AG52:AN52,1),"0")+IFERROR(LARGE(AG52:AN52,2),"0")+IFERROR(LARGE(AG52:AN52,3),"0"))/3 -> 0 | AR52: =Q52+AE52+AQ52 -> 0 | AS52: =(IF(Q52>0,1,0))+(IF(AE52>0,1,0))+(IF(AQ52>0,1,0)) -> 0
B53: 774476 | C53: Veber Viliam | D53: 2016 | E53: CZE | F53: =IFERROR(VLOOKUP(B53,SVEXP!$A$2:$F$6577,6,FALSE),"") -> SA Špindlerův Mlýn | G53: =IFERROR(VLOOKUP(B53,SVEXP!$A$2:$E$6577,5,FALSE),"") -> Hlavní město Praha | H53: M | I53: =IFERROR(VLOOKUP(A53,'KLP1'!$C$1:$I$108,7,0),IFERROR(VLOOKUP(B53,'KLP1'!$D$1:$I$108,6,0),"")) | J53: =IFERROR(VLOOKUP(A53,'KLP2'!$C$1:$I$108,7,0),IFERROR(VLOOKUP(B53,'KLP2'!$D$1:$I$108,6,0),"")) | K53: =IFERROR(VLOOKUP(A53,'DM1'!$C$1:$I$108,7,0),IFERROR(VLOOKUP(B53,'DM1'!$D$1:$I$108,6,0),"")) | L53: =IFERROR(VLOOKUP(A53,'DM2'!$C$1:$I$108,7,0),IFERROR(VLOOKUP(B53,'DM2'!$D$1:$I$108,6,0),"")) | M53: =IFERROR(VLOOKUP(A53,'SPF1'!$C$1:$I$108,7,0),IFERROR(VLOOKUP(B53,'SPF1'!$D$1:$I$108,6,0),"")) -> 100 | N53: =IFERROR(VLOOKUP(A53,'SPF2'!$C$1:$I$108,7,0),IFERROR(VLOOKUP(B53,'SPF2'!$D$1:$I$108,6,0),"")) | O53: =SUM(I53:N53) -> 100 | P53: =IFERROR(LARGE(I53:N53,1),"0")+IFERROR(LARGE(I53:N53,2),"0")+IFERROR(LARGE(I53:N53,3),"0")+IFERROR(LARGE(I53:N53,4),"0") -> 100 | Q53: =(IFERROR(LARGE(I53:N53,1),"0")+IFERROR(LARGE(I53:N53,2),"0")+IFERROR(LARGE(I53:N53,3),"0"))/3 -> 33.333333 | S53: =IFERROR(VLOOKUP(A53,DMSBX1!$C$1:$I$108,7,0),IFERROR(VLOOKUP(B53,DMSBX1!$D$1:$I$108,6,0),"")) | T53: =IFERROR(VLOOKUP(A53,DMSBX2!$C$1:$I$101,7,0),IFERROR(VLOOKUP(B53,DMSBX2!$D$1:$I$101,6,0),"")) | U53: =IFERROR(VLOOKUP(B53,'SP1'!$D$1:$I$107,6,0),"") | V53: =IFERROR(VLOOKUP(B53,'SP2'!$D$1:$I$107,6,0),"") | W53: =IFERROR(IF(B53<>0,VLOOKUP(B53,KLSBX1!$D$2:$I$120,6,FALSE()),NA()),IFERROR(IF(A53<>0,VLOOKUP(A53,KLSBX1!$C$2:$I$120,7,FALSE()),NA()),"")) -> 72 | X53: =IFERROR(IF(B53<>0,VLOOKUP(B53,KLSBX2!$D$2:$I$120,6,FALSE()),NA()),IFERROR(IF(A53<>0,VLOOKUP(A53,KLSBX2!$C$2:$I$120,7,FALSE()),NA()),"")) -> 50 | Y53: =IFERROR(IF(B53<>0,VLOOKUP(B53,DMSBXNC!$D$2:$I$420,6,FALSE()),NA()),IFERROR(IF(A53<>0,VLOOKUP(A53,DMSBXNC!$C$2:$I$420,7,FALSE()),NA()),"")) -> 50 | Z53: =IFERROR(IF(B53<>0,VLOOKUP(B53,DMSBX1_3!$D$2:$I$420,6,FALSE()),NA()),IFERROR(IF(A53<>0,VLOOKUP(A53,DMSBX1_3!$C$2:$I$420,7,FALSE()),NA()),"")) -> 45 | AA53: =IFERROR(IF(B53<>0,VLOOKUP(B53,'KLS1'!$D$2:$I$420,6,FALSE()),NA()),IFERROR(IF(A53<>0,VLOOKUP(A53,'KLS1'!$C$2:$I$420,7,FALSE()),NA()),"")) | AB53: =IFERROR(IF(B53<>0,VLOOKUP(B53,'KLS2'!$D$2:$I$426,6,FALSE()),NA()),IFERROR(IF(A53<>0,VLOOKUP(A53,'KLS2'!$C$2:$I$426,7,FALSE()),NA()),"")) | AC53: =SUM(S53:AB53) -> 217 | AD53: =(IFERROR(LARGE(S53:AB53,1),"0")+IFERROR(LARGE(S53:AB53,2),"0")+IFERROR(LARGE(S53:AB53,3),"0")+IFERROR(LARGE(S53:AB53,4),"0")+IFERROR(LARGE(S53:AB53,5),"0")+IFERROR(LARGE(S53:AB53,6),"0")+IFERROR(LARGE(S53:AB53,7),"0")+IFERROR(LARGE(S53:AB53,8),"0")) -> 217 | AE53: =(IFERROR(LARGE(S53:AB53,1),"0")+IFERROR(LARGE(S53:AB53,2),"0")+IFERROR(LARGE(S53:AB53,3),"0"))/3 -> 57.333333 | AG53: =IFERROR(VLOOKUP(B53,FS!$A$2:$N$78,6,FALSE),"") -> 27 | AH53: =IFERROR(VLOOKUP(B53,FS!$A$2:$N$78,7,FALSE),"") -> 30 | AI53: =IFERROR(VLOOKUP(B53,FS!$A$2:$N$78,8,FALSE),"") -> 22.5 | AJ53: =IFERROR(VLOOKUP(B53,FS!$A$2:$N$78,9,FALSE),"") -> 60 | AK53: =IFERROR(VLOOKUP(B53,FS!$A$2:$N$78,10,FALSE),"") -> 36 | AL53: =IFERROR(VLOOKUP(B53,FS!$A$2:$N$78,11,FALSE),"") -> 30 | AM53: =IFERROR(VLOOKUP(B53,FS!$A$2:$N$78,12,FALSE),"") -> 48 | AN53: =IFERROR(VLOOKUP(B53,FS!$A$2:$N$78,13,FALSE),"") -> 30 | AO53: =SUM(AG53:AN53) -> 283.5 | AP53: =(IFERROR(LARGE(AG53:AN53,1),"0")+IFERROR(LARGE(AG53:AN53,2),"0")+IFERROR(LARGE(AG53:AN53,3),"0")+IFERROR(LARGE(AG53:AN53,4),"0")+IFERROR(LARGE(AG53:AN53,5),"0")) -> 204 | AQ53: =(IFERROR(LARGE(AG53:AN53,1),"0")+IFERROR(LARGE(AG53:AN53,2),"0")+IFERROR(LARGE(AG53:AN53,3),"0"))/3 -> 48 | AR53: =Q53+AE53+AQ53 -> 138.66667 | AS53: =(IF(Q53>0,1,0))+(IF(AE53>0,1,0))+(IF(AQ53>0,1,0)) -> 3 | AT53: =COUNTIF(I53:N53,">"&0)+COUNTIF(S53:AB53,">"&0)+COUNTIF(AG53:AN53,">"&0) -> 13
B54: 773713 | C54: Novák Jakub | D54: 2016 | E54: CZE | F54: =IFERROR(VLOOKUP(B54,SVEXP!$A$2:$F$6577,6,FALSE),"") -> SK Freestyle Area | G54: =IFERROR(VLOOKUP(B54,SVEXP!$A$2:$E$6577,5,FALSE),"") -> Hlavní město Praha | H54: M | I54: =IFERROR(VLOOKUP(A54,'KLP1'!$C$1:$I$108,7,0),IFERROR(VLOOKUP(B54,'KLP1'!$D$1:$I$108,6,0),"")) | J54: =IFERROR(VLOOKUP(A54,'KLP2'!$C$1:$I$108,7,0),IFERROR(VLOOKUP(B54,'KLP2'!$D$1:$I$108,6,0),"")) | K54: =IFERROR(VLOOKUP(A54,'DM1'!$C$1:$I$108,7,0),IFERROR(VLOOKUP(B54,'DM1'!$D$1:$I$108,6,0),"")) | L54: =IFERROR(VLOOKUP(A54,'DM2'!$C$1:$I$108,7,0),IFERROR(VLOOKUP(B54,'DM2'!$D$1:$I$108,6,0),"")) | M54: =IFERROR(VLOOKUP(A54,'SPF1'!$C$1:$I$108,7,0),IFERROR(VLOOKUP(B54,'SPF1'!$D$1:$I$108,6,0),"")) | N54: =IFERROR(VLOOKUP(A54,'SPF2'!$C$1:$I$108,7,0),IFERROR(VLOOKUP(B54,'SPF2'!$D$1:$I$108,6,0),"")) | O54: =SUM(I54:N54) -> 0 | P54: =IFERROR(LARGE(I54:N54,1),"0")+IFERROR(LARGE(I54:N54,2),"0")+IFERROR(LARGE(I54:N54,3),"0")+IFERROR(LARGE(I54:N54,4),"0") -> 0 | Q54: =(IFERROR(LARGE(I54:N54,1),"0")+IFERROR(LARGE(I54:N54,2),"0")+IFERROR(LARGE(I54:N54,3),"0"))/3 -> 0 | S54: =IFERROR(VLOOKUP(A54,DMSBX1!$C$1:$I$108,7,0),IFERROR(VLOOKUP(B54,DMSBX1!$D$1:$I$108,6,0),"")) -> 70 | T54: =IFERROR(VLOOKUP(A54,DMSBX2!$C$1:$I$101,7,0),IFERROR(VLOOKUP(B54,DMSBX2!$D$1:$I$101,6,0),"")) -> 70 | U54: =IFERROR(VLOOKUP(B54,'SP1'!$D$1:$I$107,6,0),"") | V54: =IFERROR(VLOOKUP(B54,'SP2'!$D$1:$I$107,6,0),"") | W54: =IFERROR(IF(B54<>0,VLOOKUP(B54,KLSBX1!$D$2:$I$120,6,FALSE()),NA()),IFERROR(IF(A54<>0,VLOOKUP(A54,KLSBX1!$C$2:$I$120,7,FALSE()),NA()),"")) | X54: =IFERROR(IF(B54<>0,VLOOKUP(B54,KLSBX2!$D$2:$I$120,6,FALSE()),NA()),IFERROR(IF(A54<>0,VLOOKUP(A54,KLSBX2!$C$2:$I$120,7,FALSE()),NA()),"")) | Y54: =IFERROR(IF(B54<>0,VLOOKUP(B54,DMSBXNC!$D$2:$I$420,6,FALSE()),NA()),IFERROR(IF(A54<>0,VLOOKUP(A54,DMSBXNC!$C$2:$I$420,7,FALSE()),NA()),"")) -> 100 | Z54: =IFERROR(IF(B54<>0,VLOOKUP(B54,DMSBX1_3!$D$2:$I$420,6,FALSE()),NA()),IFERROR(IF(A54<>0,VLOOKUP(A54,DMSBX1_3!$C$2:$I$420,7,FALSE()),NA()),"")) -> 80 | AA54: =IFERROR(IF(B54<>0,VLOOKUP(B54,'KLS1'!$D$2:$I$420,6,FALSE()),NA()),IFERROR(IF(A54<>0,VLOOKUP(A54,'KLS1'!$C$2:$I$420,7,FALSE()),NA()),"")) | AB54: =IFERROR(IF(B54<>0,VLOOKUP(B54,'KLS2'!$D$2:$I$426,6,FALSE()),NA()),IFERROR(IF(A54<>0,VLOOKUP(A54,'KLS2'!$C$2:$I$426,7,FALSE()),NA()),"")) | AC54: =SUM(S54:AB54) -> 320 | AD54: =(IFERROR(LARGE(S54:AB54,1),"0")+IFERROR(LARGE(S54:AB54,2),"0")+IFERROR(LARGE(S54:AB54,3),"0")+IFERROR(LARGE(S54:AB54,4),"0")+IFERROR(LARGE(S54:AB54,5),"0")+IFERROR(LARGE(S54:AB54,6),"0")+IFERROR(LARGE(S54:AB54,7),"0")+IFERROR(LARGE(S54:AB54,8),"0")) -> 320 | AE54: =(IFERROR(LARGE(S54:AB54,1),"0")+IFERROR(LARGE(S54:AB54,2),"0")+IFERROR(LARGE(S54:AB54,3),"0"))/3 -> 83.333333 | AG54: =IFERROR(VLOOKUP(B54,FS!$A$2:$N$78,6,FALSE),"") -> 48 | AI54: =IFERROR(VLOOKUP(B54,FS!$A$2:$N$78,8,FALSE),"") -> 50 | AJ54: =IFERROR(VLOOKUP(B54,FS!$A$2:$N$78,9,FALSE),"") -> 100 | AK54: =IFERROR(VLOOKUP(B54,FS!$A$2:$N$78,10,FALSE),"") -> 60 | AL54: =IFERROR(VLOOKUP(B54,FS!$A$2:$N$78,11,FALSE),"") -> 60 | AM54: =IFERROR(VLOOKUP(B54,FS!$A$2:$N$78,12,FALSE),"") -> 80 | AN54: =IFERROR(VLOOKUP(B54,FS!$A$2:$N$78,13,FALSE),"") -> 50 | AO54: =SUM(AG54:AN54) -> 448 | AP54: =(IFERROR(LARGE(AG54:AN54,1),"0")+IFERROR(LARGE(AG54:AN54,2),"0")+IFERROR(LARGE(AG54:AN54,3),"0")+IFERROR(LARGE(AG54:AN54,4),"0")+IFERROR(LARGE(AG54:AN54,5),"0")) -> 350 | AQ54: =(IFERROR(LARGE(AG54:AN54,1),"0")+IFERROR(LARGE(AG54:AN54,2),"0")+IFERROR(LARGE(AG54:AN54,3),"0"))/3 -> 80 | AR54: =Q54+AE54+AQ54 -> 163.33333 | AS54: =(IF(Q54>0,1,0))+(IF(AE54>0,1,0))+(IF(AQ54>0,1,0)) -> 2 | AT54: =COUNTIF(I54:N54,">"&0)+COUNTIF(S54:AB54,">"&0)+COUNTIF(AG54:AN54,">"&0) -> 11
A55: 9155012 | B55: 888842 | C55: MULLEN Natalie Elinor | D55: 2000 | E55: CZE | F55: =IFERROR(VLOOKUP(B55,SVEXP!$A$2:$F$6577,6,FALSE),"") -> Czech snowboardcross team | G55: =IFERROR(VLOOKUP(B55,SVEXP!$A$2:$E$6577,5,FALSE),"") -> Zlínský kraj | H55: L | I55: =IFERROR(VLOOKUP(A55,'KLP1'!$C$1:$I$108,7,0),IFERROR(VLOOKUP(B55,'KLP1'!$D$1:$I$108,6,0),"")) | J55: =IFERROR(VLOOKUP(A55,'KLP2'!$C$1:$I$108,7,0),IFERROR(VLOOKUP(B55,'KLP2'!$D$1:$I$108,6,0),"")) | K55: =IFERROR(VLOOKUP(A55,'DM1'!$C$1:$I$108,7,0),IFERROR(VLOOKUP(B55,'DM1'!$D$1:$I$108,6,0),"")) | L55: =IFERROR(VLOOKUP(A55,'DM2'!$C$1:$I$108,7,0),IFERROR(VLOOKUP(B55,'DM2'!$D$1:$I$108,6,0),"")) | M55: =IFERROR(VLOOKUP(A55,'SPF1'!$C$1:$I$108,7,0),IFERROR(VLOOKUP(B55,'SPF1'!$D$1:$I$108,6,0),"")) | N55: =IFERROR(VLOOKUP(A55,'SPF2'!$C$1:$I$108,7,0),IFERROR(VLOOKUP(B55,'SPF2'!$D$1:$I$108,6,0),"")) | O55: =SUM(I55:N55) -> 0 | P55: =IFERROR(LARGE(I55:N55,1),"0")+IFERROR(LARGE(I55:N55,2),"0")+IFERROR(LARGE(I55:N55,3),"0")+IFERROR(LARGE(I55:N55,4),"0") -> 0 | Q55: =(IFERROR(LARGE(I55:N55,1),"0")+IFERROR(LARGE(I55:N55,2),"0")+IFERROR(LARGE(I55:N55,3),"0"))/3 -> 0 | S55: =IFERROR(VLOOKUP(A55,DMSBX1!$C$1:$I$108,7,0),IFERROR(VLOOKUP(B55,DMSBX1!$D$1:$I$108,6,0),"")) | T55: =IFERROR(VLOOKUP(A55,DMSBX2!$C$1:$I$101,7,0),IFERROR(VLOOKUP(B55,DMSBX2!$D$1:$I$101,6,0),"")) | U55: =IFERROR(VLOOKUP(B55,'SP1'!$D$1:$I$107,6,0),"") | V55: =IFERROR(VLOOKUP(B55,'SP2'!$D$1:$I$107,6,0),"") | W55: =IFERROR(IF(B55<>0,VLOOKUP(B55,KLSBX1!$D$2:$I$120,6,FALSE()),NA()),IFERROR(IF(A55<>0,VLOOKUP(A55,KLSBX1!$C$2:$I$120,7,FALSE()),NA()),"")) | X55: =IFERROR(IF(B55<>0,VLOOKUP(B55,KLSBX2!$D$2:$I$120,6,FALSE()),NA()),IFERROR(IF(A55<>0,VLOOKUP(A55,KLSBX2!$C$2:$I$120,7,FALSE()),NA()),"")) | Y55: =IFERROR(IF(B55<>0,VLOOKUP(B55,DMSBXNC!$D$2:$I$420,6,FALSE()),NA()),IFERROR(IF(A55<>0,VLOOKUP(A55,DMSBXNC!$C$2:$I$420,7,FALSE()),NA()),"")) | Z55: =IFERROR(IF(B55<>0,VLOOKUP(B55,DMSBX1_3!$D$2:$I$420,6,FALSE()),NA()),IFERROR(IF(A55<>0,VLOOKUP(A55,DMSBX1_3!$C$2:$I$420,7,FALSE()),NA()),"")) | AA55: =IFERROR(IF(B55<>0,VLOOKUP(B55,'KLS1'!$D$2:$I$420,6,FALSE()),NA()),IFERROR(IF(A55<>0,VLOOKUP(A55,'KLS1'!$C$2:$I$420,7,FALSE()),NA()),"")) | AB55: =IFERROR(IF(B55<>0,VLOOKUP(B55,'KLS2'!$D$2:$I$426,6,FALSE()),NA()),IFERROR(IF(A55<>0,VLOOKUP(A55,'KLS2'!$C$2:$I$426,7,FALSE()),NA()),"")) | AC55: =SUM(S55:AB55) -> 0 | AD55: =(IFERROR(LARGE(S55:AB55,1),"0")+IFERROR(LARGE(S55:AB55,2),"0")+IFERROR(LARGE(S55:AB55,3),"0")+IFERROR(LARGE(S55:AB55,4),"0")+IFERROR(LARGE(S55:AB55,5),"0")+IFERROR(LARGE(S55:AB55,6),"0")+IFERROR(LARGE(S55:AB55,7),"0")+IFERROR(LARGE(S55:AB55,8),"0")) -> 0 | AE55: =(IFERROR(LARGE(S55:AB55,1),"0")+IFERROR(LARGE(S55:AB55,2),"0")+IFERROR(LARGE(S55:AB55,3),"0"))/3 -> 0 | AG55: =IFERROR(VLOOKUP(B55,FS!$A$2:$N$78,6,FALSE),"") | AH55: =IFERROR(VLOOKUP(B55,FS!$A$2:$N$78,7,FALSE),"") | AI55: =IFERROR(VLOOKUP(B55,FS!$A$2:$N$78,8,FALSE),"") | AJ55: =IFERROR(VLOOKUP(B55,FS!$A$2:$N$78,9,FALSE),"") | AK55: =IFERROR(VLOOKUP(B55,FS!$A$2:$N$78,10,FALSE),"") | AL55: =IFERROR(VLOOKUP(B55,FS!$A$2:$N$78,11,FALSE),"") | AM55: =IFERROR(VLOOKUP(B55,FS!$A$2:$N$78,12,FALSE),"") | AN55: =IFERROR(VLOOKUP(B55,FS!$A$2:$N$78,13,FALSE),"") | AO55: =SUM(AG55:AN55) -> 0 | AP55: =(IFERROR(LARGE(AG55:AN55,1),"0")+IFERROR(LARGE(AG55:AN55,2),"0")+IFERROR(LARGE(AG55:AN55,3),"0")+IFERROR(LARGE(AG55:AN55,4),"0")+IFERROR(LARGE(AG55:AN55,5),"0")) -> 0 | AQ55: =(IFERROR(LARGE(AG55:AN55,1),"0")+IFERROR(LARGE(AG55:AN55,2),"0")+IFERROR(LARGE(AG55:AN55,3),"0"))/3 -> 0 | AR55: =Q55+AE55+AQ55 -> 0 | AS55: =(IF(Q55>0,1,0))+(IF(AE55>0,1,0))+(IF(AQ55>0,1,0)) -> 0
A56: 9150300 | B56: 776980 | C56: PRIKRYL Benjamin | D56: 2000 | E56: CZE | F56: =IFERROR(VLOOKUP(B56,SVEXP!$A$2:$F$6577,6,FALSE),"") -> Neregistrovaní | G56: =IFERROR(VLOOKUP(B56,SVEXP!$A$2:$E$6577,5,FALSE),"") -> Zlínský kraj | H56: M | I56: =IFERROR(VLOOKUP(A56,'KLP1'!$C$1:$I$108,7,0),IFERROR(VLOOKUP(B56,'KLP1'!$D$1:$I$108,6,0),"")) | J56: =IFERROR(VLOOKUP(A56,'KLP2'!$C$1:$I$108,7,0),IFERROR(VLOOKUP(B56,'KLP2'!$D$1:$I$108,6,0),"")) | K56: =IFERROR(VLOOKUP(A56,'DM1'!$C$1:$I$108,7,0),IFERROR(VLOOKUP(B56,'DM1'!$D$1:$I$108,6,0),"")) | L56: =IFERROR(VLOOKUP(A56,'DM2'!$C$1:$I$108,7,0),IFERROR(VLOOKUP(B56,'DM2'!$D$1:$I$108,6,0),"")) | M56: =IFERROR(VLOOKUP(A56,'SPF1'!$C$1:$I$108,7,0),IFERROR(VLOOKUP(B56,'SPF1'!$D$1:$I$108,6,0),"")) | N56: =IFERROR(VLOOKUP(A56,'SPF2'!$C$1:$I$108,7,0),IFERROR(VLOOKUP(B56,'SPF2'!$D$1:$I$108,6,0),"")) | O56: =SUM(I56:N56) -> 0 | P56: =IFERROR(LARGE(I56:N56,1),"0")+IFERROR(LARGE(I56:N56,2),"0")+IFERROR(LARGE(I56:N56,3),"0")+IFERROR(LARGE(I56:N56,4),"0") -> 0 | Q56: =(IFERROR(LARGE(I56:N56,1),"0")+IFERROR(LARGE(I56:N56,2),"0")+IFERROR(LARGE(I56:N56,3),"0"))/3 -> 0 | S56: =IFERROR(VLOOKUP(A56,DMSBX1!$C$1:$I$108,7,0),IFERROR(VLOOKUP(B56,DMSBX1!$D$1:$I$108,6,0),"")) | T56: =IFERROR(VLOOKUP(A56,DMSBX2!$C$1:$I$101,7,0),IFERROR(VLOOKUP(B56,DMSBX2!$D$1:$I$101,6,0),"")) | U56: =IFERROR(VLOOKUP(B56,'SP1'!$D$1:$I$107,6,0),"") | V56: =IFERROR(VLOOKUP(B56,'SP2'!$D$1:$I$107,6,0),"") | W56: =IFERROR(IF(B56<>0,VLOOKUP(B56,KLSBX1!$D$2:$I$120,6,FALSE()),NA()),IFERROR(IF(A56<>0,VLOOKUP(A56,KLSBX1!$C$2:$I$120,7,FALSE()),NA()),"")) | X56: =IFERROR(IF(B56<>0,VLOOKUP(B56,KLSBX2!$D$2:$I$120,6,FALSE()),NA()),IFERROR(IF(A56<>0,VLOOKUP(A56,KLSBX2!$C$2:$I$120,7,FALSE()),NA()),"")) | Y56: =IFERROR(IF(B56<>0,VLOOKUP(B56,DMSBXNC!$D$2:$I$420,6,FALSE()),NA()),IFERROR(IF(A56<>0,VLOOKUP(A56,DMSBXNC!$C$2:$I$420,7,FALSE()),NA()),"")) | Z56: =IFERROR(IF(B56<>0,VLOOKUP(B56,DMSBX1_3!$D$2:$I$420,6,FALSE()),NA()),IFERROR(IF(A56<>0,VLOOKUP(A56,DMSBX1_3!$C$2:$I$420,7,FALSE()),NA()),"")) | AA56: =IFERROR(IF(B56<>0,VLOOKUP(B56,'KLS1'!$D$2:$I$420,6,FALSE()),NA()),IFERROR(IF(A56<>0,VLOOKUP(A56,'KLS1'!$C$2:$I$420,7,FALSE()),NA()),"")) | AB56: =IFERROR(IF(B56<>0,VLOOKUP(B56,'KLS2'!$D$2:$I$426,6,FALSE()),NA()),IFERROR(IF(A56<>0,VLOOKUP(A56,'KLS2'!$C$2:$I$426,7,FALSE()),NA()),"")) | AC56: =SUM(S56:AB56) -> 0 | AD56: =(IFERROR(LARGE(S56:AB56,1),"0")+IFERROR(LARGE(S56:AB56,2),"0")+IFERROR(LARGE(S56:AB56,3),"0")+IFERROR(LARGE(S56:AB56,4),"0")+IFERROR(LARGE(S56:AB56,5),"0")+IFERROR(LARGE(S56:AB56,6),"0")+IFERROR(LARGE(S56:AB56,7),"0")+IFERROR(LARGE(S56:AB56,8),"0")) -> 0 | AE56: =(IFERROR(LARGE(S56:AB56,1),"0")+IFERROR(LARGE(S56:AB56,2),"0")+IFERROR(LARGE(S56:AB56,3),"0"))/3 -> 0 | AG56: =IFERROR(VLOOKUP(B56,FS!$A$2:$N$78,6,FALSE),"") | AH56: =IFERROR(VLOOKUP(B56,FS!$A$2:$N$78,7,FALSE),"") | AI56: =IFERROR(VLOOKUP(B56,FS!$A$2:$N$78,8,FALSE),"") | AJ56: =IFERROR(VLOOKUP(B56,FS!$A$2:$N$78,9,FALSE),"") | AK56: =IFERROR(VLOOKUP(B56,FS!$A$2:$N$78,10,FALSE),"") | AL56: =IFERROR(VLOOKUP(B56,FS!$A$2:$N$78,11,FALSE),"") | AM56: =IFERROR(VLOOKUP(B56,FS!$A$2:$N$78,12,FALSE),"") | AN56: =IFERROR(VLOOKUP(B56,FS!$A$2:$N$78,13,FALSE),"") | AO56: =SUM(AG56:AN56) -> 0 | AP56: =(IFERROR(LARGE(AG56:AN56,1),"0")+IFERROR(LARGE(AG56:AN56,2),"0")+IFERROR(LARGE(AG56:AN56,3),"0")+IFERROR(LARGE(AG56:AN56,4),"0")+IFERROR(LARGE(AG56:AN56,5),"0")) -> 0 | AQ56: =(IFERROR(LARGE(AG56:AN56,1),"0")+IFERROR(LARGE(AG56:AN56,2),"0")+IFERROR(LARGE(AG56:AN56,3),"0"))/3 -> 0 | AR56: =Q56+AE56+AQ56 -> 0 | AS56: =(IF(Q56>0,1,0))+(IF(AE56>0,1,0))+(IF(AQ56>0,1,0)) -> 0
A57: 9320171 | C57: KWON Yong-Hwi | D57: 2000 | E57: KOR | H57: M | I57: =IFERROR(VLOOKUP(A57,'KLP1'!$C$1:$I$108,7,0),IFERROR(VLOOKUP(B57,'KLP1'!$D$1:$I$108,6,0),"")) | J57: =IFERROR(VLOOKUP(A57,'KLP2'!$C$1:$I$108,7,0),IFERROR(VLOOKUP(B57,'KLP2'!$D$1:$I$108,6,0),"")) | K57: =IFERROR(VLOOKUP(A57,'DM1'!$C$1:$I$108,7,0),IFERROR(VLOOKUP(B57,'DM1'!$D$1:$I$108,6,0),"")) | L57: =IFERROR(VLOOKUP(A57,'DM2'!$C$1:$I$108,7,0),IFERROR(VLOOKUP(B57,'DM2'!$D$1:$I$108,6,0),"")) | M57: =IFERROR(VLOOKUP(A57,'SPF1'!$C$1:$I$108,7,0),IFERROR(VLOOKUP(B57,'SPF1'!$D$1:$I$108,6,0),"")) -> 50 | N57: =IFERROR(VLOOKUP(A57,'SPF2'!$C$1:$I$108,7,0),IFERROR(VLOOKUP(B57,'SPF2'!$D$1:$I$108,6,0),"")) -> 100 | O57: =SUM(I57:N57) -> 150 | P57: =IFERROR(LARGE(I57:N57,1),"0")+IFERROR(LARGE(I57:N57,2),"0")+IFERROR(LARGE(I57:N57,3),"0")+IFERROR(LARGE(I57:N57,4),"0") -> 150 | Q57: =(IFERROR(LARGE(I57:N57,1),"0")+IFERROR(LARGE(I57:N57,2),"0")+IFERROR(LARGE(I57:N57,3),"0"))/3 -> 50 | S57: =IFERROR(VLOOKUP(A57,DMSBX1!$C$1:$I$108,7,0),IFERROR(VLOOKUP(B57,DMSBX1!$D$1:$I$108,6,0),"")) | T57: =IFERROR(VLOOKUP(A57,DMSBX2!$C$1:$I$101,7,0),IFERROR(VLOOKUP(B57,DMSBX2!$D$1:$I$101,6,0),"")) | U57: =IFERROR(VLOOKUP(B57,'SP1'!$D$1:$I$107,6,0),"") | V57: =IFERROR(VLOOKUP(B57,'SP2'!$D$1:$I$107,6,0),"") | W57: =IFERROR(IF(B57<>0,VLOOKUP(B57,KLSBX1!$D$2:$I$120,6,FALSE()),NA()),IFERROR(IF(A57<>0,VLOOKUP(A57,KLSBX1!$C$2:$I$120,7,FALSE()),NA()),"")) | X57: =IFERROR(IF(B57<>0,VLOOKUP(B57,KLSBX2!$D$2:$I$120,6,FALSE()),NA()),IFERROR(IF(A57<>0,VLOOKUP(A57,KLSBX2!$C$2:$I$120,7,FALSE()),NA()),"")) | Y57: =IFERROR(IF(B57<>0,VLOOKUP(B57,DMSBXNC!$D$2:$I$420,6,FALSE()),NA()),IFERROR(IF(A57<>0,VLOOKUP(A57,DMSBXNC!$C$2:$I$420,7,FALSE()),NA()),"")) | Z57: =IFERROR(IF(B57<>0,VLOOKUP(B57,DMSBX1_3!$D$2:$I$420,6,FALSE()),NA()),IFERROR(IF(A57<>0,VLOOKUP(A57,DMSBX1_3!$C$2:$I$420,7,FALSE()),NA()),"")) | AA57: =IFERROR(IF(B57<>0,VLOOKUP(B57,'KLS1'!$D$2:$I$420,6,FALSE()),NA()),IFERROR(IF(A57<>0,VLOOKUP(A57,'KLS1'!$C$2:$I$420,7,FALSE()),NA()),"")) | AB57: =IFERROR(IF(B57<>0,VLOOKUP(B57,'KLS2'!$D$2:$I$426,6,FALSE()),NA()),IFERROR(IF(A57<>0,VLOOKUP(A57,'KLS2'!$C$2:$I$426,7,FALSE()),NA()),"")) | AC57: =SUM(S57:AB57) -> 0 | AD57: =(IFERROR(LARGE(S57:AB57,1),"0")+IFERROR(LARGE(S57:AB57,2),"0")+IFERROR(LARGE(S57:AB57,3),"0")+IFERROR(LARGE(S57:AB57,4),"0")+IFERROR(LARGE(S57:AB57,5),"0")+IFERROR(LARGE(S57:AB57,6),"0")+IFERROR(LARGE(S57:AB57,7),"0")+IFERROR(LARGE(S57:AB57,8),"0")) -> 0 | AE57: =(IFERROR(LARGE(S57:AB57,1),"0")+IFERROR(LARGE(S57:AB57,2),"0")+IFERROR(LARGE(S57:AB57,3),"0"))/3 -> 0 | AG57: =IFERROR(VLOOKUP(B57,FS!$A$2:$N$78,6,FALSE),"") | AH57: =IFERROR(VLOOKUP(B57,FS!$A$2:$N$78,7,FALSE),"") | AI57: =IFERROR(VLOOKUP(B57,FS!$A$2:$N$78,8,FALSE),"") | AJ57: =IFERROR(VLOOKUP(B57,FS!$A$2:$N$78,9,FALSE),"") | AK57: =IFERROR(VLOOKUP(B57,FS!$A$2:$N$78,10,FALSE),"") | AL57: =IFERROR(VLOOKUP(B57,FS!$A$2:$N$78,11,FALSE),"") | AM57: =IFERROR(VLOOKUP(B57,FS!$A$2:$N$78,12,FALSE),"") | AN57: =IFERROR(VLOOKUP(B57,FS!$A$2:$N$78,13,FALSE),"") | AO57: =SUM(AG57:AN57) -> 0 | AP57: =(IFERROR(LARGE(AG57:AN57,1),"0")+IFERROR(LARGE(AG57:AN57,2),"0")+IFERROR(LARGE(AG57:AN57,3),"0")+IFERROR(LARGE(AG57:AN57,4),"0")+IFERROR(LARGE(AG57:AN57,5),"0")) -> 0 | AQ57: =(IFERROR(LARGE(AG57:AN57,1),"0")+IFERROR(LARGE(AG57:AN57,2),"0")+IFERROR(LARGE(AG57:AN57,3),"0"))/3 -> 0 | AR57: =Q57+AE57+AQ57 -> 50 | AS57: =(IF(Q57>0,1,0))+(IF(AE57>0,1,0))+(IF(AQ57>0,1,0)) -> 1
A58: 9435141 | C58: Nowak Klaudia | D58: 2000 | E58: POL | H58: L | M58: =IFERROR(VLOOKUP(A58,'SPF1'!$C$1:$I$108,7,0),IFERROR(VLOOKUP(B58,'SPF1'!$D$1:$I$108,6,0),"")) | N58: =IFERROR(VLOOKUP(A58,'SPF2'!$C$1:$I$108,7,0),IFERROR(VLOOKUP(B58,'SPF2'!$D$1:$I$108,6,0),"")) | O58: =SUM(I58:N58) -> 0 | P58: =IFERROR(LARGE(I58:N58,1),"0")+IFERROR(LARGE(I58:N58,2),"0")+IFERROR(LARGE(I58:N58,3),"0")+IFERROR(LARGE(I58:N58,4),"0") -> 0 | Q58: =(IFERROR(LARGE(I58:N58,1),"0")+IFERROR(LARGE(I58:N58,2),"0")+IFERROR(LARGE(I58:N58,3),"0"))/3 -> 0 | U58: =IFERROR(VLOOKUP(B64,DMSBX2!$D$1:$I$101,6,0),"") | Y58: =IFERROR(IF(B58<>0,VLOOKUP(B58,DMSBXNC!$D$2:$I$420,6,FALSE()),NA()),IFERROR(IF(A58<>0,VLOOKUP(A58,DMSBXNC!$C$2:$I$420,7,FALSE()),NA()),"")) | Z58: =IFERROR(IF(B58<>0,VLOOKUP(B58,DMSBX1_3!$D$2:$I$420,6,FALSE()),NA()),IFERROR(IF(A58<>0,VLOOKUP(A58,DMSBX1_3!$C$2:$I$420,7,FALSE()),NA()),"")) | AA58: =IFERROR(IF(B58<>0,VLOOKUP(B58,'KLS1'!$D$2:$I$420,6,FALSE()),NA()),IFERROR(IF(A58<>0,VLOOKUP(A58,'KLS1'!$C$2:$I$420,7,FALSE()),NA()),"")) -> 28.8 | AB58: =IFERROR(IF(B58<>0,VLOOKUP(B58,'KLS2'!$D$2:$I$426,6,FALSE()),NA()),IFERROR(IF(A58<>0,VLOOKUP(A58,'KLS2'!$C$2:$I$426,7,FALSE()),NA()),"")) -> 35 | AC58: =SUM(S58:AB58) -> 63.8 | AD58: =(IFERROR(LARGE(S58:AB58,1),"0")+IFERROR(LARGE(S58:AB58,2),"0")+IFERROR(LARGE(S58:AB58,3),"0")+IFERROR(LARGE(S58:AB58,4),"0")+IFERROR(LARGE(S58:AB58,5),"0")+IFERROR(LARGE(S58:AB58,6),"0")+IFERROR(LARGE(S58:AB58,7),"0")+IFERROR(LARGE(S58:AB58,8),"0")) -> 63.8 | AE58: =(IFERROR(LARGE(S58:AB58,1),"0")+IFERROR(LARGE(S58:AB58,2),"0")+IFERROR(LARGE(S58:AB58,3),"0"))/3 -> 21.266667 | AG58: =IFERROR(VLOOKUP(B58,FS!$A$2:$N$78,6,FALSE),"") | AH58: =IFERROR(VLOOKUP(B58,FS!$A$2:$N$78,7,FALSE),"") | AI58: =IFERROR(VLOOKUP(B58,FS!$A$2:$N$78,8,FALSE),"") | AJ58: =IFERROR(VLOOKUP(B58,FS!$A$2:$N$78,9,FALSE),"") | AK58: =IFERROR(VLOOKUP(B58,FS!$A$2:$N$78,10,FALSE),"") | AL58: =IFERROR(VLOOKUP(B58,FS!$A$2:$N$78,11,FALSE),"") | AM58: =IFERROR(VLOOKUP(B58,FS!$A$2:$N$78,12,FALSE),"") | AN58: =IFERROR(VLOOKUP(B58,FS!$A$2:$N$78,13,FALSE),"") | AO58: =SUM(AG58:AN58) -> 0 | AP58: =(IFERROR(LARGE(AG58:AN58,1),"0")+IFERROR(LARGE(AG58:AN58,2),"0")+IFERROR(LARGE(AG58:AN58,3),"0")+IFERROR(LARGE(AG58:AN58,4),"0")+IFERROR(LARGE(AG58:AN58,5),"0")) -> 0 | AQ58: =(IFERROR(LARGE(AG58:AN58,1),"0")+IFERROR(LARGE(AG58:AN58,2),"0")+IFERROR(LARGE(AG58:AN58,3),"0"))/3 -> 0 | AR58: =Q58+AE58+AQ58 -> 21.266667 | AS58: =(IF(Q58>0,1,0))+(IF(AE58>0,1,0))+(IF(AQ58>0,1,0)) -> 1
A59: 9430171 | C59: Seroczynski Gabriel | D59: 2000 | E59: POL | H59: M | M59: =IFERROR(VLOOKUP(A59,'SPF1'!$C$1:$I$108,7,0),IFERROR(VLOOKUP(B59,'SPF1'!$D$1:$I$108,6,0),"")) | N59: =IFERROR(VLOOKUP(A59,'SPF2'!$C$1:$I$108,7,0),IFERROR(VLOOKUP(B59,'SPF2'!$D$1:$I$108,6,0),"")) | O59: =SUM(I59:N59) -> 0 | P59: =IFERROR(LARGE(I59:N59,1),"0")+IFERROR(LARGE(I59:N59,2),"0")+IFERROR(LARGE(I59:N59,3),"0")+IFERROR(LARGE(I59:N59,4),"0") -> 0 | Q59: =(IFERROR(LARGE(I59:N59,1),"0")+IFERROR(LARGE(I59:N59,2),"0")+IFERROR(LARGE(I59:N59,3),"0"))/3 -> 0 | U59: =IFERROR(VLOOKUP(B65,DMSBX2!$D$1:$I$101,6,0),"") | Y59: =IFERROR(IF(B59<>0,VLOOKUP(B59,DMSBXNC!$D$2:$I$420,6,FALSE()),NA()),IFERROR(IF(A59<>0,VLOOKUP(A59,DMSBXNC!$C$2:$I$420,7,FALSE()),NA()),"")) | Z59: =IFERROR(IF(B59<>0,VLOOKUP(B59,DMSBX1_3!$D$2:$I$420,6,FALSE()),NA()),IFERROR(IF(A59<>0,VLOOKUP(A59,DMSBX1_3!$C$2:$I$420,7,FALSE()),NA()),"")) | AA59: =IFERROR(IF(B59<>0,VLOOKUP(B59,'KLS1'!$D$2:$I$420,6,FALSE()),NA()),IFERROR(IF(A59<>0,VLOOKUP(A59,'KLS1'!$C$2:$I$420,7,FALSE()),NA()),"")) -> 45 | AB59: =IFERROR(IF(B59<>0,VLOOKUP(B59,'KLS2'!$D$2:$I$426,6,FALSE()),NA()),IFERROR(IF(A59<>0,VLOOKUP(A59,'KLS2'!$C$2:$I$426,7,FALSE()),NA()),"")) -> 40 | AC59: =SUM(S59:AB59) -> 85 | AD59: =(IFERROR(LARGE(S59:AB59,1),"0")+IFERROR(LARGE(S59:AB59,2),"0")+IFERROR(LARGE(S59:AB59,3),"0")+IFERROR(LARGE(S59:AB59,4),"0")+IFERROR(LARGE(S59:AB59,5),"0")+IFERROR(LARGE(S59:AB59,6),"0")+IFERROR(LARGE(S59:AB59,7),"0")+IFERROR(LARGE(S59:AB59,8),"0")) -> 85 | AE59: =(IFERROR(LARGE(S59:AB59,1),"0")+IFERROR(LARGE(S59:AB59,2),"0")+IFERROR(LARGE(S59:AB59,3),"0"))/3 -> 28.333333 | AG59: =IFERROR(VLOOKUP(B59,FS!$A$2:$N$78,6,FALSE),"") | AH59: =IFERROR(VLOOKUP(B59,FS!$A$2:$N$78,7,FALSE),"") | AI59: =IFERROR(VLOOKUP(B59,FS!$A$2:$N$78,8,FALSE),"") | AJ59: =IFERROR(VLOOKUP(B59,FS!$A$2:$N$78,9,FALSE),"") | AK59: =IFERROR(VLOOKUP(B59,FS!$A$2:$N$78,10,FALSE),"") | AL59: =IFERROR(VLOOKUP(B59,FS!$A$2:$N$78,11,FALSE),"") | AM59: =IFERROR(VLOOKUP(B59,FS!$A$2:$N$78,12,FALSE),"") | AN59: =IFERROR(VLOOKUP(B59,FS!$A$2:$N$78,13,FALSE),"") | AO59: =SUM(AG59:AN59) -> 0 | AP59: =(IFERROR(LARGE(AG59:AN59,1),"0")+IFERROR(LARGE(AG59:AN59,2),"0")+IFERROR(LARGE(AG59:AN59,3),"0")+IFERROR(LARGE(AG59:AN59,4),"0")+IFERROR(LARGE(AG59:AN59,5),"0")) -> 0 | AQ59: =(IFERROR(LARGE(AG59:AN59,1),"0")+IFERROR(LARGE(AG59:AN59,2),"0")+IFERROR(LARGE(AG59:AN59,3),"0"))/3 -> 0 | AR59: =Q59+AE59+AQ59 -> 28.333333 | AS59: =(IF(Q59>0,1,0))+(IF(AE59>0,1,0))+(IF(AQ59>0,1,0)) -> 1
B60: 715295 | C60: Kuneš Štěpán | D60: 2016 | E60: CZE | F60: =IFERROR(VLOOKUP(B60,SVEXP!$A$2:$F$6577,6,FALSE),"") -> SK SNOWRIDERS VIMPERK | G60: =IFERROR(VLOOKUP(B60,SVEXP!$A$2:$E$6577,5,FALSE),"") -> Jihočeský kraj | H60: M | M60: =IFERROR(VLOOKUP(A60,'SPF1'!$C$1:$I$108,7,0),IFERROR(VLOOKUP(B60,'SPF1'!$D$1:$I$108,6,0),"")) | N60: =IFERROR(VLOOKUP(A60,'SPF2'!$C$1:$I$108,7,0),IFERROR(VLOOKUP(B60,'SPF2'!$D$1:$I$108,6,0),"")) | O60: =SUM(I60:N60) -> 0 | P60: =IFERROR(LARGE(I60:N60,1),"0")+IFERROR(LARGE(I60:N60,2),"0")+IFERROR(LARGE(I60:N60,3),"0")+IFERROR(LARGE(I60:N60,4),"0") -> 0 | Q60: =(IFERROR(LARGE(I60:N60,1),"0")+IFERROR(LARGE(I60:N60,2),"0")+IFERROR(LARGE(I60:N60,3),"0"))/3 -> 0 | S60: =IFERROR(VLOOKUP(A60,DMSBX1!$C$1:$I$108,7,0),IFERROR(VLOOKUP(B60,DMSBX1!$D$1:$I$108,6,0),"")) | U60: =IFERROR(VLOOKUP(B60,'SP1'!$D$1:$I$107,6,0),"") | V60: =IFERROR(VLOOKUP(B60,'SP2'!$D$1:$I$107,6,0),"") | W60: =IFERROR(IF(B60<>0,VLOOKUP(B60,KLSBX1!$D$2:$I$120,6,FALSE()),NA()),IFERROR(IF(A60<>0,VLOOKUP(A60,KLSBX1!$C$2:$I$120,7,FALSE()),NA()),"")) | X60: =IFERROR(IF(B60<>0,VLOOKUP(B60,KLSBX2!$D$2:$I$120,6,FALSE()),NA()),IFERROR(IF(A60<>0,VLOOKUP(A60,KLSBX2!$C$2:$I$120,7,FALSE()),NA()),"")) | Y60: =IFERROR(IF(B60<>0,VLOOKUP(B60,DMSBXNC!$D$2:$I$420,6,FALSE()),NA()),IFERROR(IF(A60<>0,VLOOKUP(A60,DMSBXNC!$C$2:$I$420,7,FALSE()),NA()),"")) | Z60: =IFERROR(IF(B60<>0,VLOOKUP(B60,DMSBX1_3!$D$2:$I$420,6,FALSE()),NA()),IFERROR(IF(A60<>0,VLOOKUP(A60,DMSBX1_3!$C$2:$I$420,7,FALSE()),NA()),"")) | AA60: =IFERROR(IF(B60<>0,VLOOKUP(B60,'KLS1'!$D$2:$I$420,6,FALSE()),NA()),IFERROR(IF(A60<>0,VLOOKUP(A60,'KLS1'!$C$2:$I$420,7,FALSE()),NA()),"")) -> 32 | AB60: =IFERROR(IF(B60<>0,VLOOKUP(B60,'KLS2'!$D$2:$I$426,6,FALSE()),NA()),IFERROR(IF(A60<>0,VLOOKUP(A60,'KLS2'!$C$2:$I$426,7,FALSE()),NA()),"")) -> 48 | AC60: =SUM(S60:AB60) -> 80 | AD60: =(IFERROR(LARGE(S60:AB60,1),"0")+IFERROR(LARGE(S60:AB60,2),"0")+IFERROR(LARGE(S60:AB60,3),"0")+IFERROR(LARGE(S60:AB60,4),"0")+IFERROR(LARGE(S60:AB60,5),"0")+IFERROR(LARGE(S60:AB60,6),"0")+IFERROR(LARGE(S60:AB60,7),"0")+IFERROR(LARGE(S60:AB60,8),"0")) -> 80 | AE60: =(IFERROR(LARGE(S60:AB60,1),"0")+IFERROR(LARGE(S60:AB60,2),"0")+IFERROR(LARGE(S60:AB60,3),"0"))/3 -> 26.666667 | AG60: =IFERROR(VLOOKUP(B60,FS!$A$2:$N$78,6,FALSE),"") | AH60: =IFERROR(VLOOKUP(B60,FS!$A$2:$N$78,7,FALSE),"") | AI60: =IFERROR(VLOOKUP(B60,FS!$A$2:$N$78,8,FALSE),"") | AJ60: =IFERROR(VLOOKUP(B60,FS!$A$2:$N$78,9,FALSE),"") | AK60: =IFERROR(VLOOKUP(B60,FS!$A$2:$N$78,10,FALSE),"") | AL60: =IFERROR(VLOOKUP(B60,FS!$A$2:$N$78,11,FALSE),"") | AM60: =IFERROR(VLOOKUP(B60,FS!$A$2:$N$78,12,FALSE),"") | AN60: =IFERROR(VLOOKUP(B60,FS!$A$2:$N$78,13,FALSE),"") | AO60: =SUM(AG60:AN60) -> 0 | AP60: =(IFERROR(LARGE(AG60:AN60,1),"0")+IFERROR(LARGE(AG60:AN60,2),"0")+IFERROR(LARGE(AG60:AN60,3),"0")+IFERROR(LARGE(AG60:AN60,4),"0")+IFERROR(LARGE(AG60:AN60,5),"0")) -> 0 | AQ60: =(IFERROR(LARGE(AG60:AN60,1),"0")+IFERROR(LARGE(AG60:AN60,2),"0")+IFERROR(LARGE(AG60:AN60,3),"0"))/3 -> 0 | AR60: =Q60+AE60+AQ60 -> 26.666667 | AS60: =(IF(Q60>0,1,0))+(IF(AE60>0,1,0))+(IF(AQ60>0,1,0)) -> 1 | AT60: =COUNTIF(I60:N60,">"&0)+COUNTIF(S60:AB60,">"&0)+COUNTIF(AG60:AN60,">"&0) -> 2
A61: 9155158 | B61: 890615 | C61: KACIRKOVA Rozalie | D61: 2001 | E61: CZE | F61: =IFERROR(VLOOKUP(B61,SVEXP!$A$2:$F$6577,6,FALSE),"") -> Snow Rockets | G61: =IFERROR(VLOOKUP(B61,SVEXP!$A$2:$E$6577,5,FALSE),"") -> Hlavní město Praha | H61: L | I61: =IFERROR(VLOOKUP(A61,'KLP1'!$C$1:$I$108,7,0),IFERROR(VLOOKUP(B61,'KLP1'!$D$1:$I$108,6,0),"")) | J61: =IFERROR(VLOOKUP(A61,'KLP2'!$C$1:$I$108,7,0),IFERROR(VLOOKUP(B61,'KLP2'!$D$1:$I$108,6,0),"")) | K61: =IFERROR(VLOOKUP(A61,'DM1'!$C$1:$I$108,7,0),IFERROR(VLOOKUP(B61,'DM1'!$D$1:$I$108,6,0),"")) | L61: =IFERROR(VLOOKUP(A61,'DM2'!$C$1:$I$108,7,0),IFERROR(VLOOKUP(B61,'DM2'!$D$1:$I$108,6,0),"")) | M61: =IFERROR(VLOOKUP(A61,'SPF1'!$C$1:$I$108,7,0),IFERROR(VLOOKUP(B61,'SPF1'!$D$1:$I$108,6,0),"")) | N61: =IFERROR(VLOOKUP(A61,'SPF2'!$C$1:$I$108,7,0),IFERROR(VLOOKUP(B61,'SPF2'!$D$1:$I$108,6,0),"")) | O61: =SUM(I61:N61) -> 0 | P61: =IFERROR(LARGE(I61:N61,1),"0")+IFERROR(LARGE(I61:N61,2),"0")+IFERROR(LARGE(I61:N61,3),"0")+IFERROR(LARGE(I61:N61,4),"0") -> 0 | Q61: =(IFERROR(LARGE(I61:N61,1),"0")+IFERROR(LARGE(I61:N61,2),"0")+IFERROR(LARGE(I61:N61,3),"0"))/3 -> 0 | S61: =IFERROR(VLOOKUP(A61,DMSBX1!$C$1:$I$108,7,0),IFERROR(VLOOKUP(B61,DMSBX1!$D$1:$I$108,6,0),"")) | T61: =IFERROR(VLOOKUP(A61,DMSBX2!$C$1:$I$101,7,0),IFERROR(VLOOKUP(B61,DMSBX2!$D$1:$I$101,6,0),"")) | U61: =IFERROR(VLOOKUP(B61,'SP1'!$D$1:$I$107,6,0),"") | V61: =IFERROR(VLOOKUP(B61,'SP2'!$D$1:$I$107,6,0),"") | W61: =IFERROR(IF(B61<>0,VLOOKUP(B61,KLSBX1!$D$2:$I$120,6,FALSE()),NA()),IFERROR(IF(A61<>0,VLOOKUP(A61,KLSBX1!$C$2:$I$120,7,FALSE()),NA()),"")) | X61: =IFERROR(IF(B61<>0,VLOOKUP(B61,KLSBX2!$D$2:$I$120,6,FALSE()),NA()),IFERROR(IF(A61<>0,VLOOKUP(A61,KLSBX2!$C$2:$I$120,7,FALSE()),NA()),"")) | Y61: =IFERROR(IF(B61<>0,VLOOKUP(B61,DMSBXNC!$D$2:$I$420,6,FALSE()),NA()),IFERROR(IF(A61<>0,VLOOKUP(A61,DMSBXNC!$C$2:$I$420,7,FALSE()),NA()),"")) | Z61: =IFERROR(IF(B61<>0,VLOOKUP(B61,DMSBX1_3!$D$2:$I$420,6,FALSE()),NA()),IFERROR(IF(A61<>0,VLOOKUP(A61,DMSBX1_3!$C$2:$I$420,7,FALSE()),NA()),"")) | AA61: =IFERROR(IF(B61<>0,VLOOKUP(B61,'KLS1'!$D$2:$I$420,6,FALSE()),NA()),IFERROR(IF(A61<>0,VLOOKUP(A61,'KLS1'!$C$2:$I$420,7,FALSE()),NA()),"")) | AB61: =IFERROR(IF(B61<>0,VLOOKUP(B61,'KLS2'!$D$2:$I$426,6,FALSE()),NA()),IFERROR(IF(A61<>0,VLOOKUP(A61,'KLS2'!$C$2:$I$426,7,FALSE()),NA()),"")) | AC61: =SUM(S61:AB61) -> 0 | AD61: =(IFERROR(LARGE(S61:AB61,1),"0")+IFERROR(LARGE(S61:AB61,2),"0")+IFERROR(LARGE(S61:AB61,3),"0")+IFERROR(LARGE(S61:AB61,4),"0")+IFERROR(LARGE(S61:AB61,5),"0")+IFERROR(LARGE(S61:AB61,6),"0")+IFERROR(LARGE(S61:AB61,7),"0")+IFERROR(LARGE(S61:AB61,8),"0")) -> 0 | AE61: =(IFERROR(LARGE(S61:AB61,1),"0")+IFERROR(LARGE(S61:AB61,2),"0")+IFERROR(LARGE(S61:AB61,3),"0"))/3 -> 0 | AG61: =IFERROR(VLOOKUP(B61,FS!$A$2:$N$78,6,FALSE),"") | AH61: =IFERROR(VLOOKUP(B61,FS!$A$2:$N$78,7,FALSE),"") | AI61: =IFERROR(VLOOKUP(B61,FS!$A$2:$N$78,8,FALSE),"") | AJ61: =IFERROR(VLOOKUP(B61,FS!$A$2:$N$78,9,FALSE),"") | AK61: =IFERROR(VLOOKUP(B61,FS!$A$2:$N$78,10,FALSE),"") | AL61: =IFERROR(VLOOKUP(B61,FS!$A$2:$N$78,11,FALSE),"") | AM61: =IFERROR(VLOOKUP(B61,FS!$A$2:$N$78,12,FALSE),"") | AN61: =IFERROR(VLOOKUP(B61,FS!$A$2:$N$78,13,FALSE),"") | AO61: =SUM(AG61:AN61) -> 0 | AP61: =(IFERROR(LARGE(AG61:AN61,1),"0")+IFERROR(LARGE(AG61:AN61,2),"0")+IFERROR(LARGE(AG61:AN61,3),"0")+IFERROR(LARGE(AG61:AN61,4),"0")+IFERROR(LARGE(AG61:AN61,5),"0")) -> 0 | AQ61: =(IFERROR(LARGE(AG61:AN61,1),"0")+IFERROR(LARGE(AG61:AN61,2),"0")+IFERROR(LARGE(AG61:AN61,3),"0"))/3 -> 0 | AR61: =Q61+AE61+AQ61 -> 0 | AS61: =(IF(Q61>0,1,0))+(IF(AE61>0,1,0))+(IF(AQ61>0,1,0)) -> 0
A62: 9020054 | C62: MATAS ABAD Francesc Xavier | D62: 2001 | E62: AND | H62: M | I62: =IFERROR(VLOOKUP(A62,'KLP1'!$C$1:$I$108,7,0),IFERROR(VLOOKUP(B62,'KLP1'!$D$1:$I$108,6,0),"")) | J62: =IFERROR(VLOOKUP(A62,'KLP2'!$C$1:$I$108,7,0),IFERROR(VLOOKUP(B62,'KLP2'!$D$1:$I$108,6,0),"")) | K62: =IFERROR(VLOOKUP(A62,'DM1'!$C$1:$I$108,7,0),IFERROR(VLOOKUP(B62,'DM1'!$D$1:$I$108,6,0),"")) | L62: =IFERROR(VLOOKUP(A62,'DM2'!$C$1:$I$108,7,0),IFERROR(VLOOKUP(B62,'DM2'!$D$1:$I$108,6,0),"")) | O62: =SUM(I62:N62) -> 0 | P62: =IFERROR(LARGE(I62:N62,1),"0")+IFERROR(LARGE(I62:N62,2),"0")+IFERROR(LARGE(I62:N62,3),"0")+IFERROR(LARGE(I62:N62,4),"0") -> 0 | Q62: =(IFERROR(LARGE(I62:N62,1),"0")+IFERROR(LARGE(I62:N62,2),"0")+IFERROR(LARGE(I62:N62,3),"0"))/3 -> 0 | S62: =IFERROR(VLOOKUP(A62,DMSBX1!$C$1:$I$108,7,0),IFERROR(VLOOKUP(B62,DMSBX1!$D$1:$I$108,6,0),"")) -> 22 | T62: =IFERROR(VLOOKUP(A62,DMSBX2!$C$1:$I$101,7,0),IFERROR(VLOOKUP(B62,DMSBX2!$D$1:$I$101,6,0),"")) -> 24 | U62: =IFERROR(VLOOKUP(B62,'SP1'!$D$1:$I$107,6,0),"") | V62: =IFERROR(VLOOKUP(B62,'SP2'!$D$1:$I$107,6,0),"") | W62: =IFERROR(IF(B62<>0,VLOOKUP(B62,KLSBX1!$D$2:$I$120,6,FALSE()),NA()),IFERROR(IF(A62<>0,VLOOKUP(A62,KLSBX1!$C$2:$I$120,7,FALSE()),NA()),"")) | X62: =IFERROR(IF(B62<>0,VLOOKUP(B62,KLSBX2!$D$2:$I$120,6,FALSE()),NA()),IFERROR(IF(A62<>0,VLOOKUP(A62,KLSBX2!$C$2:$I$120,7,FALSE()),NA()),"")) | Y62: =IFERROR(IF(B62<>0,VLOOKUP(B62,DMSBXNC!$D$2:$I$420,6,FALSE()),NA()),IFERROR(IF(A62<>0,VLOOKUP(A62,DMSBXNC!$C$2:$I$420,7,FALSE()),NA()),"")) | Z62: =IFERROR(IF(B62<>0,VLOOKUP(B62,DMSBX1_3!$D$2:$I$420,6,FALSE()),NA()),IFERROR(IF(A62<>0,VLOOKUP(A62,DMSBX1_3!$C$2:$I$420,7,FALSE()),NA()),"")) | AA62: =IFERROR(IF(B62<>0,VLOOKUP(B62,'KLS1'!$D$2:$I$420,6,FALSE()),NA()),IFERROR(IF(A62<>0,VLOOKUP(A62,'KLS1'!$C$2:$I$420,7,FALSE()),NA()),"")) | AB62: =IFERROR(IF(B62<>0,VLOOKUP(B62,'KLS2'!$D$2:$I$426,6,FALSE()),NA()),IFERROR(IF(A62<>0,VLOOKUP(A62,'KLS2'!$C$2:$I$426,7,FALSE()),NA()),"")) | AC62: =SUM(S62:AB62) -> 46 | AD62: =(IFERROR(LARGE(S62:AB62,1),"0")+IFERROR(LARGE(S62:AB62,2),"0")+IFERROR(LARGE(S62:AB62,3),"0")+IFERROR(LARGE(S62:AB62,4),"0")+IFERROR(LARGE(S62:AB62,5),"0")+IFERROR(LARGE(S62:AB62,6),"0")+IFERROR(LARGE(S62:AB62,7),"0")+IFERROR(LARGE(S62:AB62,8),"0")) -> 46 | AE62: =(IFERROR(LARGE(S62:AB62,1),"0")+IFERROR(LARGE(S62:AB62,2),"0")+IFERROR(LARGE(S62:AB62,3),"0"))/3 -> 15.333333 | AG62: =IFERROR(VLOOKUP(B62,FS!$A$2:$N$78,6,FALSE),"") | AH62: =IFERROR(VLOOKUP(B62,FS!$A$2:$N$78,7,FALSE),"") | AI62: =IFERROR(VLOOKUP(B62,FS!$A$2:$N$78,8,FALSE),"") | AJ62: =IFERROR(VLOOKUP(B62,FS!$A$2:$N$78,9,FALSE),"") | AK62: =IFERROR(VLOOKUP(B62,FS!$A$2:$N$78,10,FALSE),"") | AL62: =IFERROR(VLOOKUP(B62,FS!$A$2:$N$78,11,FALSE),"") | AM62: =IFERROR(VLOOKUP(B62,FS!$A$2:$N$78,12,FALSE),"") | AN62: =IFERROR(VLOOKUP(B62,FS!$A$2:$N$78,13,FALSE),"") | AO62: =SUM(AG62:AN62) -> 0 | AP62: =(IFERROR(LARGE(AG62:AN62,1),"0")+IFERROR(LARGE(AG62:AN62,2),"0")+IFERROR(LARGE(AG62:AN62,3),"0")+IFERROR(LARGE(AG62:AN62,4),"0")+IFERROR(LARGE(AG62:AN62,5),"0")) -> 0 | AQ62: =(IFERROR(LARGE(AG62:AN62,1),"0")+IFERROR(LARGE(AG62:AN62,2),"0")+IFERROR(LARGE(AG62:AN62,3),"0"))/3 -> 0 | AR62: =Q62+AE62+AQ62 -> 15.333333 | AS62: =(IF(Q62>0,1,0))+(IF(AE62>0,1,0))+(IF(AQ62>0,1,0)) -> 1
A63: 9300890 | C63: KAWAMURA Shushuke | D63: 2001 | E63: JPN | H63: M | M63: =IFERROR(VLOOKUP(A63,'SPF1'!$C$1:$I$108,7,0),IFERROR(VLOOKUP(B63,'SPF1'!$D$1:$I$108,6,0),"")) | N63: =IFERROR(VLOOKUP(A63,'SPF2'!$C$1:$I$108,7,0),IFERROR(VLOOKUP(B63,'SPF2'!$D$1:$I$108,6,0),"")) | O63: =SUM(I63:N63) -> 0 | P63: =IFERROR(LARGE(I63:N63,1),"0")+IFERROR(LARGE(I63:N63,2),"0")+IFERROR(LARGE(I63:N63,3),"0")+IFERROR(LARGE(I63:N63,4),"0") -> 0 | Q63: =(IFERROR(LARGE(I63:N63,1),"0")+IFERROR(LARGE(I63:N63,2),"0")+IFERROR(LARGE(I63:N63,3),"0"))/3 -> 0 | X63: =IFERROR(IF(B63<>0,VLOOKUP(B63,KLSBX2!$D$2:$I$120,6,FALSE()),NA()),IFERROR(IF(A63<>0,VLOOKUP(A63,KLSBX2!$C$2:$I$120,7,FALSE()),NA()),"")) | Y63: =IFERROR(IF(B63<>0,VLOOKUP(B63,DMSBXNC!$D$2:$I$420,6,FALSE()),NA()),IFERROR(IF(A63<>0,VLOOKUP(A63,DMSBXNC!$C$2:$I$420,7,FALSE()),NA()),"")) -> 26 | Z63: =IFERROR(IF(B63<>0,VLOOKUP(B63,DMSBX1_3!$D$2:$I$420,6,FALSE()),NA()),IFERROR(IF(A63<>0,VLOOKUP(A63,DMSBX1_3!$C$2:$I$420,7,FALSE()),NA()),"")) -> 22 | AA63: =IFERROR(IF(B63<>0,VLOOKUP(B63,'KLS1'!$D$2:$I$420,6,FALSE()),NA()),IFERROR(IF(A63<>0,VLOOKUP(A63,'KLS1'!$C$2:$I$420,7,FALSE()),NA()),"")) | AB63: =IFERROR(IF(B63<>0,VLOOKUP(B63,'KLS2'!$D$2:$I$426,6,FALSE()),NA()),IFERROR(IF(A63<>0,VLOOKUP(A63,'KLS2'!$C$2:$I$426,7,FALSE()),NA()),"")) | AC63: =SUM(S63:AB63) -> 48 | AD63: =(IFERROR(LARGE(S63:AB63,1),"0")+IFERROR(LARGE(S63:AB63,2),"0")+IFERROR(LARGE(S63:AB63,3),"0")+IFERROR(LARGE(S63:AB63,4),"0")+IFERROR(LARGE(S63:AB63,5),"0")+IFERROR(LARGE(S63:AB63,6),"0")+IFERROR(LARGE(S63:AB63,7),"0")+IFERROR(LARGE(S63:AB63,8),"0")) -> 48 | AE63: =(IFERROR(LARGE(S63:AB63,1),"0")+IFERROR(LARGE(S63:AB63,2),"0")+IFERROR(LARGE(S63:AB63,3),"0"))/3 -> 16 | AG63: =IFERROR(VLOOKUP(B63,FS!$A$2:$N$78,6,FALSE),"") | AH63: =IFERROR(VLOOKUP(B63,FS!$A$2:$N$78,7,FALSE),"") | AI63: =IFERROR(VLOOKUP(B63,FS!$A$2:$N$78,8,FALSE),"") | AJ63: =IFERROR(VLOOKUP(B63,FS!$A$2:$N$78,9,FALSE),"") | AK63: =IFERROR(VLOOKUP(B63,FS!$A$2:$N$78,10,FALSE),"") | AL63: =IFERROR(VLOOKUP(B63,FS!$A$2:$N$78,11,FALSE),"") | AM63: =IFERROR(VLOOKUP(B63,FS!$A$2:$N$78,12,FALSE),"") | AN63: =IFERROR(VLOOKUP(B63,FS!$A$2:$N$78,13,FALSE),"") | AO63: =SUM(AG63:AN63) -> 0 | AP63: =(IFERROR(LARGE(AG63:AN63,1),"0")+IFERROR(LARGE(AG63:AN63,2),"0")+IFERROR(LARGE(AG63:AN63,3),"0")+IFERROR(LARGE(AG63:AN63,4),"0")+IFERROR(LARGE(AG63:AN63,5),"0")) -> 0 | AQ63: =(IFERROR(LARGE(AG63:AN63,1),"0")+IFERROR(LARGE(AG63:AN63,2),"0")+IFERROR(LARGE(AG63:AN63,3),"0"))/3 -> 0 | AR63: =Q63+AE63+AQ63 -> 16 | AS63: =(IF(Q63>0,1,0))+(IF(AE63>0,1,0))+(IF(AQ63>0,1,0)) -> 1
A64: 9430154 | C64: LUBONSKI Jakub | D64: 2001 | E64: POL | H64: M | K64: =IFERROR(VLOOKUP(A64,'DM1'!$C$1:$I$108,7,0),IFERROR(VLOOKUP(B64,'DM1'!$D$1:$I$108,6,0),"")) -> 45 | L64: =IFERROR(VLOOKUP(A64,'DM2'!$C$1:$I$108,7,0),IFERROR(VLOOKUP(B64,'DM2'!$D$1:$I$108,6,0),"")) -> 45 | M64: =IFERROR(VLOOKUP(A64,'SPF1'!$C$1:$I$108,7,0),IFERROR(VLOOKUP(B64,'SPF1'!$D$1:$I$108,6,0),"")) | N64: =IFERROR(VLOOKUP(A64,'SPF2'!$C$1:$I$108,7,0),IFERROR(VLOOKUP(B64,'SPF2'!$D$1:$I$108,6,0),"")) | O64: =SUM(I64:N64) -> 90 | P64: =IFERROR(LARGE(I64:N64,1),"0")+IFERROR(LARGE(I64:N64,2),"0")+IFERROR(LARGE(I64:N64,3),"0")+IFERROR(LARGE(I64:N64,4),"0") -> 90 | Q64: =(IFERROR(LARGE(I64:N64,1),"0")+IFERROR(LARGE(I64:N64,2),"0")+IFERROR(LARGE(I64:N64,3),"0"))/3 -> 30 | W64: =IFERROR(IF(B64<>0,VLOOKUP(B64,KLSBX1!$D$2:$I$120,6,FALSE()),NA()),IFERROR(IF(A64<>0,VLOOKUP(A64,KLSBX1!$C$2:$I$120,7,FALSE()),NA()),"")) | X64: =IFERROR(IF(B64<>0,VLOOKUP(B64,KLSBX2!$D$2:$I$120,6,FALSE()),NA()),IFERROR(IF(A64<>0,VLOOKUP(A64,KLSBX2!$C$2:$I$120,7,FALSE()),NA()),"")) | Y64: =IFERROR(IF(B64<>0,VLOOKUP(B64,DMSBXNC!$D$2:$I$420,6,FALSE()),NA()),IFERROR(IF(A64<>0,VLOOKUP(A64,DMSBXNC!$C$2:$I$420,7,FALSE()),NA()),"")) | Z64: =IFERROR(IF(B64<>0,VLOOKUP(B64,DMSBX1_3!$D$2:$I$420,6,FALSE()),NA()),IFERROR(IF(A64<>0,VLOOKUP(A64,DMSBX1_3!$C$2:$I$420,7,FALSE()),NA()),"")) | AA64: =IFERROR(IF(B64<>0,VLOOKUP(B64,'KLS1'!$D$2:$I$420,6,FALSE()),NA()),IFERROR(IF(A64<>0,VLOOKUP(A64,'KLS1'!$C$2:$I$420,7,FALSE()),NA()),"")) | AB64: =IFERROR(IF(B64<>0,VLOOKUP(B64,'KLS2'!$D$2:$I$426,6,FALSE()),NA()),IFERROR(IF(A64<>0,VLOOKUP(A64,'KLS2'!$C$2:$I$426,7,FALSE()),NA()),"")) | AC64: =SUM(S64:AB64) -> 0 | AD64: =(IFERROR(LARGE(S64:AB64,1),"0")+IFERROR(LARGE(S64:AB64,2),"0")+IFERROR(LARGE(S64:AB64,3),"0")+IFERROR(LARGE(S64:AB64,4),"0")+IFERROR(LARGE(S64:AB64,5),"0")+IFERROR(LARGE(S64:AB64,6),"0")+IFERROR(LARGE(S64:AB64,7),"0")+IFERROR(LARGE(S64:AB64,8),"0")) -> 0 | AE64: =(IFERROR(LARGE(S64:AB64,1),"0")+IFERROR(LARGE(S64:AB64,2),"0")+IFERROR(LARGE(S64:AB64,3),"0"))/3 -> 0 | AG64: =IFERROR(VLOOKUP(B64,FS!$A$2:$N$78,6,FALSE),"") | AH64: =IFERROR(VLOOKUP(B64,FS!$A$2:$N$78,7,FALSE),"") | AI64: =IFERROR(VLOOKUP(B64,FS!$A$2:$N$78,8,FALSE),"") | AJ64: =IFERROR(VLOOKUP(B64,FS!$A$2:$N$78,9,FALSE),"") | AK64: =IFERROR(VLOOKUP(B64,FS!$A$2:$N$78,10,FALSE),"") | AL64: =IFERROR(VLOOKUP(B64,FS!$A$2:$N$78,11,FALSE),"") | AM64: =IFERROR(VLOOKUP(B64,FS!$A$2:$N$78,12,FALSE),"") | AN64: =IFERROR(VLOOKUP(B64,FS!$A$2:$N$78,13,FALSE),"") | AO64: =SUM(AG64:AN64) -> 0 | AP64: =(IFERROR(LARGE(AG64:AN64,1),"0")+IFERROR(LARGE(AG64:AN64,2),"0")+IFERROR(LARGE(AG64:AN64,3),"0")+IFERROR(LARGE(AG64:AN64,4),"0")+IFERROR(LARGE(AG64:AN64,5),"0")) -> 0 | AQ64: =(IFERROR(LARGE(AG64:AN64,1),"0")+IFERROR(LARGE(AG64:AN64,2),"0")+IFERROR(LARGE(AG64:AN64,3),"0"))/3 -> 0 | AR64: =Q64+AE64+AQ64 -> 30 | AS64: =(IF(Q64>0,1,0))+(IF(AE64>0,1,0))+(IF(AQ64>0,1,0)) -> 1
