Workbook

Sheet ČP2026
I1: PAR | Q1: BLPAR | S1: SBX | AE1: BLSBX | AG1: FS | AQ1: BLFS | AR1: ODM KOMBI SCORE | AS1: body POCHÁZEJÍ | AT1: ÚČAST NA KOLIKA
A2: fisCode | B2: raceCode | D2: YoB | E2: Nat. | F2: Klub | G2: Kraj Bydliště dle dat. SLČR | H2: L/M | I2: KL1 | J2: KL2 | K2: DM1 | L2: DM2 | M2: SP1 | N2: SP2 | O2: Prubezne | P2: vítěz | S2: DM1 | T2: DM2 | U2: ŠP1 | V2: ŠP2 | W2: KL1 | X2: KL2 | Y2: DM3 | Z2: DM4 | AA2: KL3 | AB2: KL4 | AC2: SBX | AD2: 8/10 | AG2: Monínec BYP | AH2: Buková Hora | AI2: Ceske Budejovice | AJ2: Vitkovice BYP | AK2: Deštné MČR Slopestyle | AL2: Deštné MČR Big Air | AM2: Mísečky BYP | AN2: Klinovec Rail Event | AO2: FS | AP2: 5/8 | AS2: Z KOLIKA DISCIPLIN | AT2: ZÁVODECH
B3: 717374 | C3: Pažout Patrik | D3: 2020 | E3: CZE | F3: =IFERROR(VLOOKUP(B3,SVEXP!$A$2:$F$6577,6,FALSE),"") -> Neregistrovaní | G3: =IFERROR(VLOOKUP(B3,SVEXP!$A$2:$E$6577,5,FALSE),"") -> Hlavní město Praha | H3: M | M3: =IFERROR(VLOOKUP(A3,'SPF1'!$C$1:$I$108,7,0),IFERROR(VLOOKUP(B3,'SPF1'!$D$1:$I$108,6,0),"")) -> 32 | N3: =IFERROR(VLOOKUP(A3,'SPF2'!$C$1:$I$108,7,0),IFERROR(VLOOKUP(B3,'SPF2'!$D$1:$I$108,6,0),"")) | O3: =SUM(I3:N3) -> 32 | P3: =IFERROR(LARGE(I3:N3,1),"0")+IFERROR(LARGE(I3:N3,2),"0")+IFERROR(LARGE(I3:N3,3),"0")+IFERROR(LARGE(I3:N3,4),"0") -> 32 | Q3: =(IFERROR(LARGE(I3:N3,1),"0")+IFERROR(LARGE(I3:N3,2),"0")+IFERROR(LARGE(I3:N3,3),"0"))/3 -> 10.666667 | S3: =IFERROR(VLOOKUP(A3,DMSBX1!$C$1:$I$108,7,0),IFERROR(VLOOKUP(B3,DMSBX1!$D$1:$I$108,6,0),"")) | U3: =IFERROR(VLOOKUP(B3,'SP1'!$D$1:$I$107,6,0),"") | V3: =IFERROR(VLOOKUP(B3,'SP2'!$D$1:$I$107,6,0),"") | W3: =IFERROR(IF(B3<>0,VLOOKUP(B3,KLSBX1!$D$2:$I$120,6,FALSE()),NA()),IFERROR(IF(A3<>0,VLOOKUP(A3,KLSBX1!$C$2:$I$120,7,FALSE()),NA()),"")) | X3: =IFERROR(IF(B3<>0,VLOOKUP(B3,KLSBX2!$D$2:$I$120,6,FALSE()),NA()),IFERROR(IF(A3<>0,VLOOKUP(A3,KLSBX2!$C$2:$I$120,7,FALSE()),NA()),"")) | Y3: =IFERROR(IF(B3<>0,VLOOKUP(B3,DMSBXNC!$D$2:$I$420,6,FALSE()),NA()),IFERROR(IF(A3<>0,VLOOKUP(A3,DMSBXNC!$C$2:$I$420,7,FALSE()),NA()),"")) -> 36 | Z3: =IFERROR(IF(B3<>0,VLOOKUP(B3,DMSBX1_3!$D$2:$I$420,6,FALSE()),NA()),IFERROR(IF(A3<>0,VLOOKUP(A3,DMSBX1_3!$C$2:$I$420,7,FALSE()),NA()),"")) -> 32 | AA3: =IFERROR(IF(B3<>0,VLOOKUP(B3,'KLS1'!$D$2:$I$420,6,FALSE()),NA()),IFERROR(IF(A3<>0,VLOOKUP(A3,'KLS1'!$C$2:$I$420,7,FALSE()),NA()),"")) | AB3: =IFERROR(IF(B3<>0,VLOOKUP(B3,'KLS2'!$D$2:$I$426,6,FALSE()),NA()),IFERROR(IF(A3<>0,VLOOKUP(A3,'KLS2'!$C$2:$I$426,7,FALSE()),NA()),"")) | AC3: =SUM(S3:AB3) -> 68 | AD3: =(IFERROR(LARGE(S3:AB3,1),"0")+IFERROR(LARGE(S3:AB3,2),"0")+IFERROR(LARGE(S3:AB3,3),"0")+IFERROR(LARGE(S3:AB3,4),"0")+IFERROR(LARGE(S3:AB3,5),"0")+IFERROR(LARGE(S3:AB3,6),"0")+IFERROR(LARGE(S3:AB3,7),"0")+IFERROR(LARGE(S3:AB3,8),"0")) -> 68 | AE3: =(IFERROR(LARGE(S3:AB3,1),"0")+IFERROR(LARGE(S3:AB3,2),"0")+IFERROR(LARGE(S3:AB3,3),"0"))/3 -> 22.666667 | AG3: =IFERROR(VLOOKUP(B3,FS!$A$2:$N$78,6,FALSE),"") -> 40 | AH3: =IFERROR(VLOOKUP(B3,FS!$A$2:$N$78,7,FALSE),"") -> 20 | AJ3: =IFERROR(VLOOKUP(B3,FS!$A$2:$N$78,9,FALSE),"") -> 56 | AK3: =IFERROR(VLOOKUP(B3,FS!$A$2:$N$78,10,FALSE),"") -> 16 | AL3: =IFERROR(VLOOKUP(B3,FS!$A$2:$N$78,11,FALSE),"") -> 16 | AM3: =IFERROR(VLOOKUP(B3,FS!$A$2:$N$78,12,FALSE),"") -> 80 | AN3: =IFERROR(VLOOKUP(B3,FS!$A$2:$N$78,13,FALSE),"") -> 30 | AO3: =SUM(AG3:AN3) -> 258 | AP3: =(IFERROR(LARGE(AG3:AN3,1),"0")+IFERROR(LARGE(AG3:AN3,2),"0")+IFERROR(LARGE(AG3:AN3,3),"0")+IFERROR(LARGE(AG3:AN3,4),"0")+IFERROR(LARGE(AG3:AN3,5),"0")) -> 226 | AQ3: =(IFERROR(LARGE(AG3:AN3,1),"0")+IFERROR(LARGE(AG3:AN3,2),"0")+IFERROR(LARGE(AG3:AN3,3),"0"))/3 -> 58.666667 | AR3: =Q3+AE3+AQ3 -> 92 | AS3: =(IF(Q3>0,1,0))+(IF(AE3>0,1,0))+(IF(AQ3>0,1,0)) -> 3 | AT3: =COUNTIF(I3:N3,">"&0)+COUNTIF(S3:AB3,">"&0)+COUNTIF(AG3:AN3,">"&0) -> 10
B4: 778237 | C4: Holub Čeněk | D4: 2020 | E4: CZE | F4: =IFERROR(VLOOKUP(B4,SVEXP!$A$2:$F$6577,6,FALSE),"") -> SA Špindlerův Mlýn | G4: =IFERROR(VLOOKUP(B4,SVEXP!$A$2:$E$6577,5,FALSE),"") -> Středočeský kraj | H4: M | M4: =IFERROR(VLOOKUP(A4,'SPF1'!$C$1:$I$108,7,0),IFERROR(VLOOKUP(B4,'SPF1'!$D$1:$I$108,6,0),"")) -> 24 | N4: =IFERROR(VLOOKUP(A4,'SPF2'!$C$1:$I$108,7,0),IFERROR(VLOOKUP(B4,'SPF2'!$D$1:$I$108,6,0),"")) | O4: =SUM(I4:N4) -> 24 | P4: =IFERROR(LARGE(I4:N4,1),"0")+IFERROR(LARGE(I4:N4,2),"0")+IFERROR(LARGE(I4:N4,3),"0")+IFERROR(LARGE(I4:N4,4),"0") -> 24 | Q4: =(IFERROR(LARGE(I4:N4,1),"0")+IFERROR(LARGE(I4:N4,2),"0")+IFERROR(LARGE(I4:N4,3),"0"))/3 -> 8 | U4: =IFERROR(VLOOKUP(B4,'SP1'!$D$1:$I$107,6,0),"") | V4: =IFERROR(VLOOKUP(B4,'SP2'!$D$1:$I$107,6,0),"") | W4: =IFERROR(IF(B4<>0,VLOOKUP(B4,KLSBX1!$D$2:$I$120,6,FALSE()),NA()),IFERROR(IF(A4<>0,VLOOKUP(A4,KLSBX1!$C$2:$I$120,7,FALSE()),NA()),"")) | X4: =IFERROR(IF(B4<>0,VLOOKUP(B4,KLSBX2!$D$2:$I$120,6,FALSE()),NA()),IFERROR(IF(A4<>0,VLOOKUP(A4,KLSBX2!$C$2:$I$120,7,FALSE()),NA()),"")) | Y4: =IFERROR(IF(B4<>0,VLOOKUP(B4,DMSBXNC!$D$2:$I$420,6,FALSE()),NA()),IFERROR(IF(A4<>0,VLOOKUP(A4,DMSBXNC!$C$2:$I$420,7,FALSE()),NA()),"")) -> 15 | Z4: =IFERROR(IF(B4<>0,VLOOKUP(B4,DMSBX1_3!$D$2:$I$420,6,FALSE()),NA()),IFERROR(IF(A4<>0,VLOOKUP(A4,DMSBX1_3!$C$2:$I$420,7,FALSE()),NA()),"")) -> 15 | AA4: =IFERROR(IF(B4<>0,VLOOKUP(B4,'KLS1'!$D$2:$I$420,6,FALSE()),NA()),IFERROR(IF(A4<>0,VLOOKUP(A4,'KLS1'!$C$2:$I$420,7,FALSE()),NA()),"")) | AB4: =IFERROR(IF(B4<>0,VLOOKUP(B4,'KLS2'!$D$2:$I$426,6,FALSE()),NA()),IFERROR(IF(A4<>0,VLOOKUP(A4,'KLS2'!$C$2:$I$426,7,FALSE()),NA()),"")) | AC4: =SUM(S4:AB4) -> 30 | AD4: =(IFERROR(LARGE(S4:AB4,1),"0")+IFERROR(LARGE(S4:AB4,2),"0")+IFERROR(LARGE(S4:AB4,3),"0")+IFERROR(LARGE(S4:AB4,4),"0")+IFERROR(LARGE(S4:AB4,5),"0")+IFERROR(LARGE(S4:AB4,6),"0")+IFERROR(LARGE(S4:AB4,7),"0")+IFERROR(LARGE(S4:AB4,8),"0")) -> 30 | AE4: =(IFERROR(LARGE(S4:AB4,1),"0")+IFERROR(LARGE(S4:AB4,2),"0")+IFERROR(LARGE(S4:AB4,3),"0"))/3 -> 10 | AG4: =IFERROR(VLOOKUP(B4,FS!$A$2:$N$78,6,FALSE),"") -> 24 | AJ4: =IFERROR(VLOOKUP(B4,FS!$A$2:$N$78,9,FALSE),"") -> 35 | AM4: =IFERROR(VLOOKUP(B4,FS!$A$2:$N$78,12,FALSE),"") -> 40 | AO4: =SUM(AG4:AN4) -> 99 | AP4: =(IFERROR(LARGE(AG4:AN4,1),"0")+IFERROR(LARGE(AG4:AN4,2),"0")+IFERROR(LARGE(AG4:AN4,3),"0")+IFERROR(LARGE(AG4:AN4,4),"0")+IFERROR(LARGE(AG4:AN4,5),"0")) -> 99 | AQ4: =(IFERROR(LARGE(AG4:AN4,1),"0")+IFERROR(LARGE(AG4:AN4,2),"0")+IFERROR(LARGE(AG4:AN4,3),"0"))/3 -> 33 | AR4: =Q4+AE4+AQ4 -> 51 | AS4: =(IF(Q4>0,1,0))+(IF(AE4>0,1,0))+(IF(AQ4>0,1,0)) -> 3 | AT4: =COUNTIF(I4:N4,">"&0)+COUNTIF(S4:AB4,">"&0)+COUNTIF(AG4:AN4,">"&0) -> 6
A5: 1377206 | B5: 773706 | C5: MAHOVSKY Kamil | D5: 1968 | E5: CZE | F5: =IFERROR(VLOOKUP(B5,SVEXP!$A$2:$F$6577,6,FALSE),"") -> Neregistrovaní | G5: =IFERROR(VLOOKUP(B5,SVEXP!$A$2:$E$6577,5,FALSE),"") -> Středočeský kraj | H5: M | I5: =IFERROR(VLOOKUP(A5,'KLP1'!$C$1:$I$108,7,0),IFERROR(VLOOKUP(B5,'KLP1'!$D$1:$I$108,6,0),"")) | J5: =IFERROR(VLOOKUP(A5,'KLP2'!$C$1:$I$108,7,0),IFERROR(VLOOKUP(B5,'KLP2'!$D$1:$I$108,6,0),"")) | K5: =IFERROR(VLOOKUP(A5,'DM1'!$C$1:$I$108,7,0),IFERROR(VLOOKUP(B5,'DM1'!$D$1:$I$108,6,0),"")) | L5: =IFERROR(VLOOKUP(A5,'DM2'!$C$1:$I$108,7,0),IFERROR(VLOOKUP(B5,'DM2'!$D$1:$I$108,6,0),"")) | M5: =IFERROR(VLOOKUP(A5,'SPF1'!$C$1:$I$108,7,0),IFERROR(VLOOKUP(B5,'SPF1'!$D$1:$I$108,6,0),"")) | N5: =IFERROR(VLOOKUP(A5,'SPF2'!$C$1:$I$108,7,0),IFERROR(VLOOKUP(B5,'SPF2'!$D$1:$I$108,6,0),"")) | O5: =SUM(I5:N5) -> 0 | P5: =IFERROR(LARGE(I5:N5,1),"0")+IFERROR(LARGE(I5:N5,2),"0")+IFERROR(LARGE(I5:N5,3),"0")+IFERROR(LARGE(I5:N5,4),"0") -> 0 | Q5: =(IFERROR(LARGE(I5:N5,1),"0")+IFERROR(LARGE(I5:N5,2),"0")+IFERROR(LARGE(I5:N5,3),"0"))/3 -> 0 | S5: =IFERROR(VLOOKUP(A5,DMSBX1!$C$1:$I$108,7,0),IFERROR(VLOOKUP(B5,DMSBX1!$D$1:$I$108,6,0),"")) | T5: =IFERROR(VLOOKUP(A5,DMSBX2!$C$1:$I$101,7,0),IFERROR(VLOOKUP(B5,DMSBX2!$D$1:$I$101,6,0),"")) | U5: =IFERROR(VLOOKUP(B5,'SP1'!$D$1:$I$107,6,0),"") | V5: =IFERROR(VLOOKUP(B5,'SP2'!$D$1:$I$107,6,0),"") | W5: =IFERROR(IF(B5<>0,VLOOKUP(B5,KLSBX1!$D$2:$I$120,6,FALSE()),NA()),IFERROR(IF(A5<>0,VLOOKUP(A5,KLSBX1!$C$2:$I$120,7,FALSE()),NA()),"")) | X5: =IFERROR(IF(B5<>0,VLOOKUP(B5,KLSBX2!$D$2:$I$120,6,FALSE()),NA()),IFERROR(IF(A5<>0,VLOOKUP(A5,KLSBX2!$C$2:$I$120,7,FALSE()),NA()),"")) | Y5: =IFERROR(IF(B5<>0,VLOOKUP(B5,DMSBXNC!$D$2:$I$420,6,FALSE()),NA()),IFERROR(IF(A5<>0,VLOOKUP(A5,DMSBXNC!$C$2:$I$420,7,FALSE()),NA()),"")) | Z5: =IFERROR(IF(B5<>0,VLOOKUP(B5,DMSBX1_3!$D$2:$I$420,6,FALSE()),NA()),IFERROR(IF(A5<>0,VLOOKUP(A5,DMSBX1_3!$C$2:$I$420,7,FALSE()),NA()),"")) | AA5: =IFERROR(IF(B5<>0,VLOOKUP(B5,'KLS1'!$D$2:$I$420,6,FALSE()),NA()),IFERROR(IF(A5<>0,VLOOKUP(A5,'KLS1'!$C$2:$I$420,7,FALSE()),NA()),"")) | AB5: =IFERROR(IF(B5<>0,VLOOKUP(B5,'KLS2'!$D$2:$I$426,6,FALSE()),NA()),IFERROR(IF(A5<>0,VLOOKUP(A5,'KLS2'!$C$2:$I$426,7,FALSE()),NA()),"")) | AC5: =SUM(S5:AB5) -> 0 | AD5: =(IFERROR(LARGE(S5:AB5,1),"0")+IFERROR(LARGE(S5:AB5,2),"0")+IFERROR(LARGE(S5:AB5,3),"0")+IFERROR(LARGE(S5:AB5,4),"0")+IFERROR(LARGE(S5:AB5,5),"0")+IFERROR(LARGE(S5:AB5,6),"0")+IFERROR(LARGE(S5:AB5,7),"0")+IFERROR(LARGE(S5:AB5,8),"0")) -> 0 | AE5: =(IFERROR(LARGE(S5:AB5,1),"0")+IFERROR(LARGE(S5:AB5,2),"0")+IFERROR(LARGE(S5:AB5,3),"0"))/3 -> 0 | AG5: =IFERROR(VLOOKUP(B5,FS!$A$2:$N$78,6,FALSE),"") | AH5: =IFERROR(VLOOKUP(B5,FS!$A$2:$N$78,7,FALSE),"") | AI5: =IFERROR(VLOOKUP(B5,FS!$A$2:$N$78,8,FALSE),"") | AJ5: =IFERROR(VLOOKUP(B5,FS!$A$2:$N$78,9,FALSE),"") | AK5: =IFERROR(VLOOKUP(B5,FS!$A$2:$N$78,10,FALSE),"") | AL5: =IFERROR(VLOOKUP(B5,FS!$A$2:$N$78,11,FALSE),"") | AM5: =IFERROR(VLOOKUP(B5,FS!$A$2:$N$78,12,FALSE),"") | AN5: =IFERROR(VLOOKUP(B5,FS!$A$2:$N$78,13,FALSE),"") | AO5: =SUM(AG5:AN5) -> 0 | AP5: =(IFERROR(LARGE(AG5:AN5,1),"0")+IFERROR(LARGE(AG5:AN5,2),"0")+IFERROR(LARGE(AG5:AN5,3),"0")+IFERROR(LARGE(AG5:AN5,4),"0")+IFERROR(LARGE(AG5:AN5,5),"0")) -> 0 | AQ5: =(IFERROR(LARGE(AG5:AN5,1),"0")+IFERROR(LARGE(AG5:AN5,2),"0")+IFERROR(LARGE(AG5:AN5,3),"0"))/3 -> 0 | AR5: =Q5+AE5+AQ5 -> 0 | AS5: =(IF(Q5>0,1,0))+(IF(AE5>0,1,0))+(IF(AQ5>0,1,0)) -> 0
B6: 773631 | C6: Běhal Erik | D6: 2019 | E6: CZE | F6: =IFERROR(VLOOKUP(B6,SVEXP!$A$2:$F$6577,6,FALSE),"") -> Tělovýchovná jednota Spartak Vrchlabí, z. s. AD | G6: =IFERROR(VLOOKUP(B6,SVEXP!$A$2:$E$6577,5,FALSE),"") -> Hlavní město Praha | H6: M | I6: =IFERROR(VLOOKUP(A6,'KLP1'!$C$1:$I$108,7,0),IFERROR(VLOOKUP(B6,'KLP1'!$D$1:$I$108,6,0),"")) | J6: =IFERROR(VLOOKUP(A6,'KLP2'!$C$1:$I$108,7,0),IFERROR(VLOOKUP(B6,'KLP2'!$D$1:$I$108,6,0),"")) | K6: =IFERROR(VLOOKUP(A6,'DM1'!$C$1:$I$108,7,0),IFERROR(VLOOKUP(B6,'DM1'!$D$1:$I$108,6,0),"")) | L6: =IFERROR(VLOOKUP(A6,'DM2'!$C$1:$I$108,7,0),IFERROR(VLOOKUP(B6,'DM2'!$D$1:$I$108,6,0),"")) | M6: =IFERROR(VLOOKUP(A6,'SPF1'!$C$1:$I$108,7,0),IFERROR(VLOOKUP(B6,'SPF1'!$D$1:$I$108,6,0),"")) -> 36 | N6: =IFERROR(VLOOKUP(A6,'SPF2'!$C$1:$I$108,7,0),IFERROR(VLOOKUP(B6,'SPF2'!$D$1:$I$108,6,0),"")) | O6: =SUM(I6:N6) -> 36 | P6: =IFERROR(LARGE(I6:N6,1),"0")+IFERROR(LARGE(I6:N6,2),"0")+IFERROR(LARGE(I6:N6,3),"0")+IFERROR(LARGE(I6:N6,4),"0") -> 36 | Q6: =(IFERROR(LARGE(I6:N6,1),"0")+IFERROR(LARGE(I6:N6,2),"0")+IFERROR(LARGE(I6:N6,3),"0"))/3 -> 12 | S6: =IFERROR(VLOOKUP(A6,DMSBX1!$C$1:$I$108,7,0),IFERROR(VLOOKUP(B6,DMSBX1!$D$1:$I$108,6,0),"")) | T6: =IFERROR(VLOOKUP(A6,DMSBX2!$C$1:$I$101,7,0),IFERROR(VLOOKUP(B6,DMSBX2!$D$1:$I$101,6,0),"")) | U6: =IFERROR(VLOOKUP(B6,'SP1'!$D$1:$I$107,6,0),"") -> 36 | V6: =IFERROR(VLOOKUP(B6,'SP2'!$D$1:$I$107,6,0),"") | W6: =IFERROR(IF(B6<>0,VLOOKUP(B6,KLSBX1!$D$2:$I$120,6,FALSE()),NA()),IFERROR(IF(A6<>0,VLOOKUP(A6,KLSBX1!$C$2:$I$120,7,FALSE()),NA()),"")) -> 32.4 | X6: =IFERROR(IF(B6<>0,VLOOKUP(B6,KLSBX2!$D$2:$I$120,6,FALSE()),NA()),IFERROR(IF(A6<>0,VLOOKUP(A6,KLSBX2!$C$2:$I$120,7,FALSE()),NA()),"")) -> 36 | Y6: =IFERROR(IF(B6<>0,VLOOKUP(B6,DMSBXNC!$D$2:$I$420,6,FALSE()),NA()),IFERROR(IF(A6<>0,VLOOKUP(A6,DMSBXNC!$C$2:$I$420,7,FALSE()),NA()),"")) -> 24 | Z6: =IFERROR(IF(B6<>0,VLOOKUP(B6,DMSBX1_3!$D$2:$I$420,6,FALSE()),NA()),IFERROR(IF(A6<>0,VLOOKUP(A6,DMSBX1_3!$C$2:$I$420,7,FALSE()),NA()),"")) -> 24 | AA6: =IFERROR(IF(B6<>0,VLOOKUP(B6,'KLS1'!$D$2:$I$420,6,FALSE()),NA()),IFERROR(IF(A6<>0,VLOOKUP(A6,'KLS1'!$C$2:$I$420,7,FALSE()),NA()),"")) | AB6: =IFERROR(IF(B6<>0,VLOOKUP(B6,'KLS2'!$D$2:$I$426,6,FALSE()),NA()),IFERROR(IF(A6<>0,VLOOKUP(A6,'KLS2'!$C$2:$I$426,7,FALSE()),NA()),"")) | AC6: =SUM(S6:AB6) -> 152.4 | AD6: =(IFERROR(LARGE(S6:AB6,1),"0")+IFERROR(LARGE(S6:AB6,2),"0")+IFERROR(LARGE(S6:AB6,3),"0")+IFERROR(LARGE(S6:AB6,4),"0")+IFERROR(LARGE(S6:AB6,5),"0")+IFERROR(LARGE(S6:AB6,6),"0")+IFERROR(LARGE(S6:AB6,7),"0")+IFERROR(LARGE(S6:AB6,8),"0")) -> 152.4 | AE6: =(IFERROR(LARGE(S6:AB6,1),"0")+IFERROR(LARGE(S6:AB6,2),"0")+IFERROR(LARGE(S6:AB6,3),"0"))/3 -> 34.8 | AG6: =IFERROR(VLOOKUP(B6,FS!$A$2:$N$78,6,FALSE),"") -> 32 | AH6: =IFERROR(VLOOKUP(B6,FS!$A$2:$N$78,7,FALSE),"") -> 16 | AI6: =IFERROR(VLOOKUP(B6,FS!$A$2:$N$78,8,FALSE),"") -> 10 | AJ6: =IFERROR(VLOOKUP(B6,FS!$A$2:$N$78,9,FALSE),"") -> 70 | AK6: =IFERROR(VLOOKUP(B6,FS!$A$2:$N$78,10,FALSE),"") -> 20 | AL6: =IFERROR(VLOOKUP(B6,FS!$A$2:$N$78,11,FALSE),"") -> 20 | AM6: =IFERROR(VLOOKUP(B6,FS!$A$2:$N$78,12,FALSE),"") -> 64 | AN6: =IFERROR(VLOOKUP(B6,FS!$A$2:$N$78,13,FALSE),"") -> 24 | AO6: =SUM(AG6:AN6) -> 256 | AP6: =(IFERROR(LARGE(AG6:AN6,1),"0")+IFERROR(LARGE(AG6:AN6,2),"0")+IFERROR(LARGE(AG6:AN6,3),"0")+IFERROR(LARGE(AG6:AN6,4),"0")+IFERROR(LARGE(AG6:AN6,5),"0")) -> 210 | AQ6: =(IFERROR(LARGE(AG6:AN6,1),"0")+IFERROR(LARGE(AG6:AN6,2),"0")+IFERROR(LARGE(AG6:AN6,3),"0"))/3 -> 55.333333 | AR6: =Q6+AE6+AQ6 -> 102.13333 | AS6: =(IF(Q6>0,1,0))+(IF(AE6>0,1,0))+(IF(AQ6>0,1,0)) -> 3 | AT6: =COUNTIF(I6:N6,">"&0)+COUNTIF(S6:AB6,">"&0)+COUNTIF(AG6:AN6,">"&0) -> 14
B7: 777654 | C7: Kolman Darek | D7: 2019 | E7: CZE | F7: =IFERROR(VLOOKUP(B7,SVEXP!$A$2:$F$6577,6,FALSE),"") -> SK SNOWRIDERS VIMPERK | G7: =IFERROR(VLOOKUP(B7,SVEXP!$A$2:$E$6577,5,FALSE),"") -> Jihočeský kraj | H7: M | I7: =IFERROR(VLOOKUP(A7,'KLP1'!$C$1:$I$108,7,0),IFERROR(VLOOKUP(B7,'KLP1'!$D$1:$I$108,6,0),"")) -> 20 | J7: =IFERROR(VLOOKUP(A7,'KLP2'!$C$1:$I$108,7,0),IFERROR(VLOOKUP(B7,'KLP2'!$D$1:$I$108,6,0),"")) -> 18 | K7: =IFERROR(VLOOKUP(A7,'DM1'!$C$1:$I$108,7,0),IFERROR(VLOOKUP(B7,'DM1'!$D$1:$I$108,6,0),"")) -> 24 | L7: =IFERROR(VLOOKUP(A7,'DM2'!$C$1:$I$108,7,0),IFERROR(VLOOKUP(B7,'DM2'!$D$1:$I$108,6,0),"")) -> 22.5 | M7: =IFERROR(VLOOKUP(A7,'SPF1'!$C$1:$I$108,7,0),IFERROR(VLOOKUP(B7,'SPF1'!$D$1:$I$108,6,0),"")) -> 29 | N7: =IFERROR(VLOOKUP(A7,'SPF2'!$C$1:$I$108,7,0),IFERROR(VLOOKUP(B7,'SPF2'!$D$1:$I$108,6,0),"")) -> 30 | O7: =SUM(I7:N7) -> 143.5 | P7: =IFERROR(LARGE(I7:N7,1),"0")+IFERROR(LARGE(I7:N7,2),"0")+IFERROR(LARGE(I7:N7,3),"0")+IFERROR(LARGE(I7:N7,4),"0") -> 105.5 | Q7: =(IFERROR(LARGE(I7:N7,1),"0")+IFERROR(LARGE(I7:N7,2),"0")+IFERROR(LARGE(I7:N7,3),"0"))/3 -> 27.666667 | S7: =IFERROR(VLOOKUP(A7,DMSBX1!$C$1:$I$108,7,0),IFERROR(VLOOKUP(B7,DMSBX1!$D$1:$I$108,6,0),"")) -> 28 | T7: =IFERROR(VLOOKUP(A7,DMSBX2!$C$1:$I$101,7,0),IFERROR(VLOOKUP(B7,DMSBX2!$D$1:$I$101,6,0),"")) -> 25.2 | U7: =IFERROR(VLOOKUP(B7,'SP1'!$D$1:$I$107,6,0),"") -> 32 | V7: =IFERROR(VLOOKUP(B7,'SP2'!$D$1:$I$107,6,0),"") -> 25.6 | W7: =IFERROR(IF(B7<>0,VLOOKUP(B7,KLSBX1!$D$2:$I$120,6,FALSE()),NA()),IFERROR(IF(A7<>0,VLOOKUP(A7,KLSBX1!$C$2:$I$120,7,FALSE()),NA()),"")) -> 28.8 | X7: =IFERROR(IF(B7<>0,VLOOKUP(B7,KLSBX2!$D$2:$I$120,6,FALSE()),NA()),IFERROR(IF(A7<>0,VLOOKUP(A7,KLSBX2!$C$2:$I$120,7,FALSE()),NA()),"")) -> 29 | Y7: =IFERROR(IF(B7<>0,VLOOKUP(B7,DMSBXNC!$D$2:$I$420,6,FALSE()),NA()),IFERROR(IF(A7<>0,VLOOKUP(A7,DMSBXNC!$C$2:$I$420,7,FALSE()),NA()),"")) -> 16 | Z7: =IFERROR(IF(B7<>0,VLOOKUP(B7,DMSBX1_3!$D$2:$I$420,6,FALSE()),NA()),IFERROR(IF(A7<>0,VLOOKUP(A7,DMSBX1_3!$C$2:$I$420,7,FALSE()),NA()),"")) -> 20 | AA7: =IFERROR(IF(B7<>0,VLOOKUP(B7,'KLS1'!$D$2:$I$420,6,FALSE()),NA()),IFERROR(IF(A7<>0,VLOOKUP(A7,'KLS1'!$C$2:$I$420,7,FALSE()),NA()),"")) -> 40 | AB7: =IFERROR(IF(B7<>0,VLOOKUP(B7,'KLS2'!$D$2:$I$426,6,FALSE()),NA()),IFERROR(IF(A7<>0,VLOOKUP(A7,'KLS2'!$C$2:$I$426,7,FALSE()),NA()),"")) -> 32 | AC7: =SUM(S7:AB7) -> 276.6 | AD7: =(IFERROR(LARGE(S7:AB7,1),"0")+IFERROR(LARGE(S7:AB7,2),"0")+IFERROR(LARGE(S7:AB7,3),"0")+IFERROR(LARGE(S7:AB7,4),"0")+IFERROR(LARGE(S7:AB7,5),"0")+IFERROR(LARGE(S7:AB7,6),"0")+IFERROR(LARGE(S7:AB7,7),"0")+IFERROR(LARGE(S7:AB7,8),"0")) -> 240.6 | AE7: =(IFERROR(LARGE(S7:AB7,1),"0")+IFERROR(LARGE(S7:AB7,2),"0")+IFERROR(LARGE(S7:AB7,3),"0"))/3 -> 34.666667 | AG7: =IFERROR(VLOOKUP(B7,FS!$A$2:$N$78,6,FALSE),"") | AH7: =IFERROR(VLOOKUP(B7,FS!$A$2:$N$78,7,FALSE),"") | AI7: =IFERROR(VLOOKUP(B7,FS!$A$2:$N$78,8,FALSE),"") | AJ7: =IFERROR(VLOOKUP(B7,FS!$A$2:$N$78,9,FALSE),"") | AK7: =IFERROR(VLOOKUP(B7,FS!$A$2:$N$78,10,FALSE),"") | AL7: =IFERROR(VLOOKUP(B7,FS!$A$2:$N$78,11,FALSE),"") | AM7: =IFERROR(VLOOKUP(B7,FS!$A$2:$N$78,12,FALSE),"") | AN7: =IFERROR(VLOOKUP(B7,FS!$A$2:$N$78,13,FALSE),"") | AO7: =SUM(AG7:AN7) -> 0 | AP7: =(IFERROR(LARGE(AG7:AN7,1),"0")+IFERROR(LARGE(AG7:AN7,2),"0")+IFERROR(LARGE(AG7:AN7,3),"0")+IFERROR(LARGE(AG7:AN7,4),"0")+IFERROR(LARGE(AG7:AN7,5),"0")) -> 0 | AQ7: =(IFERROR(LARGE(AG7:AN7,1),"0")+IFERROR(LARGE(AG7:AN7,2),"0")+IFERROR(LARGE(AG7:AN7,3),"0"))/3 -> 0 | AR7: =Q7+AE7+AQ7 -> 62.333333 | AS7: =(IF(Q7>0,1,0))+(IF(AE7>0,1,0))+(IF(AQ7>0,1,0)) -> 2 | AT7: =COUNTIF(I7:N7,">"&0)+COUNTIF(S7:AB7,">"&0)+COUNTIF(AG7:AN7,">"&0) -> 16
B8: 778959 | C8: PAULÍČEK Vít | D8: 2019 | E8: CZE | F8: =IFERROR(VLOOKUP(B8,SVEXP!$A$2:$F$6577,6,FALSE),"") -> SA Špindlerův Mlýn | G8: =IFERROR(VLOOKUP(B8,SVEXP!$A$2:$E$6577,5,FALSE),"") -> Královéhradecký kraj | H8: M | I8: =IFERROR(VLOOKUP(A8,'KLP1'!$C$1:$I$108,7,0),IFERROR(VLOOKUP(B8,'KLP1'!$D$1:$I$108,6,0),"")) | J8: =IFERROR(VLOOKUP(A8,'KLP2'!$C$1:$I$108,7,0),IFERROR(VLOOKUP(B8,'KLP2'!$D$1:$I$108,6,0),"")) | K8: =IFERROR(VLOOKUP(A8,'DM1'!$C$1:$I$108,7,0),IFERROR(VLOOKUP(B8,'DM1'!$D$1:$I$108,6,0),"")) | L8: =IFERROR(VLOOKUP(A8,'DM2'!$C$1:$I$108,7,0),IFERROR(VLOOKUP(B8,'DM2'!$D$1:$I$108,6,0),"")) | M8: =IFERROR(VLOOKUP(A8,'SPF1'!$C$1:$I$108,7,0),IFERROR(VLOOKUP(B8,'SPF1'!$D$1:$I$108,6,0),"")) -> 26 | N8: =IFERROR(VLOOKUP(A8,'SPF2'!$C$1:$I$108,7,0),IFERROR(VLOOKUP(B8,'SPF2'!$D$1:$I$108,6,0),"")) | O8: =SUM(I8:N8) -> 26 | P8: =IFERROR(LARGE(I8:N8,1),"0")+IFERROR(LARGE(I8:N8,2),"0")+IFERROR(LARGE(I8:N8,3),"0")+IFERROR(LARGE(I8:N8,4),"0") -> 26 | Q8: =(IFERROR(LARGE(I8:N8,1),"0")+IFERROR(LARGE(I8:N8,2),"0")+IFERROR(LARGE(I8:N8,3),"0"))/3 -> 8.6666667 | S8: =IFERROR(VLOOKUP(A8,DMSBX1!$C$1:$I$108,7,0),IFERROR(VLOOKUP(B8,DMSBX1!$D$1:$I$108,6,0),"")) | T8: =IFERROR(VLOOKUP(A8,DMSBX2!$C$1:$I$101,7,0),IFERROR(VLOOKUP(B8,DMSBX2!$D$1:$I$101,6,0),"")) | U8: =IFERROR(VLOOKUP(B8,'SP1'!$D$1:$I$107,6,0),"") | V8: =IFERROR(VLOOKUP(B8,'SP2'!$D$1:$I$107,6,0),"") | W8: =IFERROR(IF(B8<>0,VLOOKUP(B8,KLSBX1!$D$2:$I$120,6,FALSE()),NA()),IFERROR(IF(A8<>0,VLOOKUP(A8,KLSBX1!$C$2:$I$120,7,FALSE()),NA()),"")) | X8: =IFERROR(IF(B8<>0,VLOOKUP(B8,KLSBX2!$D$2:$I$120,6,FALSE()),NA()),IFERROR(IF(A8<>0,VLOOKUP(A8,KLSBX2!$C$2:$I$120,7,FALSE()),NA()),"")) | Y8: =IFERROR(IF(B8<>0,VLOOKUP(B8,DMSBXNC!$D$2:$I$420,6,FALSE()),NA()),IFERROR(IF(A8<>0,VLOOKUP(A8,DMSBXNC!$C$2:$I$420,7,FALSE()),NA()),"")) | Z8: =IFERROR(IF(B8<>0,VLOOKUP(B8,DMSBX1_3!$D$2:$I$420,6,FALSE()),NA()),IFERROR(IF(A8<>0,VLOOKUP(A8,DMSBX1_3!$C$2:$I$420,7,FALSE()),NA()),"")) | AA8: =IFERROR(IF(B8<>0,VLOOKUP(B8,'KLS1'!$D$2:$I$420,6,FALSE()),NA()),IFERROR(IF(A8<>0,VLOOKUP(A8,'KLS1'!$C$2:$I$420,7,FALSE()),NA()),"")) | AB8: =IFERROR(IF(B8<>0,VLOOKUP(B8,'KLS2'!$D$2:$I$426,6,FALSE()),NA()),IFERROR(IF(A8<>0,VLOOKUP(A8,'KLS2'!$C$2:$I$426,7,FALSE()),NA()),"")) | AC8: =SUM(S8:AB8) -> 0 | AD8: =(IFERROR(LARGE(S8:AB8,1),"0")+IFERROR(LARGE(S8:AB8,2),"0")+IFERROR(LARGE(S8:AB8,3),"0")+IFERROR(LARGE(S8:AB8,4),"0")+IFERROR(LARGE(S8:AB8,5),"0")+IFERROR(LARGE(S8:AB8,6),"0")+IFERROR(LARGE(S8:AB8,7),"0")+IFERROR(LARGE(S8:AB8,8),"0")) -> 0 | AE8: =(IFERROR(LARGE(S8:AB8,1),"0")+IFERROR(LARGE(S8:AB8,2),"0")+IFERROR(LARGE(S8:AB8,3),"0"))/3 -> 0 | AJ8: =IFERROR(VLOOKUP(B8,FS!$A$2:$N$78,9,FALSE),"") -> 42 | AM8: =IFERROR(VLOOKUP(B8,FS!$A$2:$N$78,12,FALSE),"") -> 48 | AO8: =SUM(AG8:AN8) -> 90 | AP8: =(IFERROR(LARGE(AG8:AN8,1),"0")+IFERROR(LARGE(AG8:AN8,2),"0")+IFERROR(LARGE(AG8:AN8,3),"0")+IFERROR(LARGE(AG8:AN8,4),"0")+IFERROR(LARGE(AG8:AN8,5),"0")) -> 90 | AQ8: =(IFERROR(LARGE(AG8:AN8,1),"0")+IFERROR(LARGE(AG8:AN8,2),"0")+IFERROR(LARGE(AG8:AN8,3),"0"))/3 -> 30 | AR8: =Q8+AE8+AQ8 -> 38.666667 | AS8: =(IF(Q8>0,1,0))+(IF(AE8>0,1,0))+(IF(AQ8>0,1,0)) -> 2 | AT8: =COUNTIF(I8:N8,">"&0)+COUNTIF(S8:AB8,">"&0)+COUNTIF(AG8:AN8,">"&0) -> 3
B9: 778855 | C9: Vysusil Miroslav | D9: 2019 | E9: CZE | F9: =IFERROR(VLOOKUP(B9,SVEXP!$A$2:$F$6577,6,FALSE),"") -> SK LOQUITA' S | G9: =IFERROR(VLOOKUP(B9,SVEXP!$A$2:$E$6577,5,FALSE),"") -> Středočeský kraj | H9: M | O9: =SUM(I9:N9) -> 0 | P9: =IFERROR(LARGE(I9:N9,1),"0")+IFERROR(LARGE(I9:N9,2),"0")+IFERROR(LARGE(I9:N9,3),"0")+IFERROR(LARGE(I9:N9,4),"0") -> 0 | Q9: =(IFERROR(LARGE(I9:N9,1),"0")+IFERROR(LARGE(I9:N9,2),"0")+IFERROR(LARGE(I9:N9,3),"0"))/3 -> 0 | AC9: =SUM(S9:AB9) -> 0 | AD9: =(IFERROR(LARGE(S9:AB9,1),"0")+IFERROR(LARGE(S9:AB9,2),"0")+IFERROR(LARGE(S9:AB9,3),"0")+IFERROR(LARGE(S9:AB9,4),"0")+IFERROR(LARGE(S9:AB9,5),"0")+IFERROR(LARGE(S9:AB9,6),"0")+IFERROR(LARGE(S9:AB9,7),"0")+IFERROR(LARGE(S9:AB9,8),"0")) -> 0 | AE9: =(IFERROR(LARGE(S9:AB9,1),"0")+IFERROR(LARGE(S9:AB9,2),"0")+IFERROR(LARGE(S9:AB9,3),"0"))/3 -> 0 | AM9: =IFERROR(VLOOKUP(B9,FS!$A$2:$N$78,12,FALSE),"") -> 28.8 | AO9: =SUM(AG9:AN9) -> 28.8 | AP9: =(IFERROR(LARGE(AG9:AN9,1),"0")+IFERROR(LARGE(AG9:AN9,2),"0")+IFERROR(LARGE(AG9:AN9,3),"0")+IFERROR(LARGE(AG9:AN9,4),"0")+IFERROR(LARGE(AG9:AN9,5),"0")) -> 28.8 | AQ9: =(IFERROR(LARGE(AG9:AN9,1),"0")+IFERROR(LARGE(AG9:AN9,2),"0")+IFERROR(LARGE(AG9:AN9,3),"0"))/3 -> 9.6 | AR9: =Q9+AE9+AQ9 -> 9.6 | AS9: =(IF(Q9>0,1,0))+(IF(AE9>0,1,0))+(IF(AQ9>0,1,0)) -> 1 | AT9: =COUNTIF(I9:N9,">"&0)+COUNTIF(S9:AB9,">"&0)+COUNTIF(AG9:AN9,">"&0) -> 1
B10: 709346 | C10: Skrbek Jakub | D10: 2018 | E10: CZE | F10: =IFERROR(VLOOKUP(B10,SVEXP!$A$2:$F$6577,6,FALSE),"") -> SA Špindlerův Mlýn | G10: =IFERROR(VLOOKUP(B10,SVEXP!$A$2:$E$6577,5,FALSE),"") -> Královéhradecký kraj | H10: M | I10: =IFERROR(VLOOKUP(#REF!,'KLP1'!$C$1:$I$108,7,0),IFERROR(VLOOKUP(A10,'KLP1'!$D$1:$I$108,6,0),"")) | J10: =IFERROR(VLOOKUP(#REF!,'KLP2'!$C$1:$I$108,7,0),IFERROR(VLOOKUP(A10,'KLP2'!$D$1:$I$108,6,0),"")) | K10: =IFERROR(VLOOKUP(#REF!,'DM1'!$C$1:$I$108,7,0),IFERROR(VLOOKUP(A10,'DM1'!$D$1:$I$108,6,0),"")) | L10: =IFERROR(VLOOKUP(#REF!,'DM2'!$C$1:$I$108,7,0),IFERROR(VLOOKUP(A10,'DM2'!$D$1:$I$108,6,0),"")) | M10: =IFERROR(VLOOKUP(A10,'SPF1'!$C$1:$I$108,7,0),IFERROR(VLOOKUP(B10,'SPF1'!$D$1:$I$108,6,0),"")) | N10: =IFERROR(VLOOKUP(A10,'SPF2'!$C$1:$I$108,7,0),IFERROR(VLOOKUP(B10,'SPF2'!$D$1:$I$108,6,0),"")) | O10: =SUM(I10:N10) -> 0 | P10: =IFERROR(LARGE(I10:N10,1),"0")+IFERROR(LARGE(I10:N10,2),"0")+IFERROR(LARGE(I10:N10,3),"0")+IFERROR(LARGE(I10:N10,4),"0") -> 0 | Q10: =(IFERROR(LARGE(I10:N10,1),"0")+IFERROR(LARGE(I10:N10,2),"0")+IFERROR(LARGE(I10:N10,3),"0"))/3 -> 0 | S10: =IFERROR(VLOOKUP(A10,DMSBX1!$C$1:$I$108,7,0),IFERROR(VLOOKUP(B10,DMSBX1!$D$1:$I$108,6,0),"")) | T10: =IFERROR(VLOOKUP(A10,DMSBX2!$C$1:$I$101,7,0),IFERROR(VLOOKUP(B10,DMSBX2!$D$1:$I$101,6,0),"")) | U10: =IFERROR(VLOOKUP(B10,'SP1'!$D$1:$I$107,6,0),"") | V10: =IFERROR(VLOOKUP(B10,'SP2'!$D$1:$I$107,6,0),"") | W10: =IFERROR(IF(B10<>0,VLOOKUP(B10,KLSBX1!$D$2:$I$120,6,FALSE()),NA()),IFERROR(IF(A10<>0,VLOOKUP(A10,KLSBX1!$C$2:$I$120,7,FALSE()),NA()),"")) -> 26.1 | X10: =IFERROR(IF(B10<>0,VLOOKUP(B10,KLSBX2!$D$2:$I$120,6,FALSE()),NA()),IFERROR(IF(A10<>0,VLOOKUP(A10,KLSBX2!$C$2:$I$120,7,FALSE()),NA()),"")) -> 26 | Y10: =IFERROR(IF(B10<>0,VLOOKUP(B10,DMSBXNC!$D$2:$I$420,6,FALSE()),NA()),IFERROR(IF(A10<>0,VLOOKUP(A10,DMSBXNC!$C$2:$I$420,7,FALSE()),NA()),"")) -> 40 | Z10: =IFERROR(IF(B10<>0,VLOOKUP(B10,DMSBX1_3!$D$2:$I$420,6,FALSE()),NA()),IFERROR(IF(A10<>0,VLOOKUP(A10,DMSBX1_3!$C$2:$I$420,7,FALSE()),NA()),"")) -> 40 | AA10: =IFERROR(IF(B10<>0,VLOOKUP(B10,'KLS1'!$D$2:$I$420,6,FALSE()),NA()),IFERROR(IF(A10<>0,VLOOKUP(A10,'KLS1'!$C$2:$I$420,7,FALSE()),NA()),"")) | AB10: =IFERROR(IF(B10<>0,VLOOKUP(B10,'KLS2'!$D$2:$I$426,6,FALSE()),NA()),IFERROR(IF(A10<>0,VLOOKUP(A10,'KLS2'!$C$2:$I$426,7,FALSE()),NA()),"")) | AC10: =SUM(S10:AB10) -> 132.1 | AD10: =(IFERROR(LARGE(S10:AB10,1),"0")+IFERROR(LARGE(S10:AB10,2),"0")+IFERROR(LARGE(S10:AB10,3),"0")+IFERROR(LARGE(S10:AB10,4),"0")+IFERROR(LARGE(S10:AB10,5),"0")+IFERROR(LARGE(S10:AB10,6),"0")+IFERROR(LARGE(S10:AB10,7),"0")+IFERROR(LARGE(S10:AB10,8),"0")) -> 132.1 | AE10: =(IFERROR(LARGE(S10:AB10,1),"0")+IFERROR(LARGE(S10:AB10,2),"0")+IFERROR(LARGE(S10:AB10,3),"0"))/3 -> 35.366667 | AG10: =IFERROR(VLOOKUP(B10,FS!$A$2:$N$78,6,FALSE),"") -> 30 | AH10: =IFERROR(VLOOKUP(B10,FS!$A$2:$N$78,7,FALSE),"") -> 18 | AI10: =IFERROR(VLOOKUP(B10,FS!$A$2:$N$78,8,FALSE),"") -> 30 | AJ10: =IFERROR(VLOOKUP(B10,FS!$A$2:$N$78,9,FALSE),"") -> 36 | AK10: =IFERROR(VLOOKUP(B10,FS!$A$2:$N$78,10,FALSE),"") -> 27 | AL10: =IFERROR(VLOOKUP(B10,FS!$A$2:$N$78,11,FALSE),"") -> 27 | AM10: =IFERROR(VLOOKUP(B10,FS!$A$2:$N$78,12,FALSE),"") -> 28.8 | AN10: =IFERROR(VLOOKUP(B10,FS!$A$2:$N$78,13,FALSE),"") -> 22.5 | AO10: =SUM(AG10:AN10) -> 219.3 | AP10: =(IFERROR(LARGE(AG10:AN10,1),"0")+IFERROR(LARGE(AG10:AN10,2),"0")+IFERROR(LARGE(AG10:AN10,3),"0")+IFERROR(LARGE(AG10:AN10,4),"0")+IFERROR(LARGE(AG10:AN10,5),"0")) -> 151.8 | AQ10: =(IFERROR(LARGE(AG10:AN10,1),"0")+IFERROR(LARGE(AG10:AN10,2),"0")+IFERROR(LARGE(AG10:AN10,3),"0"))/3 -> 32 | AR10: =Q10+AE10+AQ10 -> 67.366667 | AS10: =(IF(Q10>0,1,0))+(IF(AE10>0,1,0))+(IF(AQ10>0,1,0)) -> 2 | AT10: =COUNTIF(I10:N10,">"&0)+COUNTIF(S10:AB10,">"&0)+COUNTIF(AG10:AN10,">"&0) -> 12
B11: 778173 | C11: NOSEK Jaroslav | D11: 2018 | E11: CZE | F11: =IFERROR(VLOOKUP(B11,SVEXP!$A$2:$F$6577,6,FALSE),"") -> Klub Krušných hor | G11: =IFERROR(VLOOKUP(B11,SVEXP!$A$2:$E$6577,5,FALSE),"") -> Ústecký kraj | H11: M | I11: =IFERROR(VLOOKUP(A11,'KLP1'!$C$1:$I$108,7,0),IFERROR(VLOOKUP(B11,'KLP1'!$D$1:$I$108,6,0),"")) -> 24 | J11: =IFERROR(VLOOKUP(A11,'KLP2'!$C$1:$I$108,7,0),IFERROR(VLOOKUP(B11,'KLP2'!$D$1:$I$108,6,0),"")) | K11: =IFERROR(VLOOKUP(A11,'DM1'!$C$1:$I$108,7,0),IFERROR(VLOOKUP(B11,'DM1'!$D$1:$I$108,6,0),"")) | L11: =IFERROR(VLOOKUP(A11,'DM2'!$C$1:$I$108,7,0),IFERROR(VLOOKUP(B11,'DM2'!$D$1:$I$108,6,0),"")) | M11: =IFERROR(VLOOKUP(A11,'SPF1'!$C$1:$I$108,7,0),IFERROR(VLOOKUP(B11,'SPF1'!$D$1:$I$108,6,0),"")) | N11: =IFERROR(VLOOKUP(A11,'SPF2'!$C$1:$I$108,7,0),IFERROR(VLOOKUP(B11,'SPF2'!$D$1:$I$108,6,0),"")) | O11: =SUM(I11:N11) -> 24 | P11: =IFERROR(LARGE(I11:N11,1),"0")+IFERROR(LARGE(I11:N11,2),"0")+IFERROR(LARGE(I11:N11,3),"0")+IFERROR(LARGE(I11:N11,4),"0") -> 24 | Q11: =(IFERROR(LARGE(I11:N11,1),"0")+IFERROR(LARGE(I11:N11,2),"0")+IFERROR(LARGE(I11:N11,3),"0"))/3 -> 8 | S11: =IFERROR(VLOOKUP(A11,DMSBX1!$C$1:$I$108,7,0),IFERROR(VLOOKUP(B11,DMSBX1!$D$1:$I$108,6,0),"")) | U11: =IFERROR(VLOOKUP(B11,'SP1'!$D$1:$I$107,6,0),"") -> 26 | V11: =IFERROR(VLOOKUP(B11,'SP2'!$D$1:$I$107,6,0),"") -> 40 | W11: =IFERROR(IF(B11<>0,VLOOKUP(B11,KLSBX1!$D$2:$I$120,6,FALSE()),NA()),IFERROR(IF(A11<>0,VLOOKUP(A11,KLSBX1!$C$2:$I$120,7,FALSE()),NA()),"")) | X11: =IFERROR(IF(B11<>0,VLOOKUP(B11,KLSBX2!$D$2:$I$120,6,FALSE()),NA()),IFERROR(IF(A11<>0,VLOOKUP(A11,KLSBX2!$C$2:$I$120,7,FALSE()),NA()),"")) -> 32 | Y11: =IFERROR(IF(B11<>0,VLOOKUP(B11,DMSBXNC!$D$2:$I$420,6,FALSE()),NA()),IFERROR(IF(A11<>0,VLOOKUP(A11,DMSBXNC!$C$2:$I$420,7,FALSE()),NA()),"")) | Z11: =IFERROR(IF(B11<>0,VLOOKUP(B11,DMSBX1_3!$D$2:$I$420,6,FALSE()),NA()),IFERROR(IF(A11<>0,VLOOKUP(A11,DMSBX1_3!$C$2:$I$420,7,FALSE()),NA()),"")) | AA11: =IFERROR(IF(B11<>0,VLOOKUP(B11,'KLS1'!$D$2:$I$420,6,FALSE()),NA()),IFERROR(IF(A11<>0,VLOOKUP(A11,'KLS1'!$C$2:$I$420,7,FALSE()),NA()),"")) | AB11: =IFERROR(IF(B11<>0,VLOOKUP(B11,'KLS2'!$D$2:$I$426,6,FALSE()),NA()),IFERROR(IF(A11<>0,VLOOKUP(A11,'KLS2'!$C$2:$I$426,7,FALSE()),NA()),"")) | AC11: =SUM(S11:AB11) -> 98 | AD11: =(IFERROR(LARGE(S11:AB11,1),"0")+IFERROR(LARGE(S11:AB11,2),"0")+IFERROR(LARGE(S11:AB11,3),"0")+IFERROR(LARGE(S11:AB11,4),"0")+IFERROR(LARGE(S11:AB11,5),"0")+IFERROR(LARGE(S11:AB11,6),"0")+IFERROR(LARGE(S11:AB11,7),"0")+IFERROR(LARGE(S11:AB11,8),"0")) -> 98 | AE11: =(IFERROR(LARGE(S11:AB11,1),"0")+IFERROR(LARGE(S11:AB11,2),"0")+IFERROR(LARGE(S11:AB11,3),"0"))/3 -> 32.666667 | AJ11: =IFERROR(VLOOKUP(B11,FS!$A$2:$N$78,9,FALSE),"") -> 26 | AO11: =SUM(AG11:AN11) -> 26 | AP11: =(IFERROR(LARGE(AG11:AN11,1),"0")+IFERROR(LARGE(AG11:AN11,2),"0")+IFERROR(LARGE(AG11:AN11,3),"0")+IFERROR(LARGE(AG11:AN11,4),"0")+IFERROR(LARGE(AG11:AN11,5),"0")) -> 26 | AQ11: =(IFERROR(LARGE(AG11:AN11,1),"0")+IFERROR(LARGE(AG11:AN11,2),"0")+IFERROR(LARGE(AG11:AN11,3),"0"))/3 -> 8.6666667 | AR11: =Q11+AE11+AQ11 -> 49.333333 | AS11: =(IF(Q11>0,1,0))+(IF(AE11>0,1,0))+(IF(AQ11>0,1,0)) -> 3 | AT11: =COUNTIF(I11:N11,">"&0)+COUNTIF(S11:AB11,">"&0)+COUNTIF(AG11:AN11,">"&0) -> 5
B12: 810898 | C12: Petraskova Rozalie | D12: 2017 | E12: CZE | F12: =IFERROR(VLOOKUP(B12,SVEXP!$A$2:$F$6577,6,FALSE),"") -> board masteRS team | G12: =IFERROR(VLOOKUP(B12,SVEXP!$A$2:$E$6577,5,FALSE),"") -> Hlavní město Praha | H12: L | O12: =SUM(I12:N12) -> 0 | P12: =IFERROR(LARGE(I12:N12,1),"0")+IFERROR(LARGE(I12:N12,2),"0")+IFERROR(LARGE(I12:N12,3),"0")+IFERROR(LARGE(I12:N12,4),"0") -> 0 | Q12: =(IFERROR(LARGE(I12:N12,1),"0")+IFERROR(LARGE(I12:N12,2),"0")+IFERROR(LARGE(I12:N12,3),"0"))/3 -> 0 | AC12: =SUM(S12:AB12) -> 0 | AD12: =(IFERROR(LARGE(S12:AB12,1),"0")+IFERROR(LARGE(S12:AB12,2),"0")+IFERROR(LARGE(S12:AB12,3),"0")+IFERROR(LARGE(S12:AB12,4),"0")+IFERROR(LARGE(S12:AB12,5),"0")+IFERROR(LARGE(S12:AB12,6),"0")+IFERROR(LARGE(S12:AB12,7),"0")+IFERROR(LARGE(S12:AB12,8),"0")) -> 0 | AE12: =(IFERROR(LARGE(S12:AB12,1),"0")+IFERROR(LARGE(S12:AB12,2),"0")+IFERROR(LARGE(S12:AB12,3),"0"))/3 -> 0 | AJ12: =IFERROR(VLOOKUP(B12,FS!$A$2:$N$78,9,FALSE),"") -> 24 | AM12: =IFERROR(VLOOKUP(B12,FS!$A$2:$N$78,12,FALSE),"") -> 32 | AO12: =SUM(AG12:AN12) -> 56 | AP12: =(IFERROR(LARGE(AG12:AN12,1),"0")+IFERROR(LARGE(AG12:AN12,2),"0")+IFERROR(LARGE(AG12:AN12,3),"0")+IFERROR(LARGE(AG12:AN12,4),"0")+IFERROR(LARGE(AG12:AN12,5),"0")) -> 56 | AQ12: =(IFERROR(LARGE(AG12:AN12,1),"0")+IFERROR(LARGE(AG12:AN12,2),"0")+IFERROR(LARGE(AG12:AN12,3),"0"))/3 -> 18.666667 | AR12: =Q12+AE12+AQ12 -> 18.666667 | AS12: =(IF(Q12>0,1,0))+(IF(AE12>0,1,0))+(IF(AQ12>0,1,0)) -> 1 | AT12: =COUNTIF(I12:N12,">"&0)+COUNTIF(S12:AB12,">"&0)+COUNTIF(AG12:AN12,">"&0) -> 2
B13: 889860 | C13: RYSOVÁ Barbora | D13: 2017 | E13: CZE | F13: =IFERROR(VLOOKUP(B13,SVEXP!$A$2:$F$6577,6,FALSE),"") -> SNB Seveřani | G13: =IFERROR(VLOOKUP(B13,SVEXP!$A$2:$E$6577,5,FALSE),"") -> Hlavní město Praha | H13: L | I13: =IFERROR(VLOOKUP(A13,'KLP1'!$C$1:$I$108,7,0),IFERROR(VLOOKUP(B13,'KLP1'!$D$1:$I$108,6,0),"")) | J13: =IFERROR(VLOOKUP(A13,'KLP2'!$C$1:$I$108,7,0),IFERROR(VLOOKUP(B13,'KLP2'!$D$1:$I$108,6,0),"")) | K13: =IFERROR(VLOOKUP(A13,'DM1'!$C$1:$I$108,7,0),IFERROR(VLOOKUP(B13,'DM1'!$D$1:$I$108,6,0),"")) -> 22.5 | L13: =IFERROR(VLOOKUP(A13,'DM2'!$C$1:$I$108,7,0),IFERROR(VLOOKUP(B13,'DM2'!$D$1:$I$108,6,0),"")) -> 24 | M13: =IFERROR(VLOOKUP(A13,'SPF1'!$C$1:$I$108,7,0),IFERROR(VLOOKUP(B13,'SPF1'!$D$1:$I$108,6,0),"")) | N13: =IFERROR(VLOOKUP(A13,'SPF2'!$C$1:$I$108,7,0),IFERROR(VLOOKUP(B13,'SPF2'!$D$1:$I$108,6,0),"")) | O13: =SUM(I13:N13) -> 46.5 | P13: =IFERROR(LARGE(I13:N13,1),"0")+IFERROR(LARGE(I13:N13,2),"0")+IFERROR(LARGE(I13:N13,3),"0")+IFERROR(LARGE(I13:N13,4),"0") -> 46.5 | Q13: =(IFERROR(LARGE(I13:N13,1),"0")+IFERROR(LARGE(I13:N13,2),"0")+IFERROR(LARGE(I13:N13,3),"0"))/3 -> 15.5 | S13: =IFERROR(VLOOKUP(A13,DMSBX1!$C$1:$I$108,7,0),IFERROR(VLOOKUP(B13,DMSBX1!$D$1:$I$108,6,0),"")) | T13: =IFERROR(VLOOKUP(A13,DMSBX2!$C$1:$I$101,7,0),IFERROR(VLOOKUP(B13,DMSBX2!$D$1:$I$101,6,0),"")) | U13: =IFERROR(VLOOKUP(B13,'SP1'!$D$1:$I$107,6,0),"") | V13: =IFERROR(VLOOKUP(B13,'SP2'!$D$1:$I$107,6,0),"") | W13: =IFERROR(IF(B13<>0,VLOOKUP(B13,KLSBX1!$D$2:$I$120,6,FALSE()),NA()),IFERROR(IF(A13<>0,VLOOKUP(A13,KLSBX1!$C$2:$I$120,7,FALSE()),NA()),"")) | X13: =IFERROR(IF(B13<>0,VLOOKUP(B13,KLSBX2!$D$2:$I$120,6,FALSE()),NA()),IFERROR(IF(A13<>0,VLOOKUP(A13,KLSBX2!$C$2:$I$120,7,FALSE()),NA()),"")) | Y13: =IFERROR(IF(B13<>0,VLOOKUP(B13,DMSBXNC!$D$2:$I$420,6,FALSE()),NA()),IFERROR(IF(A13<>0,VLOOKUP(A13,DMSBXNC!$C$2:$I$420,7,FALSE()),NA()),"")) | Z13: =IFERROR(IF(B13<>0,VLOOKUP(B13,DMSBX1_3!$D$2:$I$420,6,FALSE()),NA()),IFERROR(IF(A13<>0,VLOOKUP(A13,DMSBX1_3!$C$2:$I$420,7,FALSE()),NA()),"")) | AA13: =IFERROR(IF(B13<>0,VLOOKUP(B13,'KLS1'!$D$2:$I$420,6,FALSE()),NA()),IFERROR(IF(A13<>0,VLOOKUP(A13,'KLS1'!$C$2:$I$420,7,FALSE()),NA()),"")) | AB13: =IFERROR(IF(B13<>0,VLOOKUP(B13,'KLS2'!$D$2:$I$426,6,FALSE()),NA()),IFERROR(IF(A13<>0,VLOOKUP(A13,'KLS2'!$C$2:$I$426,7,FALSE()),NA()),"")) | AC13: =SUM(S13:AB13) -> 0 | AD13: =(IFERROR(LARGE(S13:AB13,1),"0")+IFERROR(LARGE(S13:AB13,2),"0")+IFERROR(LARGE(S13:AB13,3),"0")+IFERROR(LARGE(S13:AB13,4),"0")+IFERROR(LARGE(S13:AB13,5),"0")+IFERROR(LARGE(S13:AB13,6),"0")+IFERROR(LARGE(S13:AB13,7),"0")+IFERROR(LARGE(S13:AB13,8),"0")) -> 0 | AE13: =(IFERROR(LARGE(S13:AB13,1),"0")+IFERROR(LARGE(S13:AB13,2),"0")+IFERROR(LARGE(S13:AB13,3),"0"))/3 -> 0 | AG13: =IFERROR(VLOOKUP(B13,FS!$A$2:$N$78,6,FALSE),"") | AH13: =IFERROR(VLOOKUP(B13,FS!$A$2:$N$78,7,FALSE),"") | AI13: =IFERROR(VLOOKUP(B13,FS!$A$2:$N$78,8,FALSE),"") | AJ13: =IFERROR(VLOOKUP(B13,FS!$A$2:$N$78,9,FALSE),"") | AK13: =IFERROR(VLOOKUP(B13,FS!$A$2:$N$78,10,FALSE),"") | AL13: =IFERROR(VLOOKUP(B13,FS!$A$2:$N$78,11,FALSE),"") | AM13: =IFERROR(VLOOKUP(B13,FS!$A$2:$N$78,12,FALSE),"") | AN13: =IFERROR(VLOOKUP(B13,FS!$A$2:$N$78,13,FALSE),"") | AO13: =SUM(AG13:AN13) -> 0 | AP13: =(IFERROR(LARGE(AG13:AN13,1),"0")+IFERROR(LARGE(AG13:AN13,2),"0")+IFERROR(LARGE(AG13:AN13,3),"0")+IFERROR(LARGE(AG13:AN13,4),"0")+IFERROR(LARGE(AG13:AN13,5),"0")) -> 0 | AQ13: =(IFERROR(LARGE(AG13:AN13,1),"0")+IFERROR(LARGE(AG13:AN13,2),"0")+IFERROR(LARGE(AG13:AN13,3),"0"))/3 -> 0 | AR13: =Q13+AE13+AQ13 -> 15.5 | AS13: =(IF(Q13>0,1,0))+(IF(AE13>0,1,0))+(IF(AQ13>0,1,0)) -> 1 | AT13: =COUNTIF(I13:N13,">"&0)+COUNTIF(S13:AB13,">"&0)+COUNTIF(AG13:AN13,">"&0) -> 2
B14: 891511 | C14: Petrikova Amelie | D14: 2017 | E14: CZE | F14: =IFERROR(VLOOKUP(B14,SVEXP!$A$2:$F$6577,6,FALSE),"") -> SK LOQUITA' S | G14: =IFERROR(VLOOKUP(B14,SVEXP!$A$2:$E$6577,5,FALSE),"") -> Hlavní město Praha | H14: L | O14: =SUM(I14:N14) -> 0 | P14: =IFERROR(LARGE(I14:N14,1),"0")+IFERROR(LARGE(I14:N14,2),"0")+IFERROR(LARGE(I14:N14,3),"0")+IFERROR(LARGE(I14:N14,4),"0") -> 0 | Q14: =(IFERROR(LARGE(I14:N14,1),"0")+IFERROR(LARGE(I14:N14,2),"0")+IFERROR(LARGE(I14:N14,3),"0"))/3 -> 0 | AC14: =SUM(S14:AB14) -> 0 | AD14: =(IFERROR(LARGE(S14:AB14,1),"0")+IFERROR(LARGE(S14:AB14,2),"0")+IFERROR(LARGE(S14:AB14,3),"0")+IFERROR(LARGE(S14:AB14,4),"0")+IFERROR(LARGE(S14:AB14,5),"0")+IFERROR(LARGE(S14:AB14,6),"0")+IFERROR(LARGE(S14:AB14,7),"0")+IFERROR(LARGE(S14:AB14,8),"0")) -> 0 | AE14: =(IFERROR(LARGE(S14:AB14,1),"0")+IFERROR(LARGE(S14:AB14,2),"0")+IFERROR(LARGE(S14:AB14,3),"0"))/3 -> 0 | AM14: =IFERROR(VLOOKUP(B14,FS!$A$2:$N$78,12,FALSE),"") -> 20 | AO14: =SUM(AG14:AN14) -> 20 | AP14: =(IFERROR(LARGE(AG14:AN14,1),"0")+IFERROR(LARGE(AG14:AN14,2),"0")+IFERROR(LARGE(AG14:AN14,3),"0")+IFERROR(LARGE(AG14:AN14,4),"0")+IFERROR(LARGE(AG14:AN14,5),"0")) -> 20 | AQ14: =(IFERROR(LARGE(AG14:AN14,1),"0")+IFERROR(LARGE(AG14:AN14,2),"0")+IFERROR(LARGE(AG14:AN14,3),"0"))/3 -> 6.6666667 | AR14: =Q14+AE14+AQ14 -> 6.6666667 | AS14: =(IF(Q14>0,1,0))+(IF(AE14>0,1,0))+(IF(AQ14>0,1,0)) -> 1 | AT14: =COUNTIF(I14:N14,">"&0)+COUNTIF(S14:AB14,">"&0)+COUNTIF(AG14:AN14,">"&0) -> 1
B15: 891674 | C15: PAVLÍKOVÁ Sofie | D15: 2017 | E15: CZE | F15: =IFERROR(VLOOKUP(B15,SVEXP!$A$2:$F$6577,6,FALSE),"") -> Lítací jelen | G15: =IFERROR(VLOOKUP(B15,SVEXP!$A$2:$E$6577,5,FALSE),"") -> Jihomoravský kraj | H15: L | I15: =IFERROR(VLOOKUP(A15,'KLP1'!$C$1:$I$108,7,0),IFERROR(VLOOKUP(B15,'KLP1'!$D$1:$I$108,6,0),"")) | J15: =IFERROR(VLOOKUP(A15,'KLP2'!$C$1:$I$108,7,0),IFERROR(VLOOKUP(B15,'KLP2'!$D$1:$I$108,6,0),"")) | K15: =IFERROR(VLOOKUP(A15,'DM1'!$C$1:$I$108,7,0),IFERROR(VLOOKUP(B15,'DM1'!$D$1:$I$108,6,0),"")) | L15: =IFERROR(VLOOKUP(A15,'DM2'!$C$1:$I$108,7,0),IFERROR(VLOOKUP(B15,'DM2'!$D$1:$I$108,6,0),"")) | M15: =IFERROR(VLOOKUP(A15,'SPF1'!$C$1:$I$108,7,0),IFERROR(VLOOKUP(B15,'SPF1'!$D$1:$I$108,6,0),"")) -> 25.6 | N15: =IFERROR(VLOOKUP(A15,'SPF2'!$C$1:$I$108,7,0),IFERROR(VLOOKUP(B15,'SPF2'!$D$1:$I$108,6,0),"")) -> 25.2 | O15: =SUM(I15:N15) -> 50.8 | P15: =IFERROR(LARGE(I15:N15,1),"0")+IFERROR(LARGE(I15:N15,2),"0")+IFERROR(LARGE(I15:N15,3),"0")+IFERROR(LARGE(I15:N15,4),"0") -> 50.8 | Q15: =(IFERROR(LARGE(I15:N15,1),"0")+IFERROR(LARGE(I15:N15,2),"0")+IFERROR(LARGE(I15:N15,3),"0"))/3 -> 16.933333 | S15: =IFERROR(VLOOKUP(A15,DMSBX1!$C$1:$I$108,7,0),IFERROR(VLOOKUP(B15,DMSBX1!$D$1:$I$108,6,0),"")) | T15: =IFERROR(VLOOKUP(A15,DMSBX2!$C$1:$I$101,7,0),IFERROR(VLOOKUP(B15,DMSBX2!$D$1:$I$101,6,0),"")) | U15: =IFERROR(VLOOKUP(B15,'SP1'!$D$1:$I$107,6,0),"") | V15: =IFERROR(VLOOKUP(B15,'SP2'!$D$1:$I$107,6,0),"") | W15: =IFERROR(IF(B15<>0,VLOOKUP(B15,KLSBX1!$D$2:$I$120,6,FALSE()),NA()),IFERROR(IF(A15<>0,VLOOKUP(A15,KLSBX1!$C$2:$I$120,7,FALSE()),NA()),"")) | X15: =IFERROR(IF(B15<>0,VLOOKUP(B15,KLSBX2!$D$2:$I$120,6,FALSE()),NA()),IFERROR(IF(A15<>0,VLOOKUP(A15,KLSBX2!$C$2:$I$120,7,FALSE()),NA()),"")) | Y15: =IFERROR(IF(B15<>0,VLOOKUP(B15,DMSBXNC!$D$2:$I$420,6,FALSE()),NA()),IFERROR(IF(A15<>0,VLOOKUP(A15,DMSBXNC!$C$2:$I$420,7,FALSE()),NA()),"")) | Z15: =IFERROR(IF(B15<>0,VLOOKUP(B15,DMSBX1_3!$D$2:$I$420,6,FALSE()),NA()),IFERROR(IF(A15<>0,VLOOKUP(A15,DMSBX1_3!$C$2:$I$420,7,FALSE()),NA()),"")) | AA15: =IFERROR(IF(B15<>0,VLOOKUP(B15,'KLS1'!$D$2:$I$420,6,FALSE()),NA()),IFERROR(IF(A15<>0,VLOOKUP(A15,'KLS1'!$C$2:$I$420,7,FALSE()),NA()),"")) | AB15: =IFERROR(IF(B15<>0,VLOOKUP(B15,'KLS2'!$D$2:$I$426,6,FALSE()),NA()),IFERROR(IF(A15<>0,VLOOKUP(A15,'KLS2'!$C$2:$I$426,7,FALSE()),NA()),"")) | AC15: =SUM(S15:AB15) -> 0 | AD15: =(IFERROR(LARGE(S15:AB15,1),"0")+IFERROR(LARGE(S15:AB15,2),"0")+IFERROR(LARGE(S15:AB15,3),"0")+IFERROR(LARGE(S15:AB15,4),"0")+IFERROR(LARGE(S15:AB15,5),"0")+IFERROR(LARGE(S15:AB15,6),"0")+IFERROR(LARGE(S15:AB15,7),"0")+IFERROR(LARGE(S15:AB15,8),"0")) -> 0 | AE15: =(IFERROR(LARGE(S15:AB15,1),"0")+IFERROR(LARGE(S15:AB15,2),"0")+IFERROR(LARGE(S15:AB15,3),"0"))/3 -> 0 | AG15: =IFERROR(VLOOKUP(B15,FS!$A$2:$N$78,6,FALSE),"") | AH15: =IFERROR(VLOOKUP(B15,FS!$A$2:$N$78,7,FALSE),"") | AI15: =IFERROR(VLOOKUP(B15,FS!$A$2:$N$78,8,FALSE),"") | AJ15: =IFERROR(VLOOKUP(B15,FS!$A$2:$N$78,9,FALSE),"") | AK15: =IFERROR(VLOOKUP(B15,FS!$A$2:$N$78,10,FALSE),"") | AL15: =IFERROR(VLOOKUP(B15,FS!$A$2:$N$78,11,FALSE),"") | AM15: =IFERROR(VLOOKUP(B15,FS!$A$2:$N$78,12,FALSE),"") | AN15: =IFERROR(VLOOKUP(B15,FS!$A$2:$N$78,13,FALSE),"") | AO15: =SUM(AG15:AN15) -> 0 | AP15: =(IFERROR(LARGE(AG15:AN15,1),"0")+IFERROR(LARGE(AG15:AN15,2),"0")+IFERROR(LARGE(AG15:AN15,3),"0")+IFERROR(LARGE(AG15:AN15,4),"0")+IFERROR(LARGE(AG15:AN15,5),"0")) -> 0 | AQ15: =(IFERROR(LARGE(AG15:AN15,1),"0")+IFERROR(LARGE(AG15:AN15,2),"0")+IFERROR(LARGE(AG15:AN15,3),"0"))/3 -> 0 | AR15: =Q15+AE15+AQ15 -> 16.933333 | AS15: =(IF(Q15>0,1,0))+(IF(AE15>0,1,0))+(IF(AQ15>0,1,0)) -> 1 | AT15: =COUNTIF(I15:N15,">"&0)+COUNTIF(S15:AB15,">"&0)+COUNTIF(AG15:AN15,">"&0) -> 2
B16: 891717 | C16: VLACHOVÁ Valerie | D16: 2017 | E16: CZE | F16: =IFERROR(VLOOKUP(B16,SVEXP!$A$2:$F$6577,6,FALSE),"") -> Lítací jelen | G16: =IFERROR(VLOOKUP(B16,SVEXP!$A$2:$E$6577,5,FALSE),"") -> Moravskoslezský kraj | H16: L | K16: =IFERROR(VLOOKUP(A16,'DM1'!$C$1:$I$108,7,0),IFERROR(VLOOKUP(B16,'DM1'!$D$1:$I$108,6,0),"")) -> 30 | L16: =IFERROR(VLOOKUP(A16,'DM2'!$C$1:$I$108,7,0),IFERROR(VLOOKUP(B16,'DM2'!$D$1:$I$108,6,0),"")) -> 20 | M16: =IFERROR(VLOOKUP(A16,'SPF1'!$C$1:$I$108,7,0),IFERROR(VLOOKUP(B16,'SPF1'!$D$1:$I$108,6,0),"")) -> 36 | N16: =IFERROR(VLOOKUP(A16,'SPF2'!$C$1:$I$108,7,0),IFERROR(VLOOKUP(B16,'SPF2'!$D$1:$I$108,6,0),"")) -> 35 | O16: =SUM(I16:N16) -> 121 | P16: =IFERROR(LARGE(I16:N16,1),"0")+IFERROR(LARGE(I16:N16,2),"0")+IFERROR(LARGE(I16:N16,3),"0")+IFERROR(LARGE(I16:N16,4),"0") -> 121 | Q16: =(IFERROR(LARGE(I16:N16,1),"0")+IFERROR(LARGE(I16:N16,2),"0")+IFERROR(LARGE(I16:N16,3),"0"))/3 -> 33.666667 | S16: =IFERROR(VLOOKUP(A16,DMSBX1!$C$1:$I$108,7,0),IFERROR(VLOOKUP(B16,DMSBX1!$D$1:$I$108,6,0),"")) | W16: =IFERROR(IF(B16<>0,VLOOKUP(B16,KLSBX1!$D$2:$I$120,6,FALSE()),NA()),IFERROR(IF(A16<>0,VLOOKUP(A16,KLSBX1!$C$2:$I$120,7,FALSE()),NA()),"")) | X16: =IFERROR(IF(B16<>0,VLOOKUP(B16,KLSBX2!$D$2:$I$120,6,FALSE()),NA()),IFERROR(IF(A16<>0,VLOOKUP(A16,KLSBX2!$C$2:$I$120,7,FALSE()),NA()),"")) | Y16: =IFERROR(IF(B16<>0,VLOOKUP(B16,DMSBXNC!$D$2:$I$420,6,FALSE()),NA()),IFERROR(IF(A16<>0,VLOOKUP(A16,DMSBXNC!$C$2:$I$420,7,FALSE()),NA()),"")) | Z16: =IFERROR(IF(B16<>0,VLOOKUP(B16,DMSBX1_3!$D$2:$I$420,6,FALSE()),NA()),IFERROR(IF(A16<>0,VLOOKUP(A16,DMSBX1_3!$C$2:$I$420,7,FALSE()),NA()),"")) | AA16: =IFERROR(IF(B16<>0,VLOOKUP(B16,'KLS1'!$D$2:$I$420,6,FALSE()),NA()),IFERROR(IF(A16<>0,VLOOKUP(A16,'KLS1'!$C$2:$I$420,7,FALSE()),NA()),"")) | AB16: =IFERROR(IF(B16<>0,VLOOKUP(B16,'KLS2'!$D$2:$I$426,6,FALSE()),NA()),IFERROR(IF(A16<>0,VLOOKUP(A16,'KLS2'!$C$2:$I$426,7,FALSE()),NA()),"")) | AC16: =SUM(S16:AB16) -> 0 | AD16: =(IFERROR(LARGE(S16:AB16,1),"0")+IFERROR(LARGE(S16:AB16,2),"0")+IFERROR(LARGE(S16:AB16,3),"0")+IFERROR(LARGE(S16:AB16,4),"0")+IFERROR(LARGE(S16:AB16,5),"0")+IFERROR(LARGE(S16:AB16,6),"0")+IFERROR(LARGE(S16:AB16,7),"0")+IFERROR(LARGE(S16:AB16,8),"0")) -> 0 | AE16: =(IFERROR(LARGE(S16:AB16,1),"0")+IFERROR(LARGE(S16:AB16,2),"0")+IFERROR(LARGE(S16:AB16,3),"0"))/3 -> 0 | AG16: =IFERROR(VLOOKUP(B16,FS!$A$2:$N$78,6,FALSE),"") | AH16: =IFERROR(VLOOKUP(B16,FS!$A$2:$N$78,7,FALSE),"") | AI16: =IFERROR(VLOOKUP(B16,FS!$A$2:$N$78,8,FALSE),"") | AJ16: =IFERROR(VLOOKUP(B16,FS!$A$2:$N$78,9,FALSE),"") | AK16: =IFERROR(VLOOKUP(B16,FS!$A$2:$N$78,10,FALSE),"") | AL16: =IFERROR(VLOOKUP(B16,FS!$A$2:$N$78,11,FALSE),"") | AM16: =IFERROR(VLOOKUP(B16,FS!$A$2:$N$78,12,FALSE),"") | AN16: =IFERROR(VLOOKUP(B16,FS!$A$2:$N$78,13,FALSE),"") | AO16: =SUM(AG16:AN16) -> 0 | AP16: =(IFERROR(LARGE(AG16:AN16,1),"0")+IFERROR(LARGE(AG16:AN16,2),"0")+IFERROR(LARGE(AG16:AN16,3),"0")+IFERROR(LARGE(AG16:AN16,4),"0")+IFERROR(LARGE(AG16:AN16,5),"0")) -> 0 | AQ16: =(IFERROR(LARGE(AG16:AN16,1),"0")+IFERROR(LARGE(AG16:AN16,2),"0")+IFERROR(LARGE(AG16:AN16,3),"0"))/3 -> 0 | AR16: =Q16+AE16+AQ16 -> 33.666667 | AS16: =(IF(Q16>0,1,0))+(IF(AE16>0,1,0))+(IF(AQ16>0,1,0)) -> 1 | AT16: =COUNTIF(I16:N16,">"&0)+COUNTIF(S16:AB16,">"&0)+COUNTIF(AG16:AN16,">"&0) -> 4
A17: 1697597 | B17: 887748 | C17: ŠINDELÁŘOVÁ Jana | D17: 1977 | E17: CZE | F17: =IFERROR(VLOOKUP(B17,SVEXP!$A$2:$F$6577,6,FALSE),"") -> VLLNNA | G17: =IFERROR(VLOOKUP(B17,SVEXP!$A$2:$E$6577,5,FALSE),"") -> Hlavní město Praha | H17: L | I17: =IFERROR(VLOOKUP(A17,'KLP1'!$C$1:$I$108,7,0),IFERROR(VLOOKUP(B17,'KLP1'!$D$1:$I$108,6,0),"")) | J17: =IFERROR(VLOOKUP(A17,'KLP2'!$C$1:$I$108,7,0),IFERROR(VLOOKUP(B17,'KLP2'!$D$1:$I$108,6,0),"")) | K17: =IFERROR(VLOOKUP(A17,'DM1'!$C$1:$I$108,7,0),IFERROR(VLOOKUP(B17,'DM1'!$D$1:$I$108,6,0),"")) | L17: =IFERROR(VLOOKUP(A17,'DM2'!$C$1:$I$108,7,0),IFERROR(VLOOKUP(B17,'DM2'!$D$1:$I$108,6,0),"")) | M17: =IFERROR(VLOOKUP(A17,'SPF1'!$C$1:$I$108,7,0),IFERROR(VLOOKUP(B17,'SPF1'!$D$1:$I$108,6,0),"")) | N17: =IFERROR(VLOOKUP(A17,'SPF2'!$C$1:$I$108,7,0),IFERROR(VLOOKUP(B17,'SPF2'!$D$1:$I$108,6,0),"")) | O17: =SUM(I17:N17) -> 0 | P17: =IFERROR(LARGE(I17:N17,1),"0")+IFERROR(LARGE(I17:N17,2),"0")+IFERROR(LARGE(I17:N17,3),"0")+IFERROR(LARGE(I17:N17,4),"0") -> 0 | Q17: =(IFERROR(LARGE(I17:N17,1),"0")+IFERROR(LARGE(I17:N17,2),"0")+IFERROR(LARGE(I17:N17,3),"0"))/3 -> 0 | S17: =IFERROR(VLOOKUP(A17,DMSBX1!$C$1:$I$108,7,0),IFERROR(VLOOKUP(B17,DMSBX1!$D$1:$I$108,6,0),"")) | T17: =IFERROR(VLOOKUP(A17,DMSBX2!$C$1:$I$101,7,0),IFERROR(VLOOKUP(B17,DMSBX2!$D$1:$I$101,6,0),"")) | U17: =IFERROR(VLOOKUP(B17,'SP1'!$D$1:$I$107,6,0),"") | V17: =IFERROR(VLOOKUP(B17,'SP2'!$D$1:$I$107,6,0),"") | W17: =IFERROR(IF(B17<>0,VLOOKUP(B17,KLSBX1!$D$2:$I$120,6,FALSE()),NA()),IFERROR(IF(A17<>0,VLOOKUP(A17,KLSBX1!$C$2:$I$120,7,FALSE()),NA()),"")) | X17: =IFERROR(IF(B17<>0,VLOOKUP(B17,KLSBX2!$D$2:$I$120,6,FALSE()),NA()),IFERROR(IF(A17<>0,VLOOKUP(A17,KLSBX2!$C$2:$I$120,7,FALSE()),NA()),"")) | Y17: =IFERROR(IF(B17<>0,VLOOKUP(B17,DMSBXNC!$D$2:$I$420,6,FALSE()),NA()),IFERROR(IF(A17<>0,VLOOKUP(A17,DMSBXNC!$C$2:$I$420,7,FALSE()),NA()),"")) | Z17: =IFERROR(IF(B17<>0,VLOOKUP(B17,DMSBX1_3!$D$2:$I$420,6,FALSE()),NA()),IFERROR(IF(A17<>0,VLOOKUP(A17,DMSBX1_3!$C$2:$I$420,7,FALSE()),NA()),"")) | AA17: =IFERROR(IF(B17<>0,VLOOKUP(B17,'KLS1'!$D$2:$I$420,6,FALSE()),NA()),IFERROR(IF(A17<>0,VLOOKUP(A17,'KLS1'!$C$2:$I$420,7,FALSE()),NA()),"")) | AB17: =IFERROR(IF(B17<>0,VLOOKUP(B17,'KLS2'!$D$2:$I$426,6,FALSE()),NA()),IFERROR(IF(A17<>0,VLOOKUP(A17,'KLS2'!$C$2:$I$426,7,FALSE()),NA()),"")) | AC17: =SUM(S17:AB17) -> 0 | AD17: =(IFERROR(LARGE(S17:AB17,1),"0")+IFERROR(LARGE(S17:AB17,2),"0")+IFERROR(LARGE(S17:AB17,3),"0")+IFERROR(LARGE(S17:AB17,4),"0")+IFERROR(LARGE(S17:AB17,5),"0")+IFERROR(LARGE(S17:AB17,6),"0")+IFERROR(LARGE(S17:AB17,7),"0")+IFERROR(LARGE(S17:AB17,8),"0")) -> 0 | AE17: =(IFERROR(LARGE(S17:AB17,1),"0")+IFERROR(LARGE(S17:AB17,2),"0")+IFERROR(LARGE(S17:AB17,3),"0"))/3 -> 0 | AG17: =IFERROR(VLOOKUP(B17,FS!$A$2:$N$78,6,FALSE),"") | AH17: =IFERROR(VLOOKUP(B17,FS!$A$2:$N$78,7,FALSE),"") | AI17: =IFERROR(VLOOKUP(B17,FS!$A$2:$N$78,8,FALSE),"") | AJ17: =IFERROR(VLOOKUP(B17,FS!$A$2:$N$78,9,FALSE),"") | AK17: =IFERROR(VLOOKUP(B17,FS!$A$2:$N$78,10,FALSE),"") | AL17: =IFERROR(VLOOKUP(B17,FS!$A$2:$N$78,11,FALSE),"") | AM17: =IFERROR(VLOOKUP(B17,FS!$A$2:$N$78,12,FALSE),"") | AN17: =IFERROR(VLOOKUP(B17,FS!$A$2:$N$78,13,FALSE),"") | AO17: =SUM(AG17:AN17) -> 0 | AP17: =(IFERROR(LARGE(AG17:AN17,1),"0")+IFERROR(LARGE(AG17:AN17,2),"0")+IFERROR(LARGE(AG17:AN17,3),"0")+IFERROR(LARGE(AG17:AN17,4),"0")+IFERROR(LARGE(AG17:AN17,5),"0")) -> 0 | AQ17: =(IFERROR(LARGE(AG17:AN17,1),"0")+IFERROR(LARGE(AG17:AN17,2),"0")+IFERROR(LARGE(AG17:AN17,3),"0"))/3 -> 0 | AR17: =Q17+AE17+AQ17 -> 0 | AS17: =(IF(Q17>0,1,0))+(IF(AE17>0,1,0))+(IF(AQ17>0,1,0)) -> 0
B18: 891761 | C18: VAVROŠOVÁ Stella | D18: 2017 | E18: CZE | F18: =IFERROR(VLOOKUP(B18,SVEXP!$A$2:$F$6577,6,FALSE),"") -> Lítací jelen | G18: =IFERROR(VLOOKUP(B18,SVEXP!$A$2:$E$6577,5,FALSE),"") -> Moravskoslezský kraj | H18: L | I18: =IFERROR(VLOOKUP(A18,'KLP1'!$C$1:$I$108,7,0),IFERROR(VLOOKUP(B18,'KLP1'!$D$1:$I$108,6,0),"")) | J18: =IFERROR(VLOOKUP(A18,'KLP2'!$C$1:$I$108,7,0),IFERROR(VLOOKUP(B18,'KLP2'!$D$1:$I$108,6,0),"")) | K18: =IFERROR(VLOOKUP(A18,'DM1'!$C$1:$I$108,7,0),IFERROR(VLOOKUP(B18,'DM1'!$D$1:$I$108,6,0),"")) | L18: =IFERROR(VLOOKUP(A18,'DM2'!$C$1:$I$108,7,0),IFERROR(VLOOKUP(B18,'DM2'!$D$1:$I$108,6,0),"")) | M18: =IFERROR(VLOOKUP(A18,'SPF1'!$C$1:$I$108,7,0),IFERROR(VLOOKUP(B18,'SPF1'!$D$1:$I$108,6,0),"")) | N18: =IFERROR(VLOOKUP(A18,'SPF2'!$C$1:$I$108,7,0),IFERROR(VLOOKUP(B18,'SPF2'!$D$1:$I$108,6,0),"")) -> 31.5 | O18: =SUM(I18:N18) -> 31.5 | P18: =IFERROR(LARGE(I18:N18,1),"0")+IFERROR(LARGE(I18:N18,2),"0")+IFERROR(LARGE(I18:N18,3),"0")+IFERROR(LARGE(I18:N18,4),"0") -> 31.5 | Q18: =(IFERROR(LARGE(I18:N18,1),"0")+IFERROR(LARGE(I18:N18,2),"0")+IFERROR(LARGE(I18:N18,3),"0"))/3 -> 10.5 | S18: =IFERROR(VLOOKUP(A18,DMSBX1!$C$1:$I$108,7,0),IFERROR(VLOOKUP(B18,DMSBX1!$D$1:$I$108,6,0),"")) | T18: =IFERROR(VLOOKUP(A18,DMSBX2!$C$1:$I$101,7,0),IFERROR(VLOOKUP(B18,DMSBX2!$D$1:$I$101,6,0),"")) | U18: =IFERROR(VLOOKUP(B18,'SP1'!$D$1:$I$107,6,0),"") | V18: =IFERROR(VLOOKUP(B18,'SP2'!$D$1:$I$107,6,0),"") | W18: =IFERROR(IF(B18<>0,VLOOKUP(B18,KLSBX1!$D$2:$I$120,6,FALSE()),NA()),IFERROR(IF(A18<>0,VLOOKUP(A18,KLSBX1!$C$2:$I$120,7,FALSE()),NA()),"")) | X18: =IFERROR(IF(B18<>0,VLOOKUP(B18,KLSBX2!$D$2:$I$120,6,FALSE()),NA()),IFERROR(IF(A18<>0,VLOOKUP(A18,KLSBX2!$C$2:$I$120,7,FALSE()),NA()),"")) | Y18: =IFERROR(IF(B18<>0,VLOOKUP(B18,DMSBXNC!$D$2:$I$420,6,FALSE()),NA()),IFERROR(IF(A18<>0,VLOOKUP(A18,DMSBXNC!$C$2:$I$420,7,FALSE()),NA()),"")) | Z18: =IFERROR(IF(B18<>0,VLOOKUP(B18,DMSBX1_3!$D$2:$I$420,6,FALSE()),NA()),IFERROR(IF(A18<>0,VLOOKUP(A18,DMSBX1_3!$C$2:$I$420,7,FALSE()),NA()),"")) | AA18: =IFERROR(IF(B18<>0,VLOOKUP(B18,'KLS1'!$D$2:$I$420,6,FALSE()),NA()),IFERROR(IF(A18<>0,VLOOKUP(A18,'KLS1'!$C$2:$I$420,7,FALSE()),NA()),"")) | AB18: =IFERROR(IF(B18<>0,VLOOKUP(B18,'KLS2'!$D$2:$I$426,6,FALSE()),NA()),IFERROR(IF(A18<>0,VLOOKUP(A18,'KLS2'!$C$2:$I$426,7,FALSE()),NA()),"")) | AC18: =SUM(S18:AB18) -> 0 | AD18: =(IFERROR(LARGE(S18:AB18,1),"0")+IFERROR(LARGE(S18:AB18,2),"0")+IFERROR(LARGE(S18:AB18,3),"0")+IFERROR(LARGE(S18:AB18,4),"0")+IFERROR(LARGE(S18:AB18,5),"0")+IFERROR(LARGE(S18:AB18,6),"0")+IFERROR(LARGE(S18:AB18,7),"0")+IFERROR(LARGE(S18:AB18,8),"0")) -> 0 | AE18: =(IFERROR(LARGE(S18:AB18,1),"0")+IFERROR(LARGE(S18:AB18,2),"0")+IFERROR(LARGE(S18:AB18,3),"0"))/3 -> 0 | AG18: =IFERROR(VLOOKUP(B18,FS!$A$2:$N$78,6,FALSE),"") | AH18: =IFERROR(VLOOKUP(B18,FS!$A$2:$N$78,7,FALSE),"") | AI18: =IFERROR(VLOOKUP(B18,FS!$A$2:$N$78,8,FALSE),"") | AJ18: =IFERROR(VLOOKUP(B18,FS!$A$2:$N$78,9,FALSE),"") | AK18: =IFERROR(VLOOKUP(B18,FS!$A$2:$N$78,10,FALSE),"") | AL18: =IFERROR(VLOOKUP(B18,FS!$A$2:$N$78,11,FALSE),"") | AM18: =IFERROR(VLOOKUP(B18,FS!$A$2:$N$78,12,FALSE),"") | AN18: =IFERROR(VLOOKUP(B18,FS!$A$2:$N$78,13,FALSE),"") | AO18: =SUM(AG18:AN18) -> 0 | AP18: =(IFERROR(LARGE(AG18:AN18,1),"0")+IFERROR(LARGE(AG18:AN18,2),"0")+IFERROR(LARGE(AG18:AN18,3),"0")+IFERROR(LARGE(AG18:AN18,4),"0")+IFERROR(LARGE(AG18:AN18,5),"0")) -> 0 | AQ18: =(IFERROR(LARGE(AG18:AN18,1),"0")+IFERROR(LARGE(AG18:AN18,2),"0")+IFERROR(LARGE(AG18:AN18,3),"0"))/3 -> 0 | AR18: =Q18+AE18+AQ18 -> 10.5 | AS18: =(IF(Q18>0,1,0))+(IF(AE18>0,1,0))+(IF(AQ18>0,1,0)) -> 1 | AT18: =COUNTIF(I18:N18,">"&0)+COUNTIF(S18:AB18,">"&0)+COUNTIF(AG18:AN18,">"&0) -> 1
B19: 891651 | C19: Stolfova Elen | D19: 2017 | E19: CZE | F19: =IFERROR(VLOOKUP(B19,SVEXP!$A$2:$F$6577,6,FALSE),"") -> Český snowboarding | G19: =IFERROR(VLOOKUP(B19,SVEXP!$A$2:$E$6577,5,FALSE),"") -> Středočeský kraj | H19: L | O19: =SUM(I19:N19) -> 0 | P19: =IFERROR(LARGE(I19:N19,1),"0")+IFERROR(LARGE(I19:N19,2),"0")+IFERROR(LARGE(I19:N19,3),"0")+IFERROR(LARGE(I19:N19,4),"0") -> 0 | Q19: =(IFERROR(LARGE(I19:N19,1),"0")+IFERROR(LARGE(I19:N19,2),"0")+IFERROR(LARGE(I19:N19,3),"0"))/3 -> 0 | AC19: =SUM(S19:AB19) -> 0 | AD19: =(IFERROR(LARGE(S19:AB19,1),"0")+IFERROR(LARGE(S19:AB19,2),"0")+IFERROR(LARGE(S19:AB19,3),"0")+IFERROR(LARGE(S19:AB19,4),"0")+IFERROR(LARGE(S19:AB19,5),"0")+IFERROR(LARGE(S19:AB19,6),"0")+IFERROR(LARGE(S19:AB19,7),"0")+IFERROR(LARGE(S19:AB19,8),"0")) -> 0 | AE19: =(IFERROR(LARGE(S19:AB19,1),"0")+IFERROR(LARGE(S19:AB19,2),"0")+IFERROR(LARGE(S19:AB19,3),"0"))/3 -> 0 | AH19: =IFERROR(VLOOKUP(B19,FS!$A$2:$N$78,7,FALSE),"") -> 16 | AO19: =SUM(AG19:AN19) -> 16 | AP19: =(IFERROR(LARGE(AG19:AN19,1),"0")+IFERROR(LARGE(AG19:AN19,2),"0")+IFERROR(LARGE(AG19:AN19,3),"0")+IFERROR(LARGE(AG19:AN19,4),"0")+IFERROR(LARGE(AG19:AN19,5),"0")) -> 16 | AQ19: =(IFERROR(LARGE(AG19:AN19,1),"0")+IFERROR(LARGE(AG19:AN19,2),"0")+IFERROR(LARGE(AG19:AN19,3),"0"))/3 -> 5.3333333 | AR19: =Q19+AE19+AQ19 -> 5.3333333 | AS19: =(IF(Q19>0,1,0))+(IF(AE19>0,1,0))+(IF(AQ19>0,1,0)) -> 1 | AT19: =COUNTIF(I19:N19,">"&0)+COUNTIF(S19:AB19,">"&0)+COUNTIF(AG19:AN19,">"&0) -> 1
B20: 773714 | C20: Novák Matěj | D20: 2017 | E20: CZE | F20: =IFERROR(VLOOKUP(B20,SVEXP!$A$2:$F$6577,6,FALSE),"") -> SK Freestyle Area | G20: =IFERROR(VLOOKUP(B20,SVEXP!$A$2:$E$6577,5,FALSE),"") -> Hlavní město Praha | H20: M | I20: =IFERROR(VLOOKUP(A20,'KLP1'!$C$1:$I$108,7,0),IFERROR(VLOOKUP(B20,'KLP1'!$D$1:$I$108,6,0),"")) | J20: =IFERROR(VLOOKUP(A20,'KLP2'!$C$1:$I$108,7,0),IFERROR(VLOOKUP(B20,'KLP2'!$D$1:$I$108,6,0),"")) | K20: =IFERROR(VLOOKUP(A20,'DM1'!$C$1:$I$108,7,0),IFERROR(VLOOKUP(B20,'DM1'!$D$1:$I$108,6,0),"")) | L20: =IFERROR(VLOOKUP(A20,'DM2'!$C$1:$I$108,7,0),IFERROR(VLOOKUP(B20,'DM2'!$D$1:$I$108,6,0),"")) | M20: =IFERROR(VLOOKUP(A20,'SPF1'!$C$1:$I$108,7,0),IFERROR(VLOOKUP(B20,'SPF1'!$D$1:$I$108,6,0),"")) | N20: =IFERROR(VLOOKUP(A20,'SPF2'!$C$1:$I$108,7,0),IFERROR(VLOOKUP(B20,'SPF2'!$D$1:$I$108,6,0),"")) | O20: =SUM(I20:N20) -> 0 | P20: =IFERROR(LARGE(I20:N20,1),"0")+IFERROR(LARGE(I20:N20,2),"0")+IFERROR(LARGE(I20:N20,3),"0")+IFERROR(LARGE(I20:N20,4),"0") -> 0 | Q20: =(IFERROR(LARGE(I20:N20,1),"0")+IFERROR(LARGE(I20:N20,2),"0")+IFERROR(LARGE(I20:N20,3),"0"))/3 -> 0 | S20: =IFERROR(VLOOKUP(A20,DMSBX1!$C$1:$I$108,7,0),IFERROR(VLOOKUP(B20,DMSBX1!$D$1:$I$108,6,0),"")) -> 31.5 | T20: =IFERROR(VLOOKUP(A20,DMSBX2!$C$1:$I$101,7,0),IFERROR(VLOOKUP(B20,DMSBX2!$D$1:$I$101,6,0),"")) -> 42 | U20: =IFERROR(VLOOKUP(B20,'SP1'!$D$1:$I$107,6,0),"") | V20: =IFERROR(VLOOKUP(B20,'SP2'!$D$1:$I$107,6,0),"") | W20: =IFERROR(IF(B20<>0,VLOOKUP(B20,KLSBX1!$D$2:$I$120,6,FALSE()),NA()),IFERROR(IF(A20<>0,VLOOKUP(A20,KLSBX1!$C$2:$I$120,7,FALSE()),NA()),"")) | X20: =IFERROR(IF(B20<>0,VLOOKUP(B20,KLSBX2!$D$2:$I$120,6,FALSE()),NA()),IFERROR(IF(A20<>0,VLOOKUP(A20,KLSBX2!$C$2:$I$120,7,FALSE()),NA()),"")) | Y20: =IFERROR(IF(B20<>0,VLOOKUP(B20,DMSBXNC!$D$2:$I$420,6,FALSE()),NA()),IFERROR(IF(A20<>0,VLOOKUP(A20,DMSBXNC!$C$2:$I$420,7,FALSE()),NA()),"")) -> 80 | Z20: =IFERROR(IF(B20<>0,VLOOKUP(B20,DMSBX1_3!$D$2:$I$420,6,FALSE()),NA()),IFERROR(IF(A20<>0,VLOOKUP(A20,DMSBX1_3!$C$2:$I$420,7,FALSE()),NA()),"")) -> 60 | AA20: =IFERROR(IF(B20<>0,VLOOKUP(B20,'KLS1'!$D$2:$I$420,6,FALSE()),NA()),IFERROR(IF(A20<>0,VLOOKUP(A20,'KLS1'!$C$2:$I$420,7,FALSE()),NA()),"")) | AB20: =IFERROR(IF(B20<>0,VLOOKUP(B20,'KLS2'!$D$2:$I$426,6,FALSE()),NA()),IFERROR(IF(A20<>0,VLOOKUP(A20,'KLS2'!$C$2:$I$426,7,FALSE()),NA()),"")) | AC20: =SUM(S20:AB20) -> 213.5 | AD20: =(IFERROR(LARGE(S20:AB20,1),"0")+IFERROR(LARGE(S20:AB20,2),"0")+IFERROR(LARGE(S20:AB20,3),"0")+IFERROR(LARGE(S20:AB20,4),"0")+IFERROR(LARGE(S20:AB20,5),"0")+IFERROR(LARGE(S20:AB20,6),"0")+IFERROR(LARGE(S20:AB20,7),"0")+IFERROR(LARGE(S20:AB20,8),"0")) -> 213.5 | AE20: =(IFERROR(LARGE(S20:AB20,1),"0")+IFERROR(LARGE(S20:AB20,2),"0")+IFERROR(LARGE(S20:AB20,3),"0"))/3 -> 60.666667 | AG20: =IFERROR(VLOOKUP(B20,FS!$A$2:$N$78,6,FALSE),"") -> 60 | AI20: =IFERROR(VLOOKUP(B20,FS!$A$2:$N$78,8,FALSE),"") -> 40 | AJ20: =IFERROR(VLOOKUP(B20,FS!$A$2:$N$78,9,FALSE),"") -> 80 | AK20: =IFERROR(VLOOKUP(B20,FS!$A$2:$N$78,10,FALSE),"") -> 48 | AL20: =IFERROR(VLOOKUP(B20,FS!$A$2:$N$78,11,FALSE),"") -> 48 | AM20: =IFERROR(VLOOKUP(B20,FS!$A$2:$N$78,12,FALSE),"") -> 64 | AN20: =IFERROR(VLOOKUP(B20,FS!$A$2:$N$78,13,FALSE),"") -> 40 | AO20: =SUM(AG20:AN20) -> 380 | AP20: =(IFERROR(LARGE(AG20:AN20,1),"0")+IFERROR(LARGE(AG20:AN20,2),"0")+IFERROR(LARGE(AG20:AN20,3),"0")+IFERROR(LARGE(AG20:AN20,4),"0")+IFERROR(LARGE(AG20:AN20,5),"0")) -> 300 | AQ20: =(IFERROR(LARGE(AG20:AN20,1),"0")+IFERROR(LARGE(AG20:AN20,2),"0")+IFERROR(LARGE(AG20:AN20,3),"0"))/3 -> 68 | AR20: =Q20+AE20+AQ20 -> 128.66667 | AS20: =(IF(Q20>0,1,0))+(IF(AE20>0,1,0))+(IF(AQ20>0,1,0)) -> 2 | AT20: =COUNTIF(I20:N20,">"&0)+COUNTIF(S20:AB20,">"&0)+COUNTIF(AG20:AN20,">"&0) -> 11
B21: 778958 | C21: Paulíček Jonáš | D21: 2017 | E21: CZE | F21: =IFERROR(VLOOKUP(B21,SVEXP!$A$2:$F$6577,6,FALSE),"") -> SA Špindlerův Mlýn | G21: =IFERROR(VLOOKUP(B21,SVEXP!$A$2:$E$6577,5,FALSE),"") -> Královéhradecký kraj | H21: M | I21: =IFERROR(VLOOKUP(#REF!,'KLP1'!$C$1:$I$108,7,0),IFERROR(VLOOKUP(A21,'KLP1'!$D$1:$I$108,6,0),"")) | J21: =IFERROR(VLOOKUP(#REF!,'KLP2'!$C$1:$I$108,7,0),IFERROR(VLOOKUP(A21,'KLP2'!$D$1:$I$108,6,0),"")) | K21: =IFERROR(VLOOKUP(#REF!,'DM1'!$C$1:$I$108,7,0),IFERROR(VLOOKUP(A21,'DM1'!$D$1:$I$108,6,0),"")) | L21: =IFERROR(VLOOKUP(#REF!,'DM2'!$C$1:$I$108,7,0),IFERROR(VLOOKUP(A21,'DM2'!$D$1:$I$108,6,0),"")) | M21: =IFERROR(VLOOKUP(A21,'SPF1'!$C$1:$I$108,7,0),IFERROR(VLOOKUP(B21,'SPF1'!$D$1:$I$108,6,0),"")) -> 45 | N21: =IFERROR(VLOOKUP(A21,'SPF2'!$C$1:$I$108,7,0),IFERROR(VLOOKUP(B21,'SPF2'!$D$1:$I$108,6,0),"")) | O21: =SUM(I21:N21) -> 45 | P21: =IFERROR(LARGE(I21:N21,1),"0")+IFERROR(LARGE(I21:N21,2),"0")+IFERROR(LARGE(I21:N21,3),"0")+IFERROR(LARGE(I21:N21,4),"0") -> 45 | Q21: =(IFERROR(LARGE(I21:N21,1),"0")+IFERROR(LARGE(I21:N21,2),"0")+IFERROR(LARGE(I21:N21,3),"0"))/3 -> 15 | S21: =IFERROR(VLOOKUP(A21,DMSBX1!$C$1:$I$108,7,0),IFERROR(VLOOKUP(B21,DMSBX1!$D$1:$I$108,6,0),"")) | U21: =IFERROR(VLOOKUP(B21,'SP1'!$D$1:$I$107,6,0),"") | V21: =IFERROR(VLOOKUP(B21,'SP2'!$D$1:$I$107,6,0),"") | W21: =IFERROR(IF(B21<>0,VLOOKUP(B21,KLSBX1!$D$2:$I$120,6,FALSE()),NA()),IFERROR(IF(A21<>0,VLOOKUP(A21,KLSBX1!$C$2:$I$120,7,FALSE()),NA()),"")) | X21: =IFERROR(IF(B21<>0,VLOOKUP(B21,KLSBX2!$D$2:$I$120,6,FALSE()),NA()),IFERROR(IF(A21<>0,VLOOKUP(A21,KLSBX2!$C$2:$I$120,7,FALSE()),NA()),"")) | Y21: =IFERROR(IF(B21<>0,VLOOKUP(B21,DMSBXNC!$D$2:$I$420,6,FALSE()),NA()),IFERROR(IF(A21<>0,VLOOKUP(A21,DMSBXNC!$C$2:$I$420,7,FALSE()),NA()),"")) | Z21: =IFERROR(IF(B21<>0,VLOOKUP(B21,DMSBX1_3!$D$2:$I$420,6,FALSE()),NA()),IFERROR(IF(A21<>0,VLOOKUP(A21,DMSBX1_3!$C$2:$I$420,7,FALSE()),NA()),"")) | AA21: =IFERROR(IF(B21<>0,VLOOKUP(B21,'KLS1'!$D$2:$I$420,6,FALSE()),NA()),IFERROR(IF(A21<>0,VLOOKUP(A21,'KLS1'!$C$2:$I$420,7,FALSE()),NA()),"")) | AB21: =IFERROR(IF(B21<>0,VLOOKUP(B21,'KLS2'!$D$2:$I$426,6,FALSE()),NA()),IFERROR(IF(A21<>0,VLOOKUP(A21,'KLS2'!$C$2:$I$426,7,FALSE()),NA()),"")) | AC21: =SUM(S21:AB21) -> 0 | AD21: =(IFERROR(LARGE(S21:AB21,1),"0")+IFERROR(LARGE(S21:AB21,2),"0")+IFERROR(LARGE(S21:AB21,3),"0")+IFERROR(LARGE(S21:AB21,4),"0")+IFERROR(LARGE(S21:AB21,5),"0")+IFERROR(LARGE(S21:AB21,6),"0")+IFERROR(LARGE(S21:AB21,7),"0")+IFERROR(LARGE(S21:AB21,8),"0")) -> 0 | AE21: =(IFERROR(LARGE(S21:AB21,1),"0")+IFERROR(LARGE(S21:AB21,2),"0")+IFERROR(LARGE(S21:AB21,3),"0"))/3 -> 0 | AJ21: =IFERROR(VLOOKUP(B21,FS!$A$2:$N$78,9,FALSE),"") -> 40 | AM21: =IFERROR(VLOOKUP(B21,FS!$A$2:$N$78,12,FALSE),"") -> 32 | AO21: =SUM(AG21:AN21) -> 72 | AP21: =(IFERROR(LARGE(AG21:AN21,1),"0")+IFERROR(LARGE(AG21:AN21,2),"0")+IFERROR(LARGE(AG21:AN21,3),"0")+IFERROR(LARGE(AG21:AN21,4),"0")+IFERROR(LARGE(AG21:AN21,5),"0")) -> 72 | AQ21: =(IFERROR(LARGE(AG21:AN21,1),"0")+IFERROR(LARGE(AG21:AN21,2),"0")+IFERROR(LARGE(AG21:AN21,3),"0"))/3 -> 24 | AR21: =Q21+AE21+AQ21 -> 39 | AS21: =(IF(Q21>0,1,0))+(IF(AE21>0,1,0))+(IF(AQ21>0,1,0)) -> 2 | AT21: =COUNTIF(I21:N21,">"&0)+COUNTIF(S21:AB21,">"&0)+COUNTIF(AG21:AN21,">"&0) -> 3
